BEGIN:VCALENDAR
VERSION:2.0
PRODID:-//Tapestry Public Charter School - ECPv6.15.20//NONSGML v1.0//EN
CALSCALE:GREGORIAN
METHOD:PUBLISH
X-ORIGINAL-URL:https://tapestrycharter.org
X-WR-CALDESC:Events for Tapestry Public Charter School
REFRESH-INTERVAL;VALUE=DURATION:PT1H
X-Robots-Tag:noindex
X-PUBLISHED-TTL:PT1H
BEGIN:VTIMEZONE
TZID:America/New_York
BEGIN:DAYLIGHT
TZOFFSETFROM:-0500
TZOFFSETTO:-0400
TZNAME:EDT
DTSTART:20210314T070000
END:DAYLIGHT
BEGIN:STANDARD
TZOFFSETFROM:-0400
TZOFFSETTO:-0500
TZNAME:EST
DTSTART:20211107T060000
END:STANDARD
BEGIN:DAYLIGHT
TZOFFSETFROM:-0500
TZOFFSETTO:-0400
TZNAME:EDT
DTSTART:20220313T070000
END:DAYLIGHT
BEGIN:STANDARD
TZOFFSETFROM:-0400
TZOFFSETTO:-0500
TZNAME:EST
DTSTART:20221106T060000
END:STANDARD
BEGIN:DAYLIGHT
TZOFFSETFROM:-0500
TZOFFSETTO:-0400
TZNAME:EDT
DTSTART:20230312T070000
END:DAYLIGHT
BEGIN:STANDARD
TZOFFSETFROM:-0400
TZOFFSETTO:-0500
TZNAME:EST
DTSTART:20231105T060000
END:STANDARD
BEGIN:DAYLIGHT
TZOFFSETFROM:-0500
TZOFFSETTO:-0400
TZNAME:EDT
DTSTART:20240310T070000
END:DAYLIGHT
BEGIN:STANDARD
TZOFFSETFROM:-0400
TZOFFSETTO:-0500
TZNAME:EST
DTSTART:20241103T060000
END:STANDARD
END:VTIMEZONE
BEGIN:VEVENT
DTSTART;TZID=America/New_York:20231107T153000
DTEND;TZID=America/New_York:20231107T190000
DTSTAMP:20260423T222355
CREATED:20231106T161809Z
LAST-MODIFIED:20231106T190410Z
UID:10006360-1699371000-1699383600@tapestrycharter.org
SUMMARY:Tuesday Athletics Lineup
DESCRIPTION:Tuesday 11/7 \n\nMS Basketball vs. MSA / HOME\, 4:00pm (arrive by 3pm)\nLady Titans vs. MSA / HOME\, 5:00pm (arrive by 3pm)\nVarsity Basketballs vs. MSA\, HOME\, 6:15pm (arrive by 4pm)\nMS Cheer / Home: 4pm (arrive by 3pm)\nVarsity Cheer / Home: 5: 3opm (arrive by 4pm)\n\nAll Home Basketball games are FREE for Tapestry Students. Games are $5 for adults. \n We encourage all fans to wear their best Titan Red! \nSign up to volunteer for athletics! 
URL:https://tapestrycharter.org/event/tuesday-athletics-lineup/
CATEGORIES:Athletics
END:VEVENT
BEGIN:VEVENT
DTSTART;TZID=America/New_York:20231106T150000
DTEND;TZID=America/New_York:20231106T190000
DTSTAMP:20260423T222355
CREATED:20231106T161159Z
LAST-MODIFIED:20231106T190329Z
UID:10006359-1699282800-1699297200@tapestrycharter.org
SUMMARY:Mon Athletics Lineup
DESCRIPTION:Monday 11/6 \n\nLady Titans Practic: 3:30-5:00pm GYM\nAll Cheer: 3:30-5:15pm CAFETERIA\nMS Basketball Practice: 3:30-5:30 GYM\nVarsity Basketball Practice: 3:30-5:30 GYM\n\nSign up to volunteer for athletics! 
URL:https://tapestrycharter.org/event/mon-athletics-lineup/
CATEGORIES:Athletics
END:VEVENT
BEGIN:VEVENT
DTSTART;TZID=America/New_York:20230504T060000
DTEND;TZID=America/New_York:20230504T200000
DTSTAMP:20260423T222355
CREATED:20230426T022941Z
LAST-MODIFIED:20230426T023242Z
UID:10006325-1683180000-1683230400@tapestrycharter.org
SUMMARY:Winter-Spring Sports Banquet / 6PM at Tapestry
DESCRIPTION:For the most updated information regarding Tapestry’s Sports\, please visit https://tcsports.mozellosite.com/. \nWinter-Spring Sports Banquet – Held on Thursday\, May 4th at 6pm in the Tapestry cafeteria.  This banquet is for all MS & HS Track & Field\, Flag Football\, and Basketball student-athletes and their families to celebrate their achievements during their respective seasons.
URL:https://tapestrycharter.org/event/winter-spring-sports-banquet-6pm-at-tapestry/
CATEGORIES:Athletics
END:VEVENT
BEGIN:VEVENT
DTSTART;TZID=America/New_York:20230503T183000
DTEND;TZID=America/New_York:20230503T203000
DTSTAMP:20260423T222355
CREATED:20230105T010545Z
LAST-MODIFIED:20230105T010609Z
UID:10005950-1683138600-1683145800@tapestrycharter.org
SUMMARY:Basketball: HS / Banquet at Tapestry
DESCRIPTION:Basketball: MS / Banquet in the Tapestry Cafeteria
URL:https://tapestrycharter.org/event/basketball-hs-banquet/
CATEGORIES:Athletics
END:VEVENT
BEGIN:VEVENT
DTSTART;TZID=America/New_York:20230503T183000
DTEND;TZID=America/New_York:20230503T203000
DTSTAMP:20260423T222355
CREATED:20230105T010436Z
LAST-MODIFIED:20230105T010436Z
UID:10005949-1683138600-1683145800@tapestrycharter.org
SUMMARY:Basketball: MS / Banquet at Tapestry
DESCRIPTION:Basketball: MS / Banquet at Tapestry Cafeteria
URL:https://tapestrycharter.org/event/basketball-ms-banquet-at-tapestry/
CATEGORIES:Athletics
END:VEVENT
BEGIN:VEVENT
DTSTART;TZID=America/New_York:20230427T180000
DTEND;TZID=America/New_York:20230427T200000
DTSTAMP:20260423T222355
CREATED:20230426T022721Z
LAST-MODIFIED:20230426T022721Z
UID:10006324-1682618400-1682625600@tapestrycharter.org
SUMMARY:Cheer Banquet
DESCRIPTION:For the most updated information regarding Tapestry’s Sports\, please visit https://tcsports.mozellosite.com/. \nCheer Banquet – Held on Thursday\, April 27th at 6 pm in the Tapestry cafeteria.  This banquet is for all MS & HS Cheerleaders and their families to celebrate their achievements this year. Please contact Coach Willingham if you have any questions. \nNOTE:\nWinter-Spring Sports Banquet – Held on Thursday\, May 4th at 6 pm in the Tapestry cafeteria.  This banquet is for all MS & HS Track & Field\, Flag Football\, and Basketball student-athletes and their families to celebrate their achievements during their respective seasons.
URL:https://tapestrycharter.org/event/cheer-banquet/
CATEGORIES:Athletics
END:VEVENT
BEGIN:VEVENT
DTSTART;TZID=America/New_York:20230426T080000
DTEND;TZID=America/New_York:20230426T170000
DTSTAMP:20260423T222355
CREATED:20230426T021644Z
LAST-MODIFIED:20230426T021644Z
UID:10006319-1682496000-1682528400@tapestrycharter.org
SUMMARY:High School Cheer
DESCRIPTION:HS Cheerleaders cheer will go to the HS Flag Football playoff games at the Howard School on April 25th at 4pm and April 26th at TBD
URL:https://tapestrycharter.org/event/high-school-cheer-2/
CATEGORIES:Athletics
END:VEVENT
BEGIN:VEVENT
DTSTART;TZID=America/New_York:20230425T160000
DTEND;TZID=America/New_York:20230425T170000
DTSTAMP:20260423T222355
CREATED:20230426T021511Z
LAST-MODIFIED:20230426T021511Z
UID:10006318-1682438400-1682442000@tapestrycharter.org
SUMMARY:High School Cheer
DESCRIPTION:HS Cheerleaders cheer will go to the HS Flag Football playoff games at the Howard School on April 25th at 4pm and April 26th at TBD
URL:https://tapestrycharter.org/event/high-school-cheer/
CATEGORIES:Athletics
END:VEVENT
BEGIN:VEVENT
DTSTART;VALUE=DATE:20230425
DTEND;VALUE=DATE:20230427
DTSTAMP:20260423T222355
CREATED:20230426T021818Z
LAST-MODIFIED:20230426T021818Z
UID:10006320-1682380800-1682553599@tapestrycharter.org
SUMMARY:Flag Football: MS & HS Flag Football
DESCRIPTION:Flag Football\nPractice: No Practices\nGame(s):\n-MS Playoff game at the Howard School on Tuesday\, April 25th at 4 pm vs. the Howard School.\n-HS Playoff game at the Howard School on Wednesday\, April 26th at either 3:30pm (in the consolation game if they lose on Tuesday\, April 25th) or 5:30pm (in the Championship game if they win on Tuesday\, April 25th).
URL:https://tapestrycharter.org/event/flag-football-ms-hs-flag-football/
CATEGORIES:Athletics
END:VEVENT
BEGIN:VEVENT
DTSTART;VALUE=DATE:20230215
DTEND;VALUE=DATE:20230216
DTSTAMP:20260423T222355
CREATED:20230105T011039Z
LAST-MODIFIED:20230105T011039Z
UID:10005952-1676419200-1676505599@tapestrycharter.org
SUMMARY:Basketball: HS / ACC Tournament at Cumberland Academy in Roswell (4:30 or 7:30)
DESCRIPTION:Basketball: HS / ACC Tournament at Cumberland Academy in Roswell and the time is either 4:30 or 7:30
URL:https://tapestrycharter.org/event/basketball-hs-acc-tournament-at-cumberland-academy-in-roswell-430-or-730/
CATEGORIES:Athletics
END:VEVENT
BEGIN:VEVENT
DTSTART;TZID=America/New_York:20230208T170000
DTEND;TZID=America/New_York:20230208T180000
DTSTAMP:20260423T222355
CREATED:20230105T012926Z
LAST-MODIFIED:20230105T013028Z
UID:10006306-1675875600-1675879200@tapestrycharter.org
SUMMARY:Basketball: HS / CCS / Senior Night at Tapestry
DESCRIPTION:Basketball: HS / CCS / Senior Night at Tapestry
URL:https://tapestrycharter.org/event/basketball-hs-ccs-senior-night-at-tapestry/
CATEGORIES:Athletics
END:VEVENT
BEGIN:VEVENT
DTSTART;TZID=America/New_York:20230202T170000
DTEND;TZID=America/New_York:20230202T180000
DTSTAMP:20260423T222355
CREATED:20230105T012657Z
LAST-MODIFIED:20230105T012713Z
UID:10006305-1675357200-1675360800@tapestrycharter.org
SUMMARY:Basketball: HS / The Howard School at Tapestry
DESCRIPTION:Basketball: HS / The Howard School at Tapestry (AAC Conference Game)
URL:https://tapestrycharter.org/event/basketball-hs-the-howard-school-at-tapestry/
CATEGORIES:Athletics
END:VEVENT
BEGIN:VEVENT
DTSTART;TZID=America/New_York:20230202T160000
DTEND;TZID=America/New_York:20230202T170000
DTSTAMP:20260423T222355
CREATED:20230124T223451Z
LAST-MODIFIED:20230124T223451Z
UID:10006307-1675353600-1675357200@tapestrycharter.org
SUMMARY:Basketball: MS / Mill Springs at Tapestry
DESCRIPTION:Basketball: MS/Basketball (AAC Conference Game)
URL:https://tapestrycharter.org/event/basketball-ms-mill-springs-at-tapestry/
CATEGORIES:Athletics
END:VEVENT
BEGIN:VEVENT
DTSTART;TZID=America/New_York:20230131T171500
DTEND;TZID=America/New_York:20230131T181500
DTSTAMP:20260423T222355
CREATED:20230105T012527Z
LAST-MODIFIED:20230105T012527Z
UID:10006304-1675185300-1675188900@tapestrycharter.org
SUMMARY:Basketball: HS / The Cottage School at Tapestry
DESCRIPTION:Basketball: HS / The Cottage School at Tapestry (AAC Conference Game)
URL:https://tapestrycharter.org/event/basketball-hs-the-cottage-school-at-tapestry/
CATEGORIES:Athletics
END:VEVENT
BEGIN:VEVENT
DTSTART;TZID=America/New_York:20230131T161500
DTEND;TZID=America/New_York:20230131T171500
DTSTAMP:20260423T222355
CREATED:20230105T010039Z
LAST-MODIFIED:20230105T010039Z
UID:10006301-1675181700-1675185300@tapestrycharter.org
SUMMARY:Basketball: MS / The Cottage School at Tapestry
DESCRIPTION:Basketball: MS / The Cottage School (Game #2) at Tapestry
URL:https://tapestrycharter.org/event/basketball-ms-the-cottage-school-at-tapestry/
CATEGORIES:Athletics
END:VEVENT
BEGIN:VEVENT
DTSTART;TZID=America/New_York:20230126T161500
DTEND;TZID=America/New_York:20230126T171500
DTSTAMP:20260423T222355
CREATED:20230105T005842Z
LAST-MODIFIED:20230124T223009Z
UID:10006300-1674749700-1674753300@tapestrycharter.org
SUMMARY:Basketball: MS / Swift at Tapestry
DESCRIPTION:Basketball: MS / Swift at Tapestry (AAC Conference Game) Game #2
URL:https://tapestrycharter.org/event/basketball-ms-swift-at-tapestry/
CATEGORIES:Athletics
END:VEVENT
BEGIN:VEVENT
DTSTART;TZID=America/New_York:20230125T171500
DTEND;TZID=America/New_York:20230125T181500
DTSTAMP:20260423T222355
CREATED:20230105T012348Z
LAST-MODIFIED:20230105T012348Z
UID:10006303-1674666900-1674670500@tapestrycharter.org
SUMMARY:Basketball: HS / Riverside Military Academy at Tapestry
DESCRIPTION:Basketball: HS / Riverside Military Academy at Tapestry
URL:https://tapestrycharter.org/event/basketball-hs-riverside-military-academy-at-tapestry/
CATEGORIES:Athletics
END:VEVENT
BEGIN:VEVENT
DTSTART;TZID=America/New_York:20230125T161500
DTEND;TZID=America/New_York:20230125T171500
DTSTAMP:20260423T222355
CREATED:20230105T005708Z
LAST-MODIFIED:20230105T005719Z
UID:10006299-1674663300-1674666900@tapestrycharter.org
SUMMARY:Basketball: MS / Riverside Military Academy at Tapestry
DESCRIPTION:Basketball: MS / Riverside Military Academy at Tapestry
URL:https://tapestrycharter.org/event/basketball-ms-riverside-military-academy-at-tapestry/
CATEGORIES:Athletics
END:VEVENT
BEGIN:VEVENT
DTSTART;TZID=America/New_York:20230121T120000
DTEND;TZID=America/New_York:20230121T130000
DTSTAMP:20260423T222355
CREATED:20230105T012203Z
LAST-MODIFIED:20230105T012203Z
UID:10005958-1674302400-1674306000@tapestrycharter.org
SUMMARY:Basketball: HS / Hearts Christian Academy at Trinity Fellowship Church
DESCRIPTION:Basketball: HS / Hearts Christian Academy at Trinity Fellowship Church
URL:https://tapestrycharter.org/event/basketball-hs-hearts-christian-academy-at-trinity-fellowship-church/
CATEGORIES:Athletics
END:VEVENT
BEGIN:VEVENT
DTSTART;TZID=America/New_York:20230119T170000
DTEND;TZID=America/New_York:20230119T180000
DTSTAMP:20260423T222355
CREATED:20230105T012010Z
LAST-MODIFIED:20230105T012010Z
UID:10005957-1674147600-1674151200@tapestrycharter.org
SUMMARY:Basketball: HS / Cumberland at Tapestry
DESCRIPTION:Basketball: HS / Cumberland at Tapestry (AAC Conference Game)
URL:https://tapestrycharter.org/event/basketball-hs-cumberland-at-tapestry/
CATEGORIES:Athletics
END:VEVENT
BEGIN:VEVENT
DTSTART;TZID=America/New_York:20230119T160000
DTEND;TZID=America/New_York:20230119T170000
DTSTAMP:20260423T222355
CREATED:20230105T005246Z
LAST-MODIFIED:20230105T005306Z
UID:10006298-1674144000-1674147600@tapestrycharter.org
SUMMARY:Basketball: MS / Swift at Swift School
DESCRIPTION:Basketball: MS / Swift at Swift School (AAC Conference Game)
URL:https://tapestrycharter.org/event/basketball-ms-swift-at-swift-school-2/
CATEGORIES:Athletics
END:VEVENT
BEGIN:VEVENT
DTSTART;TZID=America/New_York:20230118T160000
DTEND;TZID=America/New_York:20230118T170000
DTSTAMP:20260423T222355
CREATED:20230105T004600Z
LAST-MODIFIED:20230105T005357Z
UID:10006297-1674057600-1674061200@tapestrycharter.org
SUMMARY:Basketball: MS / Swift at Swift School
DESCRIPTION:Basketball: MS / Swift(Game #2) at Swift School (AAC Conference Game)
URL:https://tapestrycharter.org/event/basketball-ms-swift-at-swift-school/
CATEGORIES:Athletics
END:VEVENT
BEGIN:VEVENT
DTSTART;TZID=America/New_York:20230113T163000
DTEND;TZID=America/New_York:20230113T173000
DTSTAMP:20260423T222355
CREATED:20230105T011829Z
LAST-MODIFIED:20230105T011829Z
UID:10005956-1673627400-1673631000@tapestrycharter.org
SUMMARY:Basketball: HS / Howard at The Howard School
DESCRIPTION:Basketball: HS/ Howard at The Howard School (AAC Conference Game)
URL:https://tapestrycharter.org/event/basketball-hs-howard-at-the-howard-school/
CATEGORIES:Athletics
END:VEVENT
BEGIN:VEVENT
DTSTART;TZID=America/New_York:20230112T163000
DTEND;TZID=America/New_York:20230112T173000
DTSTAMP:20260423T222355
CREATED:20230105T011545Z
LAST-MODIFIED:20230105T011545Z
UID:10005955-1673541000-1673544600@tapestrycharter.org
SUMMARY:Basketball: HS / AASD in Clarkston
DESCRIPTION:Basketball: HS / AASD in Clarkston (AAC Conference Game)
URL:https://tapestrycharter.org/event/basketball-hs-aasd-in-clarkston/
CATEGORIES:Athletics
END:VEVENT
BEGIN:VEVENT
DTSTART;TZID=America/New_York:20230110T171500
DTEND;TZID=America/New_York:20230110T181500
DTSTAMP:20260423T222355
CREATED:20230105T011408Z
LAST-MODIFIED:20230105T011638Z
UID:10005954-1673370900-1673374500@tapestrycharter.org
SUMMARY:Basketball: HS / Mill Springs at Mill Springs Academy
DESCRIPTION:Basketball: HS / Mill Springs at Mill Springs Academy in Alpharetta (AAC Conference Game)
URL:https://tapestrycharter.org/event/basketball-hs-mill-springs-at-mill-springs-academy/
CATEGORIES:Athletics
END:VEVENT
BEGIN:VEVENT
DTSTART;TZID=America/New_York:20230106T160000
DTEND;TZID=America/New_York:20230106T170000
DTSTAMP:20260423T222355
CREATED:20230105T004422Z
LAST-MODIFIED:20230105T005423Z
UID:10006296-1673020800-1673024400@tapestrycharter.org
SUMMARY:Basketball: MS / Mill Springs at Mill Springs Academy
DESCRIPTION:Basketball: MS / Mill Springs at Mill Springs Academy in Alpharetta (AAC Conference Game)
URL:https://tapestrycharter.org/event/basketball-ms-mill-springs-at-mill-springs-academy/
CATEGORIES:Athletics
END:VEVENT
BEGIN:VEVENT
DTSTART;TZID=America/New_York:20221216T180000
DTEND;TZID=America/New_York:20221216T190000
DTSTAMP:20260423T222355
CREATED:20221102T212731Z
LAST-MODIFIED:20221102T213156Z
UID:10006251-1671213600-1671217200@tapestrycharter.org
SUMMARY:Basketball: Varsity / Horizon Christian at Horizon Christain Academy (Cumming)
DESCRIPTION:
URL:https://tapestrycharter.org/event/basketball-varsity-ccs-at-tapestry/
CATEGORIES:Athletics
END:VEVENT
BEGIN:VEVENT
DTSTART;TZID=America/New_York:20221215T161500
DTEND;TZID=America/New_York:20221215T171500
DTSTAMP:20260423T222355
CREATED:20221102T221201Z
LAST-MODIFIED:20221102T221741Z
UID:10004805-1671120900-1671124500@tapestrycharter.org
SUMMARY:Basketball: MS / McGinnis Woods at McGinnis Woods in Alpharetta
DESCRIPTION:
URL:https://tapestrycharter.org/event/basketball-ms-mcginnis-woods-at-mcginnis-woods-in-alpharetta/
CATEGORIES:Athletics
ORGANIZER;CN="Tapestry PTO":MAILTO:PTO@TapestryCharter.org
END:VEVENT
BEGIN:VEVENT
DTSTART;TZID=America/New_York:20221214T163000
DTEND;TZID=America/New_York:20221214T173000
DTSTAMP:20260423T222355
CREATED:20221102T221054Z
LAST-MODIFIED:20221102T221054Z
UID:10004803-1671035400-1671039000@tapestrycharter.org
SUMMARY:Basketball: MS / Stonehaven School at Tapestry
DESCRIPTION:
URL:https://tapestrycharter.org/event/basketball-ms-stonehaven-school-at-tapestry/
CATEGORIES:Athletics
ORGANIZER;CN="Tapestry PTO":MAILTO:PTO@TapestryCharter.org
END:VEVENT
BEGIN:VEVENT
DTSTART;TZID=America/New_York:20221210T130000
DTEND;TZID=America/New_York:20221210T140000
DTSTAMP:20260423T222355
CREATED:20221102T212558Z
LAST-MODIFIED:20221102T212558Z
UID:10006250-1670677200-1670680800@tapestrycharter.org
SUMMARY:Basketball: Varsity / Al-Falah Academy at Tapestry
DESCRIPTION:
URL:https://tapestrycharter.org/event/basketball-varsity-al-falah-academy-at-tapestry/
CATEGORIES:Athletics
END:VEVENT
END:VCALENDAR