BEGIN:VCALENDAR
VERSION:2.0
PRODID:-//Tapestry Public Charter School - ECPv6.15.20//NONSGML v1.0//EN
CALSCALE:GREGORIAN
METHOD:PUBLISH
X-WR-CALNAME:Tapestry Public Charter School
X-ORIGINAL-URL:https://tapestrycharter.org
X-WR-CALDESC:Events for Tapestry Public Charter School
REFRESH-INTERVAL;VALUE=DURATION:PT1H
X-Robots-Tag:noindex
X-PUBLISHED-TTL:PT1H
BEGIN:VTIMEZONE
TZID:America/New_York
BEGIN:DAYLIGHT
TZOFFSETFROM:-0500
TZOFFSETTO:-0400
TZNAME:EDT
DTSTART:20220313T070000
END:DAYLIGHT
BEGIN:STANDARD
TZOFFSETFROM:-0400
TZOFFSETTO:-0500
TZNAME:EST
DTSTART:20221106T060000
END:STANDARD
BEGIN:DAYLIGHT
TZOFFSETFROM:-0500
TZOFFSETTO:-0400
TZNAME:EDT
DTSTART:20230312T070000
END:DAYLIGHT
BEGIN:STANDARD
TZOFFSETFROM:-0400
TZOFFSETTO:-0500
TZNAME:EST
DTSTART:20231105T060000
END:STANDARD
BEGIN:DAYLIGHT
TZOFFSETFROM:-0500
TZOFFSETTO:-0400
TZNAME:EDT
DTSTART:20240310T070000
END:DAYLIGHT
BEGIN:STANDARD
TZOFFSETFROM:-0400
TZOFFSETTO:-0500
TZNAME:EST
DTSTART:20241103T060000
END:STANDARD
END:VTIMEZONE
BEGIN:VEVENT
DTSTART;TZID=America/New_York:20230911T074500
DTEND;TZID=America/New_York:20230911T083000
DTSTAMP:20260423T195337
CREATED:20230906T192404Z
LAST-MODIFIED:20230906T192404Z
UID:10006334-1694418300-1694421000@tapestrycharter.org
SUMMARY:Let's Make Music
DESCRIPTION:First meeting of Tapestry Instrumental Ensemble will be held in the high school music room
URL:https://tapestrycharter.org/event/lets-make-music/
CATEGORIES:Clubs
END:VEVENT
BEGIN:VEVENT
DTSTART;TZID=America/New_York:20230523T080000
DTEND;TZID=America/New_York:20230523T083000
DTSTAMP:20260423T195337
CREATED:20221013T004924Z
LAST-MODIFIED:20221013T004924Z
UID:10006236-1684828800-1684830600@tapestrycharter.org
SUMMARY:MS Minecraft Club
DESCRIPTION:
URL:https://tapestrycharter.org/event/ms-minecraft-club-27/
CATEGORIES:Clubs
END:VEVENT
BEGIN:VEVENT
DTSTART;TZID=America/New_York:20230522T080000
DTEND;TZID=America/New_York:20230522T083000
DTSTAMP:20260423T195337
CREATED:20221013T004837Z
LAST-MODIFIED:20221013T004837Z
UID:10006235-1684742400-1684744200@tapestrycharter.org
SUMMARY:MS Minecraft Club
DESCRIPTION:
URL:https://tapestrycharter.org/event/ms-minecraft-club-26/
CATEGORIES:Clubs
END:VEVENT
BEGIN:VEVENT
DTSTART;TZID=America/New_York:20230519T080000
DTEND;TZID=America/New_York:20230519T083000
DTSTAMP:20260423T195337
CREATED:20221013T004727Z
LAST-MODIFIED:20221013T004727Z
UID:10006234-1684483200-1684485000@tapestrycharter.org
SUMMARY:HS Minecraft Club
DESCRIPTION:
URL:https://tapestrycharter.org/event/hs-minecraft-club-26/
CATEGORIES:Clubs
END:VEVENT
BEGIN:VEVENT
DTSTART;TZID=America/New_York:20230518T080000
DTEND;TZID=America/New_York:20230518T083000
DTSTAMP:20260423T195337
CREATED:20221013T004559Z
LAST-MODIFIED:20221013T004559Z
UID:10006233-1684396800-1684398600@tapestrycharter.org
SUMMARY:HS Minecraft Club
DESCRIPTION:
URL:https://tapestrycharter.org/event/hs-minecraft-club-25/
CATEGORIES:Clubs
END:VEVENT
BEGIN:VEVENT
DTSTART;TZID=America/New_York:20230509T080000
DTEND;TZID=America/New_York:20230509T083000
DTSTAMP:20260423T195337
CREATED:20221013T004433Z
LAST-MODIFIED:20221013T004433Z
UID:10006232-1683619200-1683621000@tapestrycharter.org
SUMMARY:MS Minecraft Club
DESCRIPTION:
URL:https://tapestrycharter.org/event/ms-minecraft-club-25/
CATEGORIES:Clubs
END:VEVENT
BEGIN:VEVENT
DTSTART;TZID=America/New_York:20230508T080000
DTEND;TZID=America/New_York:20230508T203000
DTSTAMP:20260423T195337
CREATED:20221013T004344Z
LAST-MODIFIED:20221013T004344Z
UID:10006231-1683532800-1683577800@tapestrycharter.org
SUMMARY:MS Minecraft Club
DESCRIPTION:
URL:https://tapestrycharter.org/event/ms-minecraft-club-24/
CATEGORIES:Clubs
END:VEVENT
BEGIN:VEVENT
DTSTART;TZID=America/New_York:20230505T080000
DTEND;TZID=America/New_York:20230505T083000
DTSTAMP:20260423T195337
CREATED:20221013T004221Z
LAST-MODIFIED:20221013T004221Z
UID:10004791-1683273600-1683275400@tapestrycharter.org
SUMMARY:HS Minecraft Club
DESCRIPTION:
URL:https://tapestrycharter.org/event/hs-minecraft-club-24/
CATEGORIES:Clubs
END:VEVENT
BEGIN:VEVENT
DTSTART;TZID=America/New_York:20230504T080000
DTEND;TZID=America/New_York:20230504T083000
DTSTAMP:20260423T195337
CREATED:20221013T004139Z
LAST-MODIFIED:20221013T004139Z
UID:10004789-1683187200-1683189000@tapestrycharter.org
SUMMARY:HS Minecraft Club
DESCRIPTION:
URL:https://tapestrycharter.org/event/hs-minecraft-club-23/
CATEGORIES:Clubs
END:VEVENT
BEGIN:VEVENT
DTSTART;TZID=America/New_York:20230425T080000
DTEND;TZID=America/New_York:20230425T083000
DTSTAMP:20260423T195337
CREATED:20221013T004059Z
LAST-MODIFIED:20221013T004059Z
UID:10004787-1682409600-1682411400@tapestrycharter.org
SUMMARY:MS Minecraft Club
DESCRIPTION:
URL:https://tapestrycharter.org/event/ms-minecraft-club-23/
CATEGORIES:Clubs
END:VEVENT
BEGIN:VEVENT
DTSTART;TZID=America/New_York:20230424T080000
DTEND;TZID=America/New_York:20230424T083000
DTSTAMP:20260423T195337
CREATED:20221013T004020Z
LAST-MODIFIED:20221013T004020Z
UID:10004785-1682323200-1682325000@tapestrycharter.org
SUMMARY:MS Minecraft Club
DESCRIPTION:
URL:https://tapestrycharter.org/event/ms-minecraft-club-22/
CATEGORIES:Clubs
END:VEVENT
BEGIN:VEVENT
DTSTART;TZID=America/New_York:20230421T080000
DTEND;TZID=America/New_York:20230421T083000
DTSTAMP:20260423T195337
CREATED:20221013T003854Z
LAST-MODIFIED:20221013T003854Z
UID:10004783-1682064000-1682065800@tapestrycharter.org
SUMMARY:HS Minecraft Club
DESCRIPTION:
URL:https://tapestrycharter.org/event/hs-minecraft-club-22/
CATEGORIES:Clubs
END:VEVENT
BEGIN:VEVENT
DTSTART;TZID=America/New_York:20230420T080000
DTEND;TZID=America/New_York:20230420T083000
DTSTAMP:20260423T195337
CREATED:20221013T003807Z
LAST-MODIFIED:20221013T003807Z
UID:10004781-1681977600-1681979400@tapestrycharter.org
SUMMARY:HS Minecraft Club
DESCRIPTION:
URL:https://tapestrycharter.org/event/hs-minecraft-club-21/
CATEGORIES:Clubs
END:VEVENT
BEGIN:VEVENT
DTSTART;TZID=America/New_York:20230411T080000
DTEND;TZID=America/New_York:20230411T083000
DTSTAMP:20260423T195337
CREATED:20221013T003527Z
LAST-MODIFIED:20221013T003527Z
UID:10004779-1681200000-1681201800@tapestrycharter.org
SUMMARY:MS Minecraft Club
DESCRIPTION:
URL:https://tapestrycharter.org/event/ms-minecraft-club-21/
CATEGORIES:Clubs
END:VEVENT
BEGIN:VEVENT
DTSTART;TZID=America/New_York:20230410T080000
DTEND;TZID=America/New_York:20230410T083000
DTSTAMP:20260423T195337
CREATED:20221013T003447Z
LAST-MODIFIED:20221013T003447Z
UID:10004777-1681113600-1681115400@tapestrycharter.org
SUMMARY:MS Minecraft Club
DESCRIPTION:
URL:https://tapestrycharter.org/event/ms-minecraft-club-20/
CATEGORIES:Clubs
END:VEVENT
BEGIN:VEVENT
DTSTART;TZID=America/New_York:20230331T080000
DTEND;TZID=America/New_York:20230331T083000
DTSTAMP:20260423T195337
CREATED:20221013T003316Z
LAST-MODIFIED:20221013T003316Z
UID:10004775-1680249600-1680251400@tapestrycharter.org
SUMMARY:HS Minecraft Club
DESCRIPTION:
URL:https://tapestrycharter.org/event/hs-minecraft-club-20/
CATEGORIES:Clubs
END:VEVENT
BEGIN:VEVENT
DTSTART;TZID=America/New_York:20230330T080000
DTEND;TZID=America/New_York:20230330T083000
DTSTAMP:20260423T195337
CREATED:20221013T002740Z
LAST-MODIFIED:20221013T002740Z
UID:10004773-1680163200-1680165000@tapestrycharter.org
SUMMARY:HS Minecraft Club
DESCRIPTION:
URL:https://tapestrycharter.org/event/hs-minecraft-club-19/
CATEGORIES:Clubs
END:VEVENT
BEGIN:VEVENT
DTSTART;TZID=America/New_York:20230321T080000
DTEND;TZID=America/New_York:20230321T083000
DTSTAMP:20260423T195337
CREATED:20221013T002701Z
LAST-MODIFIED:20221013T002701Z
UID:10006230-1679385600-1679387400@tapestrycharter.org
SUMMARY:MS Minecraft Club
DESCRIPTION:
URL:https://tapestrycharter.org/event/ms-minecraft-club-19/
CATEGORIES:Clubs
END:VEVENT
BEGIN:VEVENT
DTSTART;TZID=America/New_York:20230320T080000
DTEND;TZID=America/New_York:20230320T083000
DTSTAMP:20260423T195337
CREATED:20221013T002610Z
LAST-MODIFIED:20221013T002610Z
UID:10006229-1679299200-1679301000@tapestrycharter.org
SUMMARY:MS Minecraft Club
DESCRIPTION:
URL:https://tapestrycharter.org/event/ms-minecraft-club-18/
CATEGORIES:Clubs
END:VEVENT
BEGIN:VEVENT
DTSTART;TZID=America/New_York:20230317T080000
DTEND;TZID=America/New_York:20230317T083000
DTSTAMP:20260423T195337
CREATED:20221013T002523Z
LAST-MODIFIED:20221013T002523Z
UID:10006228-1679040000-1679041800@tapestrycharter.org
SUMMARY:HS Minecraft Club
DESCRIPTION:
URL:https://tapestrycharter.org/event/hs-minecraft-club-18/
CATEGORIES:Clubs
END:VEVENT
BEGIN:VEVENT
DTSTART;TZID=America/New_York:20230316T080000
DTEND;TZID=America/New_York:20230316T083000
DTSTAMP:20260423T195337
CREATED:20221013T002450Z
LAST-MODIFIED:20221013T002450Z
UID:10006227-1678953600-1678955400@tapestrycharter.org
SUMMARY:HS Minecraft Club
DESCRIPTION:
URL:https://tapestrycharter.org/event/hs-minecraft-club-17/
CATEGORIES:Clubs
END:VEVENT
BEGIN:VEVENT
DTSTART;TZID=America/New_York:20230307T080000
DTEND;TZID=America/New_York:20230307T170000
DTSTAMP:20260423T195337
CREATED:20221013T002345Z
LAST-MODIFIED:20221013T002345Z
UID:10006226-1678176000-1678208400@tapestrycharter.org
SUMMARY:MS Minecraft Club
DESCRIPTION:
URL:https://tapestrycharter.org/event/ms-minecraft-club-17/
CATEGORIES:Clubs
END:VEVENT
BEGIN:VEVENT
DTSTART;TZID=America/New_York:20230306T080000
DTEND;TZID=America/New_York:20230306T083000
DTSTAMP:20260423T195337
CREATED:20221013T002313Z
LAST-MODIFIED:20221013T002313Z
UID:10006225-1678089600-1678091400@tapestrycharter.org
SUMMARY:MS Minecraft Club
DESCRIPTION:
URL:https://tapestrycharter.org/event/ms-minecraft-club-16/
CATEGORIES:Clubs
END:VEVENT
BEGIN:VEVENT
DTSTART;TZID=America/New_York:20230303T080000
DTEND;TZID=America/New_York:20230303T083000
DTSTAMP:20260423T195337
CREATED:20221013T002107Z
LAST-MODIFIED:20221013T002107Z
UID:10006224-1677830400-1677832200@tapestrycharter.org
SUMMARY:HS Minecraft Club
DESCRIPTION:
URL:https://tapestrycharter.org/event/hs-minecraft-club-16/
CATEGORIES:Clubs
END:VEVENT
BEGIN:VEVENT
DTSTART;TZID=America/New_York:20230302T080000
DTEND;TZID=America/New_York:20230302T083000
DTSTAMP:20260423T195337
CREATED:20221013T001939Z
LAST-MODIFIED:20221013T001939Z
UID:10006223-1677744000-1677745800@tapestrycharter.org
SUMMARY:HS Minecraft Club
DESCRIPTION:
URL:https://tapestrycharter.org/event/hs-minecraft-club-15/
CATEGORIES:Clubs
END:VEVENT
BEGIN:VEVENT
DTSTART;TZID=America/New_York:20230228T080000
DTEND;TZID=America/New_York:20230228T083000
DTSTAMP:20260423T195337
CREATED:20221013T001812Z
LAST-MODIFIED:20221013T001812Z
UID:10006222-1677571200-1677573000@tapestrycharter.org
SUMMARY:MS Minecraft Club
DESCRIPTION:
URL:https://tapestrycharter.org/event/ms-minecraft-club-15/
CATEGORIES:Clubs
END:VEVENT
BEGIN:VEVENT
DTSTART;VALUE=DATE:20230227
DTEND;VALUE=DATE:20230228
DTSTAMP:20260423T195337
CREATED:20221013T001731Z
LAST-MODIFIED:20221013T001731Z
UID:10006221-1677456000-1677542399@tapestrycharter.org
SUMMARY:NO Mincraft Club Today
DESCRIPTION:No Minecraft Club today but we do have it tomorrow\, February 28.
URL:https://tapestrycharter.org/event/no-mincraft-club-today/
CATEGORIES:Clubs
END:VEVENT
BEGIN:VEVENT
DTSTART;VALUE=DATE:20230223
DTEND;VALUE=DATE:20230225
DTSTAMP:20260423T195337
CREATED:20221013T001555Z
LAST-MODIFIED:20221013T001555Z
UID:10006220-1677110400-1677283199@tapestrycharter.org
SUMMARY:NO Minecraft Club This Week
DESCRIPTION:Please do NOT come to Minecraft Club this week!
URL:https://tapestrycharter.org/event/no-minecraft-club-this-week/
CATEGORIES:Clubs
END:VEVENT
BEGIN:VEVENT
DTSTART;TZID=America/New_York:20230220T080000
DTEND;TZID=America/New_York:20230220T170000
DTSTAMP:20260423T195337
CREATED:20221119T013916Z
LAST-MODIFIED:20221119T013916Z
UID:10005939-1676880000-1676912400@tapestrycharter.org
SUMMARY:Gay-Straight Alliance (GSA) Meeting
DESCRIPTION:Gay-Straight Alliance (GSA) Meeting \nThe Gay-Straight Alliance (GSA) Meeting is 3:30-4:00 p.m in Mr. Van Kirk’s room. Additionally\, regular meetings will be held every Monday at 3:30-4:00 in Mr. Van Kirk’s room. For more information please contact Ms. Williams
URL:https://tapestrycharter.org/event/gay-straight-alliance-gsa-meeting-7/2023-02-20/
CATEGORIES:Clubs
END:VEVENT
BEGIN:VEVENT
DTSTART;TZID=America/New_York:20230216T080000
DTEND;TZID=America/New_York:20230216T083000
DTSTAMP:20260423T195337
CREATED:20221013T001304Z
LAST-MODIFIED:20221013T001304Z
UID:10006219-1676534400-1676536200@tapestrycharter.org
SUMMARY:HS Minecraft Club
DESCRIPTION:
URL:https://tapestrycharter.org/event/hs-minecraft-club-14/
CATEGORIES:Clubs
END:VEVENT
END:VCALENDAR