BEGIN:VCALENDAR
VERSION:2.0
PRODID:-//Tapestry Public Charter School - ECPv6.15.20//NONSGML v1.0//EN
CALSCALE:GREGORIAN
METHOD:PUBLISH
X-WR-CALNAME:Tapestry Public Charter School
X-ORIGINAL-URL:https://tapestrycharter.org
X-WR-CALDESC:Events for Tapestry Public Charter School
REFRESH-INTERVAL;VALUE=DURATION:PT1H
X-Robots-Tag:noindex
X-PUBLISHED-TTL:PT1H
BEGIN:VTIMEZONE
TZID:America/New_York
BEGIN:DAYLIGHT
TZOFFSETFROM:-0500
TZOFFSETTO:-0400
TZNAME:EDT
DTSTART:20210314T070000
END:DAYLIGHT
BEGIN:STANDARD
TZOFFSETFROM:-0400
TZOFFSETTO:-0500
TZNAME:EST
DTSTART:20211107T060000
END:STANDARD
BEGIN:DAYLIGHT
TZOFFSETFROM:-0500
TZOFFSETTO:-0400
TZNAME:EDT
DTSTART:20220313T070000
END:DAYLIGHT
BEGIN:STANDARD
TZOFFSETFROM:-0400
TZOFFSETTO:-0500
TZNAME:EST
DTSTART:20221106T060000
END:STANDARD
BEGIN:DAYLIGHT
TZOFFSETFROM:-0500
TZOFFSETTO:-0400
TZNAME:EDT
DTSTART:20230312T070000
END:DAYLIGHT
BEGIN:STANDARD
TZOFFSETFROM:-0400
TZOFFSETTO:-0500
TZNAME:EST
DTSTART:20231105T060000
END:STANDARD
BEGIN:DAYLIGHT
TZOFFSETFROM:-0500
TZOFFSETTO:-0400
TZNAME:EDT
DTSTART:20240310T070000
END:DAYLIGHT
BEGIN:STANDARD
TZOFFSETFROM:-0400
TZOFFSETTO:-0500
TZNAME:EST
DTSTART:20241103T060000
END:STANDARD
END:VTIMEZONE
BEGIN:VEVENT
DTSTART;TZID=America/New_York:20230214T153000
DTEND;TZID=America/New_York:20230214T163000
DTSTAMP:20260423T232650
CREATED:20221112T195326Z
LAST-MODIFIED:20221112T195453Z
UID:10006272-1676388600-1676392200@tapestrycharter.org
SUMMARY:Tapestry Choir
DESCRIPTION:Tapestry Choir\n–  Practice Tuesdays\, 3:30 – 4:30 p.m.\n–  Please contact Ms. Jackson cydney.jackson@tapestrycharter.org for more information.
URL:https://tapestrycharter.org/event/tapestry-choir-2/2023-02-14/
CATEGORIES:Clubs
END:VEVENT
BEGIN:VEVENT
DTSTART;TZID=America/New_York:20230213T080000
DTEND;TZID=America/New_York:20230213T170000
DTSTAMP:20260423T232650
CREATED:20221119T013916Z
LAST-MODIFIED:20221119T013916Z
UID:10005938-1676275200-1676307600@tapestrycharter.org
SUMMARY:Gay-Straight Alliance (GSA) Meeting
DESCRIPTION:Gay-Straight Alliance (GSA) Meeting \nThe Gay-Straight Alliance (GSA) Meeting is 3:30-4:00 p.m in Mr. Van Kirk’s room. Additionally\, regular meetings will be held every Monday at 3:30-4:00 in Mr. Van Kirk’s room. For more information please contact Ms. Williams
URL:https://tapestrycharter.org/event/gay-straight-alliance-gsa-meeting-7/2023-02-13/
CATEGORIES:Clubs
END:VEVENT
BEGIN:VEVENT
DTSTART;TZID=America/New_York:20230207T153000
DTEND;TZID=America/New_York:20230207T163000
DTSTAMP:20260423T232650
CREATED:20221112T195326Z
LAST-MODIFIED:20221112T195453Z
UID:10006271-1675783800-1675787400@tapestrycharter.org
SUMMARY:Tapestry Choir
DESCRIPTION:Tapestry Choir\n–  Practice Tuesdays\, 3:30 – 4:30 p.m.\n–  Please contact Ms. Jackson cydney.jackson@tapestrycharter.org for more information.
URL:https://tapestrycharter.org/event/tapestry-choir-2/2023-02-07/
CATEGORIES:Clubs
END:VEVENT
BEGIN:VEVENT
DTSTART;TZID=America/New_York:20230207T080000
DTEND;TZID=America/New_York:20230207T083000
DTSTAMP:20260423T232650
CREATED:20221013T001205Z
LAST-MODIFIED:20221013T001205Z
UID:10004769-1675756800-1675758600@tapestrycharter.org
SUMMARY:MS Minecraft Club
DESCRIPTION:
URL:https://tapestrycharter.org/event/ms-minecraft-club-14/
CATEGORIES:Clubs
END:VEVENT
BEGIN:VEVENT
DTSTART;TZID=America/New_York:20230206T080000
DTEND;TZID=America/New_York:20230206T170000
DTSTAMP:20260423T232650
CREATED:20221119T013916Z
LAST-MODIFIED:20221119T013916Z
UID:10005937-1675670400-1675702800@tapestrycharter.org
SUMMARY:Gay-Straight Alliance (GSA) Meeting
DESCRIPTION:Gay-Straight Alliance (GSA) Meeting \nThe Gay-Straight Alliance (GSA) Meeting is 3:30-4:00 p.m in Mr. Van Kirk’s room. Additionally\, regular meetings will be held every Monday at 3:30-4:00 in Mr. Van Kirk’s room. For more information please contact Ms. Williams
URL:https://tapestrycharter.org/event/gay-straight-alliance-gsa-meeting-7/2023-02-06/
CATEGORIES:Clubs
END:VEVENT
BEGIN:VEVENT
DTSTART;TZID=America/New_York:20230206T080000
DTEND;TZID=America/New_York:20230206T083000
DTSTAMP:20260423T232650
CREATED:20221013T001125Z
LAST-MODIFIED:20221013T001125Z
UID:10004768-1675670400-1675672200@tapestrycharter.org
SUMMARY:MS Minecraft Club
DESCRIPTION:
URL:https://tapestrycharter.org/event/ms-minecraft-club-13/
CATEGORIES:Clubs
END:VEVENT
BEGIN:VEVENT
DTSTART;TZID=America/New_York:20230203T080000
DTEND;TZID=America/New_York:20230203T083000
DTSTAMP:20260423T232650
CREATED:20221013T001024Z
LAST-MODIFIED:20221013T001024Z
UID:10004767-1675411200-1675413000@tapestrycharter.org
SUMMARY:HS Minecraft Club
DESCRIPTION:
URL:https://tapestrycharter.org/event/hs-minecraft-club-13/
CATEGORIES:Clubs
END:VEVENT
BEGIN:VEVENT
DTSTART;TZID=America/New_York:20230202T080000
DTEND;TZID=America/New_York:20230202T083000
DTSTAMP:20260423T232650
CREATED:20221013T000848Z
LAST-MODIFIED:20221013T000848Z
UID:10004766-1675324800-1675326600@tapestrycharter.org
SUMMARY:HS Minecraft Club
DESCRIPTION:
URL:https://tapestrycharter.org/event/hs-minecraft-club-12/
CATEGORIES:Clubs
END:VEVENT
BEGIN:VEVENT
DTSTART;TZID=America/New_York:20230131T153000
DTEND;TZID=America/New_York:20230131T163000
DTSTAMP:20260423T232650
CREATED:20221112T195326Z
LAST-MODIFIED:20221112T195453Z
UID:10006270-1675179000-1675182600@tapestrycharter.org
SUMMARY:Tapestry Choir
DESCRIPTION:Tapestry Choir\n–  Practice Tuesdays\, 3:30 – 4:30 p.m.\n–  Please contact Ms. Jackson cydney.jackson@tapestrycharter.org for more information.
URL:https://tapestrycharter.org/event/tapestry-choir-2/2023-01-31/
CATEGORIES:Clubs
END:VEVENT
BEGIN:VEVENT
DTSTART;TZID=America/New_York:20230130T080000
DTEND;TZID=America/New_York:20230130T170000
DTSTAMP:20260423T232650
CREATED:20221119T013916Z
LAST-MODIFIED:20221119T013916Z
UID:10005936-1675065600-1675098000@tapestrycharter.org
SUMMARY:Gay-Straight Alliance (GSA) Meeting
DESCRIPTION:Gay-Straight Alliance (GSA) Meeting \nThe Gay-Straight Alliance (GSA) Meeting is 3:30-4:00 p.m in Mr. Van Kirk’s room. Additionally\, regular meetings will be held every Monday at 3:30-4:00 in Mr. Van Kirk’s room. For more information please contact Ms. Williams
URL:https://tapestrycharter.org/event/gay-straight-alliance-gsa-meeting-7/2023-01-30/
CATEGORIES:Clubs
END:VEVENT
BEGIN:VEVENT
DTSTART;TZID=America/New_York:20230124T153000
DTEND;TZID=America/New_York:20230124T163000
DTSTAMP:20260423T232650
CREATED:20221112T195326Z
LAST-MODIFIED:20221112T195453Z
UID:10006269-1674574200-1674577800@tapestrycharter.org
SUMMARY:Tapestry Choir
DESCRIPTION:Tapestry Choir\n–  Practice Tuesdays\, 3:30 – 4:30 p.m.\n–  Please contact Ms. Jackson cydney.jackson@tapestrycharter.org for more information.
URL:https://tapestrycharter.org/event/tapestry-choir-2/2023-01-24/
CATEGORIES:Clubs
END:VEVENT
BEGIN:VEVENT
DTSTART;TZID=America/New_York:20230124T080000
DTEND;TZID=America/New_York:20230124T083000
DTSTAMP:20260423T232650
CREATED:20221013T000802Z
LAST-MODIFIED:20221013T000802Z
UID:10004765-1674547200-1674549000@tapestrycharter.org
SUMMARY:MS Minecraft Club
DESCRIPTION:
URL:https://tapestrycharter.org/event/ms-minecraft-club-12/
CATEGORIES:Clubs
END:VEVENT
BEGIN:VEVENT
DTSTART;TZID=America/New_York:20230123T080000
DTEND;TZID=America/New_York:20230123T170000
DTSTAMP:20260423T232650
CREATED:20221119T013916Z
LAST-MODIFIED:20221119T013916Z
UID:10005935-1674460800-1674493200@tapestrycharter.org
SUMMARY:Gay-Straight Alliance (GSA) Meeting
DESCRIPTION:Gay-Straight Alliance (GSA) Meeting \nThe Gay-Straight Alliance (GSA) Meeting is 3:30-4:00 p.m in Mr. Van Kirk’s room. Additionally\, regular meetings will be held every Monday at 3:30-4:00 in Mr. Van Kirk’s room. For more information please contact Ms. Williams
URL:https://tapestrycharter.org/event/gay-straight-alliance-gsa-meeting-7/2023-01-23/
CATEGORIES:Clubs
END:VEVENT
BEGIN:VEVENT
DTSTART;TZID=America/New_York:20230123T080000
DTEND;TZID=America/New_York:20230123T083000
DTSTAMP:20260423T232650
CREATED:20221013T000724Z
LAST-MODIFIED:20221013T000724Z
UID:10004764-1674460800-1674462600@tapestrycharter.org
SUMMARY:MS Minecraft Club
DESCRIPTION:
URL:https://tapestrycharter.org/event/ms-minecraft-club-11/
CATEGORIES:Clubs
END:VEVENT
BEGIN:VEVENT
DTSTART;TZID=America/New_York:20230120T080000
DTEND;TZID=America/New_York:20230120T083000
DTSTAMP:20260423T232650
CREATED:20221013T000630Z
LAST-MODIFIED:20221013T000630Z
UID:10004763-1674201600-1674203400@tapestrycharter.org
SUMMARY:HS Minecraft Club
DESCRIPTION:
URL:https://tapestrycharter.org/event/hs-minecraft-club-11/
CATEGORIES:Clubs
END:VEVENT
BEGIN:VEVENT
DTSTART;TZID=America/New_York:20230119T080000
DTEND;TZID=America/New_York:20230119T083000
DTSTAMP:20260423T232650
CREATED:20221013T000542Z
LAST-MODIFIED:20221013T000542Z
UID:10004762-1674115200-1674117000@tapestrycharter.org
SUMMARY:HS Minecraft Club
DESCRIPTION:
URL:https://tapestrycharter.org/event/hs-minecraft-club-10/
CATEGORIES:Clubs
END:VEVENT
BEGIN:VEVENT
DTSTART;TZID=America/New_York:20230117T153000
DTEND;TZID=America/New_York:20230117T163000
DTSTAMP:20260423T232650
CREATED:20221112T195326Z
LAST-MODIFIED:20221112T195453Z
UID:10006268-1673969400-1673973000@tapestrycharter.org
SUMMARY:Tapestry Choir
DESCRIPTION:Tapestry Choir\n–  Practice Tuesdays\, 3:30 – 4:30 p.m.\n–  Please contact Ms. Jackson cydney.jackson@tapestrycharter.org for more information.
URL:https://tapestrycharter.org/event/tapestry-choir-2/2023-01-17/
CATEGORIES:Clubs
END:VEVENT
BEGIN:VEVENT
DTSTART;TZID=America/New_York:20230110T153000
DTEND;TZID=America/New_York:20230110T163000
DTSTAMP:20260423T232650
CREATED:20221112T195326Z
LAST-MODIFIED:20221112T195453Z
UID:10006267-1673364600-1673368200@tapestrycharter.org
SUMMARY:Tapestry Choir
DESCRIPTION:Tapestry Choir\n–  Practice Tuesdays\, 3:30 – 4:30 p.m.\n–  Please contact Ms. Jackson cydney.jackson@tapestrycharter.org for more information.
URL:https://tapestrycharter.org/event/tapestry-choir-2/2023-01-10/
CATEGORIES:Clubs
END:VEVENT
BEGIN:VEVENT
DTSTART;TZID=America/New_York:20230110T080000
DTEND;TZID=America/New_York:20230110T083000
DTSTAMP:20260423T232650
CREATED:20221013T000421Z
LAST-MODIFIED:20221013T000421Z
UID:10004761-1673337600-1673339400@tapestrycharter.org
SUMMARY:MS Minecraft Club
DESCRIPTION:
URL:https://tapestrycharter.org/event/ms-minecraft-club-10/
CATEGORIES:Clubs
END:VEVENT
BEGIN:VEVENT
DTSTART;TZID=America/New_York:20230109T153000
DTEND;TZID=America/New_York:20230109T160000
DTSTAMP:20260423T232650
CREATED:20221119T013356Z
LAST-MODIFIED:20221119T013356Z
UID:10006292-1673278200-1673280000@tapestrycharter.org
SUMMARY:Gay-Straight Alliance (GSA) Meeting
DESCRIPTION:Gay-Straight Alliance (GSA) Meeting \n\n\nGay-Straight Alliance (GSA) Meeting is 3:30-4:00 p.m in Mr. Van Kirk’s room. Additionally\, regular meetings will be held every Monday at 3:30-4:00 in Mr. Van Kirk’s room. For more information please contact Ms. Williams
URL:https://tapestrycharter.org/event/gay-straight-alliance-gsa-meeting-5/
CATEGORIES:Clubs
END:VEVENT
BEGIN:VEVENT
DTSTART;TZID=America/New_York:20230109T080000
DTEND;TZID=America/New_York:20230109T083000
DTSTAMP:20260423T232650
CREATED:20221013T000304Z
LAST-MODIFIED:20221013T000327Z
UID:10004760-1673251200-1673253000@tapestrycharter.org
SUMMARY:MS Minecraft Club
DESCRIPTION:
URL:https://tapestrycharter.org/event/ms-minecraft-club-9/
CATEGORIES:Clubs
END:VEVENT
BEGIN:VEVENT
DTSTART;TZID=America/New_York:20230106T080000
DTEND;TZID=America/New_York:20230106T083000
DTSTAMP:20260423T232650
CREATED:20221013T000228Z
LAST-MODIFIED:20221013T000228Z
UID:10006218-1672992000-1672993800@tapestrycharter.org
SUMMARY:HS Minecraft Club
DESCRIPTION:
URL:https://tapestrycharter.org/event/hs-minecraft-club-9/
CATEGORIES:Clubs
END:VEVENT
BEGIN:VEVENT
DTSTART;TZID=America/New_York:20230105T080000
DTEND;TZID=America/New_York:20230105T083000
DTSTAMP:20260423T232650
CREATED:20221013T000150Z
LAST-MODIFIED:20221013T000150Z
UID:10006217-1672905600-1672907400@tapestrycharter.org
SUMMARY:HS Minecraft Club
DESCRIPTION:
URL:https://tapestrycharter.org/event/hs-minecraft-club-8/
CATEGORIES:Clubs
END:VEVENT
BEGIN:VEVENT
DTSTART;TZID=America/New_York:20230103T153000
DTEND;TZID=America/New_York:20230103T163000
DTSTAMP:20260423T232650
CREATED:20221112T195326Z
LAST-MODIFIED:20221112T195453Z
UID:10006266-1672759800-1672763400@tapestrycharter.org
SUMMARY:Tapestry Choir
DESCRIPTION:Tapestry Choir\n–  Practice Tuesdays\, 3:30 – 4:30 p.m.\n–  Please contact Ms. Jackson cydney.jackson@tapestrycharter.org for more information.
URL:https://tapestrycharter.org/event/tapestry-choir-2/2023-01-03/
CATEGORIES:Clubs
END:VEVENT
BEGIN:VEVENT
DTSTART;TZID=America/New_York:20221227T153000
DTEND;TZID=America/New_York:20221227T163000
DTSTAMP:20260423T232650
CREATED:20221112T195326Z
LAST-MODIFIED:20221112T195453Z
UID:10006265-1672155000-1672158600@tapestrycharter.org
SUMMARY:Tapestry Choir
DESCRIPTION:Tapestry Choir\n–  Practice Tuesdays\, 3:30 – 4:30 p.m.\n–  Please contact Ms. Jackson cydney.jackson@tapestrycharter.org for more information.
URL:https://tapestrycharter.org/event/tapestry-choir-2/2022-12-27/
CATEGORIES:Clubs
END:VEVENT
BEGIN:VEVENT
DTSTART;TZID=America/New_York:20221220T153000
DTEND;TZID=America/New_York:20221220T163000
DTSTAMP:20260423T232650
CREATED:20221112T195326Z
LAST-MODIFIED:20221112T195453Z
UID:10006264-1671550200-1671553800@tapestrycharter.org
SUMMARY:Tapestry Choir
DESCRIPTION:Tapestry Choir\n–  Practice Tuesdays\, 3:30 – 4:30 p.m.\n–  Please contact Ms. Jackson cydney.jackson@tapestrycharter.org for more information.
URL:https://tapestrycharter.org/event/tapestry-choir-2/2022-12-20/
CATEGORIES:Clubs
END:VEVENT
BEGIN:VEVENT
DTSTART;TZID=America/New_York:20221216T080000
DTEND;TZID=America/New_York:20221216T083000
DTSTAMP:20260423T232650
CREATED:20221013T000031Z
LAST-MODIFIED:20221013T000031Z
UID:10006216-1671177600-1671179400@tapestrycharter.org
SUMMARY:HS Minecraft Club
DESCRIPTION:
URL:https://tapestrycharter.org/event/hs-minecraft-club-7/
CATEGORIES:Clubs
END:VEVENT
BEGIN:VEVENT
DTSTART;TZID=America/New_York:20221213T153000
DTEND;TZID=America/New_York:20221213T163000
DTSTAMP:20260423T232650
CREATED:20221112T195648Z
LAST-MODIFIED:20221112T195648Z
UID:10006273-1670945400-1670949000@tapestrycharter.org
SUMMARY:Tapestry Choir
DESCRIPTION:Tapestry Choir\n–  Practice Tuesdays\, 3:30 – 4:30 p.m.\n–  Please contact Ms. Jackson cydney.jackson@tapestrycharter.org for more information.
URL:https://tapestrycharter.org/event/tapestry-choir-3/
CATEGORIES:Clubs
END:VEVENT
BEGIN:VEVENT
DTSTART;TZID=America/New_York:20221213T153000
DTEND;TZID=America/New_York:20221213T163000
DTSTAMP:20260423T232650
CREATED:20221112T195326Z
LAST-MODIFIED:20221112T195453Z
UID:10006263-1670945400-1670949000@tapestrycharter.org
SUMMARY:Tapestry Choir
DESCRIPTION:Tapestry Choir\n–  Practice Tuesdays\, 3:30 – 4:30 p.m.\n–  Please contact Ms. Jackson cydney.jackson@tapestrycharter.org for more information.
URL:https://tapestrycharter.org/event/tapestry-choir-2/2022-12-13/
CATEGORIES:Clubs
END:VEVENT
BEGIN:VEVENT
DTSTART;TZID=America/New_York:20221212T153000
DTEND;TZID=America/New_York:20221212T160000
DTSTAMP:20260423T232650
CREATED:20221119T013015Z
LAST-MODIFIED:20221119T013031Z
UID:10006291-1670859000-1670860800@tapestrycharter.org
SUMMARY:Gay-Straight Alliance (GSA) Meeting
DESCRIPTION:The Gay-Straight Alliance will be meeting 3:30-4:00 p.m in Mr. Van Kirk’s room. Meetings will be held every Monday at 3:30-4:00 in Mr. Van Kirk’s room. For more information please contact Ms. Williams chloe.williams@tapestrycharter.org
URL:https://tapestrycharter.org/event/gay-straight-alliance-gsa-meeting-4/
CATEGORIES:Clubs
END:VEVENT
END:VCALENDAR