BEGIN:VCALENDAR
VERSION:2.0
PRODID:-//Tapestry Public Charter School - ECPv6.15.20//NONSGML v1.0//EN
CALSCALE:GREGORIAN
METHOD:PUBLISH
X-WR-CALNAME:Tapestry Public Charter School
X-ORIGINAL-URL:https://tapestrycharter.org
X-WR-CALDESC:Events for Tapestry Public Charter School
REFRESH-INTERVAL;VALUE=DURATION:PT1H
X-Robots-Tag:noindex
X-PUBLISHED-TTL:PT1H
BEGIN:VTIMEZONE
TZID:America/New_York
BEGIN:DAYLIGHT
TZOFFSETFROM:-0500
TZOFFSETTO:-0400
TZNAME:EDT
DTSTART:20210314T070000
END:DAYLIGHT
BEGIN:STANDARD
TZOFFSETFROM:-0400
TZOFFSETTO:-0500
TZNAME:EST
DTSTART:20211107T060000
END:STANDARD
BEGIN:DAYLIGHT
TZOFFSETFROM:-0500
TZOFFSETTO:-0400
TZNAME:EDT
DTSTART:20220313T070000
END:DAYLIGHT
BEGIN:STANDARD
TZOFFSETFROM:-0400
TZOFFSETTO:-0500
TZNAME:EST
DTSTART:20221106T060000
END:STANDARD
BEGIN:DAYLIGHT
TZOFFSETFROM:-0500
TZOFFSETTO:-0400
TZNAME:EDT
DTSTART:20230312T070000
END:DAYLIGHT
BEGIN:STANDARD
TZOFFSETFROM:-0400
TZOFFSETTO:-0500
TZNAME:EST
DTSTART:20231105T060000
END:STANDARD
BEGIN:DAYLIGHT
TZOFFSETFROM:-0500
TZOFFSETTO:-0400
TZNAME:EDT
DTSTART:20240310T070000
END:DAYLIGHT
BEGIN:STANDARD
TZOFFSETFROM:-0400
TZOFFSETTO:-0500
TZNAME:EST
DTSTART:20241103T060000
END:STANDARD
END:VTIMEZONE
BEGIN:VEVENT
DTSTART;TZID=America/New_York:20230109T080000
DTEND;TZID=America/New_York:20230109T083000
DTSTAMP:20260424T014648
CREATED:20221013T000304Z
LAST-MODIFIED:20221013T000327Z
UID:10004760-1673251200-1673253000@tapestrycharter.org
SUMMARY:MS Minecraft Club
DESCRIPTION:
URL:https://tapestrycharter.org/event/ms-minecraft-club-9/
CATEGORIES:Clubs
END:VEVENT
BEGIN:VEVENT
DTSTART;TZID=America/New_York:20230106T080000
DTEND;TZID=America/New_York:20230106T083000
DTSTAMP:20260424T014648
CREATED:20221013T000228Z
LAST-MODIFIED:20221013T000228Z
UID:10006218-1672992000-1672993800@tapestrycharter.org
SUMMARY:HS Minecraft Club
DESCRIPTION:
URL:https://tapestrycharter.org/event/hs-minecraft-club-9/
CATEGORIES:Clubs
END:VEVENT
BEGIN:VEVENT
DTSTART;TZID=America/New_York:20230105T080000
DTEND;TZID=America/New_York:20230105T083000
DTSTAMP:20260424T014648
CREATED:20221013T000150Z
LAST-MODIFIED:20221013T000150Z
UID:10006217-1672905600-1672907400@tapestrycharter.org
SUMMARY:HS Minecraft Club
DESCRIPTION:
URL:https://tapestrycharter.org/event/hs-minecraft-club-8/
CATEGORIES:Clubs
END:VEVENT
BEGIN:VEVENT
DTSTART;TZID=America/New_York:20230103T153000
DTEND;TZID=America/New_York:20230103T163000
DTSTAMP:20260424T014648
CREATED:20221112T195326Z
LAST-MODIFIED:20221112T195453Z
UID:10006266-1672759800-1672763400@tapestrycharter.org
SUMMARY:Tapestry Choir
DESCRIPTION:Tapestry Choir\n–  Practice Tuesdays\, 3:30 – 4:30 p.m.\n–  Please contact Ms. Jackson cydney.jackson@tapestrycharter.org for more information.
URL:https://tapestrycharter.org/event/tapestry-choir-2/2023-01-03/
CATEGORIES:Clubs
END:VEVENT
BEGIN:VEVENT
DTSTART;TZID=America/New_York:20221227T153000
DTEND;TZID=America/New_York:20221227T163000
DTSTAMP:20260424T014648
CREATED:20221112T195326Z
LAST-MODIFIED:20221112T195453Z
UID:10006265-1672155000-1672158600@tapestrycharter.org
SUMMARY:Tapestry Choir
DESCRIPTION:Tapestry Choir\n–  Practice Tuesdays\, 3:30 – 4:30 p.m.\n–  Please contact Ms. Jackson cydney.jackson@tapestrycharter.org for more information.
URL:https://tapestrycharter.org/event/tapestry-choir-2/2022-12-27/
CATEGORIES:Clubs
END:VEVENT
BEGIN:VEVENT
DTSTART;TZID=America/New_York:20221220T153000
DTEND;TZID=America/New_York:20221220T163000
DTSTAMP:20260424T014648
CREATED:20221112T195326Z
LAST-MODIFIED:20221112T195453Z
UID:10006264-1671550200-1671553800@tapestrycharter.org
SUMMARY:Tapestry Choir
DESCRIPTION:Tapestry Choir\n–  Practice Tuesdays\, 3:30 – 4:30 p.m.\n–  Please contact Ms. Jackson cydney.jackson@tapestrycharter.org for more information.
URL:https://tapestrycharter.org/event/tapestry-choir-2/2022-12-20/
CATEGORIES:Clubs
END:VEVENT
BEGIN:VEVENT
DTSTART;TZID=America/New_York:20221216T080000
DTEND;TZID=America/New_York:20221216T083000
DTSTAMP:20260424T014648
CREATED:20221013T000031Z
LAST-MODIFIED:20221013T000031Z
UID:10006216-1671177600-1671179400@tapestrycharter.org
SUMMARY:HS Minecraft Club
DESCRIPTION:
URL:https://tapestrycharter.org/event/hs-minecraft-club-7/
CATEGORIES:Clubs
END:VEVENT
BEGIN:VEVENT
DTSTART;TZID=America/New_York:20221213T153000
DTEND;TZID=America/New_York:20221213T163000
DTSTAMP:20260424T014648
CREATED:20221112T195648Z
LAST-MODIFIED:20221112T195648Z
UID:10006273-1670945400-1670949000@tapestrycharter.org
SUMMARY:Tapestry Choir
DESCRIPTION:Tapestry Choir\n–  Practice Tuesdays\, 3:30 – 4:30 p.m.\n–  Please contact Ms. Jackson cydney.jackson@tapestrycharter.org for more information.
URL:https://tapestrycharter.org/event/tapestry-choir-3/
CATEGORIES:Clubs
END:VEVENT
BEGIN:VEVENT
DTSTART;TZID=America/New_York:20221213T153000
DTEND;TZID=America/New_York:20221213T163000
DTSTAMP:20260424T014648
CREATED:20221112T195326Z
LAST-MODIFIED:20221112T195453Z
UID:10006263-1670945400-1670949000@tapestrycharter.org
SUMMARY:Tapestry Choir
DESCRIPTION:Tapestry Choir\n–  Practice Tuesdays\, 3:30 – 4:30 p.m.\n–  Please contact Ms. Jackson cydney.jackson@tapestrycharter.org for more information.
URL:https://tapestrycharter.org/event/tapestry-choir-2/2022-12-13/
CATEGORIES:Clubs
END:VEVENT
BEGIN:VEVENT
DTSTART;TZID=America/New_York:20221212T153000
DTEND;TZID=America/New_York:20221212T160000
DTSTAMP:20260424T014648
CREATED:20221119T013015Z
LAST-MODIFIED:20221119T013031Z
UID:10006291-1670859000-1670860800@tapestrycharter.org
SUMMARY:Gay-Straight Alliance (GSA) Meeting
DESCRIPTION:The Gay-Straight Alliance will be meeting 3:30-4:00 p.m in Mr. Van Kirk’s room. Meetings will be held every Monday at 3:30-4:00 in Mr. Van Kirk’s room. For more information please contact Ms. Williams chloe.williams@tapestrycharter.org
URL:https://tapestrycharter.org/event/gay-straight-alliance-gsa-meeting-4/
CATEGORIES:Clubs
END:VEVENT
BEGIN:VEVENT
DTSTART;TZID=America/New_York:20221212T080000
DTEND;TZID=America/New_York:20221212T170000
DTSTAMP:20260424T014648
CREATED:20221119T012904Z
LAST-MODIFIED:20221119T012904Z
UID:10006290-1670832000-1670864400@tapestrycharter.org
SUMMARY:Gay-Straight Alliance (GSA) Meeting
DESCRIPTION:The Gay-Straight Alliance will be meeting 3:30-4:00 p.m in Mr. Van Kirk’s room.\nMeetings will be held every Monday at 3:30-4:00 in Mr. Van Kirk’s room. For more information please contact Ms. Williams chloe.williams@tapestrycharter.org
URL:https://tapestrycharter.org/event/gay-straight-alliance-gsa-meeting-3/
CATEGORIES:Clubs
END:VEVENT
BEGIN:VEVENT
DTSTART;TZID=America/New_York:20221206T153000
DTEND;TZID=America/New_York:20221206T163000
DTSTAMP:20260424T014648
CREATED:20221112T195326Z
LAST-MODIFIED:20221112T195453Z
UID:10006262-1670340600-1670344200@tapestrycharter.org
SUMMARY:Tapestry Choir
DESCRIPTION:Tapestry Choir\n–  Practice Tuesdays\, 3:30 – 4:30 p.m.\n–  Please contact Ms. Jackson cydney.jackson@tapestrycharter.org for more information.
URL:https://tapestrycharter.org/event/tapestry-choir-2/2022-12-06/
CATEGORIES:Clubs
END:VEVENT
BEGIN:VEVENT
DTSTART;TZID=America/New_York:20221206T080000
DTEND;TZID=America/New_York:20221206T083000
DTSTAMP:20260424T014648
CREATED:20221012T235717Z
LAST-MODIFIED:20221012T235717Z
UID:10006215-1670313600-1670315400@tapestrycharter.org
SUMMARY:MS Minecraft Club
DESCRIPTION:
URL:https://tapestrycharter.org/event/ms-minecraft-club-8/
CATEGORIES:Clubs
END:VEVENT
BEGIN:VEVENT
DTSTART;TZID=America/New_York:20221205T153000
DTEND;TZID=America/New_York:20221205T160000
DTSTAMP:20260424T014648
CREATED:20221119T012719Z
LAST-MODIFIED:20221119T012802Z
UID:10006289-1670254200-1670256000@tapestrycharter.org
SUMMARY:Gay-Straight Alliance (GSA) Meeting
DESCRIPTION:The Gay-Straight Alliance will be meeting 3:30-4:00 p.m in Mr. Van Kirk’s room.\nMeetings will be held every Monday at 3:30-4:00 in Mr. Van Kirk’s room. For more information please contact Ms. Williams chloe.williams@tapestrycharter.org
URL:https://tapestrycharter.org/event/gay-straight-alliance-gsa-meeting-2/
CATEGORIES:Clubs
END:VEVENT
BEGIN:VEVENT
DTSTART;TZID=America/New_York:20221205T080000
DTEND;TZID=America/New_York:20221205T083000
DTSTAMP:20260424T014648
CREATED:20221012T235643Z
LAST-MODIFIED:20221012T235643Z
UID:10006214-1670227200-1670229000@tapestrycharter.org
SUMMARY:MS Minecraft Club
DESCRIPTION:
URL:https://tapestrycharter.org/event/ms-minecraft-club-7/
CATEGORIES:Clubs
END:VEVENT
BEGIN:VEVENT
DTSTART;TZID=America/New_York:20221202T080000
DTEND;TZID=America/New_York:20221202T083000
DTSTAMP:20260424T014648
CREATED:20221012T235610Z
LAST-MODIFIED:20221012T235610Z
UID:10006213-1669968000-1669969800@tapestrycharter.org
SUMMARY:HS Minecraft Club
DESCRIPTION:
URL:https://tapestrycharter.org/event/hs-minecraft-club-6/
CATEGORIES:Clubs
END:VEVENT
BEGIN:VEVENT
DTSTART;TZID=America/New_York:20221201T080000
DTEND;TZID=America/New_York:20221201T083000
DTSTAMP:20260424T014648
CREATED:20221012T235529Z
LAST-MODIFIED:20221012T235529Z
UID:10006212-1669881600-1669883400@tapestrycharter.org
SUMMARY:HS Minecraft Club
DESCRIPTION:
URL:https://tapestrycharter.org/event/hs-minecraft-club-5/
CATEGORIES:Clubs
END:VEVENT
BEGIN:VEVENT
DTSTART;TZID=America/New_York:20221129T153000
DTEND;TZID=America/New_York:20221129T163000
DTSTAMP:20260424T014648
CREATED:20221112T195326Z
LAST-MODIFIED:20221112T195453Z
UID:10006261-1669735800-1669739400@tapestrycharter.org
SUMMARY:Tapestry Choir
DESCRIPTION:Tapestry Choir\n–  Practice Tuesdays\, 3:30 – 4:30 p.m.\n–  Please contact Ms. Jackson cydney.jackson@tapestrycharter.org for more information.
URL:https://tapestrycharter.org/event/tapestry-choir-2/2022-11-29/
CATEGORIES:Clubs
END:VEVENT
BEGIN:VEVENT
DTSTART;TZID=America/New_York:20221128T153000
DTEND;TZID=America/New_York:20221128T160000
DTSTAMP:20260424T014648
CREATED:20221119T012301Z
LAST-MODIFIED:20221119T012445Z
UID:10006288-1669649400-1669651200@tapestrycharter.org
SUMMARY:Gay-Straight Alliance (GSA) Meeting
DESCRIPTION:The Gay-Straight Alliance will be having an information meeting on Monday\, November 28 3:30-4:00 p.m in Mr. Van Kirk’s room.Additionally\, regular meetings will be held every Monday at 3:30-4:00 in Mr. Van Kirk’s room. For more information please contact Ms. Williams chloe.williams@tapestrycharter.org
URL:https://tapestrycharter.org/event/gay-straight-alliance-gsa-meeting/
CATEGORIES:Clubs
END:VEVENT
BEGIN:VEVENT
DTSTART;TZID=America/New_York:20221118T154500
DTEND;TZID=America/New_York:20221118T171500
DTSTAMP:20260424T014648
CREATED:20221112T200101Z
LAST-MODIFIED:20221112T200101Z
UID:10006275-1668786300-1668791700@tapestrycharter.org
SUMMARY:Cheer
DESCRIPTION:– Practices on Monday\, Tuesday & Friday (Nov 14\, 15\, & 18) from 3:45 – 5:15 p.m.\n– No Practices on Wednesday (Nov 16) or Thursday (Nov 17)  \nSpirit Squad\nAre you interested in supporting Tapestry Athletics but Cheerleading just isn’t your thing? Are you looking for a place to share all that True Blue Titan Spirit? Please email Coach Angel Willingham at Tapestrycheerleading@gmail.com for more information.
URL:https://tapestrycharter.org/event/cheer-2/
CATEGORIES:Clubs
END:VEVENT
BEGIN:VEVENT
DTSTART;TZID=America/New_York:20221117T153000
DTEND;TZID=America/New_York:20221117T163000
DTSTAMP:20260424T014648
CREATED:20221112T200825Z
LAST-MODIFIED:20221112T201349Z
UID:10006277-1668699000-1668702600@tapestrycharter.org
SUMMARY:eSports
DESCRIPTION:Thursday (Nov 17) – AAC Match (virtually) from 3:30 – 4:30 p.m. in the technology room on the HS hallway
URL:https://tapestrycharter.org/event/esports-2/
CATEGORIES:Clubs
END:VEVENT
BEGIN:VEVENT
DTSTART;TZID=America/New_York:20221117T153000
DTEND;TZID=America/New_York:20221117T160000
DTSTAMP:20260424T014648
CREATED:20221112T191708Z
LAST-MODIFIED:20221112T202116Z
UID:10004815-1668699000-1668700800@tapestrycharter.org
SUMMARY:Skate Club Information Meeting
DESCRIPTION:The Skate Club information meeting will be held on November 17th from 3:30 to 4:00 in Ms. Hurley’s room. In this meeting\, we will brainstorm what the Skate Club will look like this year. For more information\, please contact Ms. Hurley meghan.hurley@tapestrycharter.org
URL:https://tapestrycharter.org/event/skate-club-information-meeting-2/
CATEGORIES:Clubs
END:VEVENT
BEGIN:VEVENT
DTSTART;TZID=America/New_York:20221115T153000
DTEND;TZID=America/New_York:20221116T163000
DTSTAMP:20260424T014648
CREATED:20221112T194602Z
LAST-MODIFIED:20221112T195055Z
UID:10004821-1668526200-1668616200@tapestrycharter.org
SUMMARY:Titans Band / Practice
DESCRIPTION:Titans Band\n– Practice Monday\, Tuesday\, & Wednesday\, 3:30 – 4:30 p.m.\n– Please contact Mr. Miller mmiller@tapestrycharter.org for more information.
URL:https://tapestrycharter.org/event/titans-band-practice/
CATEGORIES:Clubs
END:VEVENT
BEGIN:VEVENT
DTSTART;TZID=America/New_York:20221115T153000
DTEND;TZID=America/New_York:20221115T163000
DTSTAMP:20260424T014648
CREATED:20221112T200714Z
LAST-MODIFIED:20221112T200714Z
UID:10006276-1668526200-1668529800@tapestrycharter.org
SUMMARY:eSports
DESCRIPTION:Practice on Tuesday (Nov 15) from 3:30 – 4:30 p.m. in the Technology room \nThursday (Nov 17) – AAC Match (virtually) from 3:30 – 4:30 p.m. in the technology room in the HS hallway
URL:https://tapestrycharter.org/event/esports/
CATEGORIES:Clubs
END:VEVENT
BEGIN:VEVENT
DTSTART;TZID=America/New_York:20221115T153000
DTEND;TZID=America/New_York:20221115T163000
DTSTAMP:20260424T014648
CREATED:20221112T194414Z
LAST-MODIFIED:20221112T194414Z
UID:10004818-1668526200-1668529800@tapestrycharter.org
SUMMARY:Tapestry Choir
DESCRIPTION:Practice Tuesdays\, 3:30 – 4:30 p.m. Please contact Ms. Jackson cydney.jackson@tapestrycharter.org for more information.
URL:https://tapestrycharter.org/event/tapestry-choir/
CATEGORIES:Clubs
END:VEVENT
BEGIN:VEVENT
DTSTART;TZID=America/New_York:20221115T080000
DTEND;TZID=America/New_York:20221115T203000
DTSTAMP:20260424T014648
CREATED:20221012T235433Z
LAST-MODIFIED:20221012T235433Z
UID:10006211-1668499200-1668544200@tapestrycharter.org
SUMMARY:MS Minecraft Club
DESCRIPTION:
URL:https://tapestrycharter.org/event/ms-minecraft-club-6/
CATEGORIES:Clubs
END:VEVENT
BEGIN:VEVENT
DTSTART;TZID=America/New_York:20221114T154500
DTEND;TZID=America/New_York:20221115T171500
DTSTAMP:20260424T014648
CREATED:20221112T195924Z
LAST-MODIFIED:20221112T195924Z
UID:10006274-1668440700-1668532500@tapestrycharter.org
SUMMARY:Cheer
DESCRIPTION:– Practices on Monday\, Tuesday & Friday (Nov 14\, 15\, & 18) from 3:45 – 5:15 p.m.\n– No Practices on Wednesday (Nov 16) or Thursday (Nov 17)  \nSpirit Squad\nAre you interested in supporting Tapestry Athletics but Cheerleading just isn’t your thing? Are you looking for a place to share all that True Blue Titan Spirit? Please email Coach Angel Willingham at Tapestrycheerleading@gmail.com for more information.
URL:https://tapestrycharter.org/event/cheer/
CATEGORIES:Clubs
END:VEVENT
BEGIN:VEVENT
DTSTART;TZID=America/New_York:20221114T080000
DTEND;TZID=America/New_York:20221114T083000
DTSTAMP:20260424T014648
CREATED:20221012T235400Z
LAST-MODIFIED:20221012T235400Z
UID:10006210-1668412800-1668414600@tapestrycharter.org
SUMMARY:MS Minecraft Club
DESCRIPTION:
URL:https://tapestrycharter.org/event/ms-minecraft-club-5/
CATEGORIES:Clubs
END:VEVENT
BEGIN:VEVENT
DTSTART;TZID=America/New_York:20221104T080000
DTEND;TZID=America/New_York:20221104T083000
DTSTAMP:20260424T014648
CREATED:20221012T235318Z
LAST-MODIFIED:20221012T235318Z
UID:10006209-1667548800-1667550600@tapestrycharter.org
SUMMARY:HS Minecraft Club
DESCRIPTION:
URL:https://tapestrycharter.org/event/hs-minecraft-club-4/
CATEGORIES:Clubs
END:VEVENT
BEGIN:VEVENT
DTSTART;TZID=America/New_York:20221103T080000
DTEND;TZID=America/New_York:20221103T083000
DTSTAMP:20260424T014648
CREATED:20221012T235227Z
LAST-MODIFIED:20221012T235227Z
UID:10004759-1667462400-1667464200@tapestrycharter.org
SUMMARY:HS Minecraft Club
DESCRIPTION:
URL:https://tapestrycharter.org/event/hs-minecraft-club-3/
CATEGORIES:Clubs
END:VEVENT
END:VCALENDAR