BEGIN:VCALENDAR
VERSION:2.0
PRODID:-//Tapestry Public Charter School - ECPv6.15.20//NONSGML v1.0//EN
CALSCALE:GREGORIAN
METHOD:PUBLISH
X-WR-CALNAME:Tapestry Public Charter School
X-ORIGINAL-URL:https://tapestrycharter.org
X-WR-CALDESC:Events for Tapestry Public Charter School
REFRESH-INTERVAL;VALUE=DURATION:PT1H
X-Robots-Tag:noindex
X-PUBLISHED-TTL:PT1H
BEGIN:VTIMEZONE
TZID:America/New_York
BEGIN:DAYLIGHT
TZOFFSETFROM:-0500
TZOFFSETTO:-0400
TZNAME:EDT
DTSTART:20210314T070000
END:DAYLIGHT
BEGIN:STANDARD
TZOFFSETFROM:-0400
TZOFFSETTO:-0500
TZNAME:EST
DTSTART:20211107T060000
END:STANDARD
BEGIN:DAYLIGHT
TZOFFSETFROM:-0500
TZOFFSETTO:-0400
TZNAME:EDT
DTSTART:20220313T070000
END:DAYLIGHT
BEGIN:STANDARD
TZOFFSETFROM:-0400
TZOFFSETTO:-0500
TZNAME:EST
DTSTART:20221106T060000
END:STANDARD
BEGIN:DAYLIGHT
TZOFFSETFROM:-0500
TZOFFSETTO:-0400
TZNAME:EDT
DTSTART:20230312T070000
END:DAYLIGHT
BEGIN:STANDARD
TZOFFSETFROM:-0400
TZOFFSETTO:-0500
TZNAME:EST
DTSTART:20231105T060000
END:STANDARD
BEGIN:DAYLIGHT
TZOFFSETFROM:-0500
TZOFFSETTO:-0400
TZNAME:EDT
DTSTART:20240310T070000
END:DAYLIGHT
BEGIN:STANDARD
TZOFFSETFROM:-0400
TZOFFSETTO:-0500
TZNAME:EST
DTSTART:20241103T060000
END:STANDARD
BEGIN:DAYLIGHT
TZOFFSETFROM:-0500
TZOFFSETTO:-0400
TZNAME:EDT
DTSTART:20250309T070000
END:DAYLIGHT
BEGIN:STANDARD
TZOFFSETFROM:-0400
TZOFFSETTO:-0500
TZNAME:EST
DTSTART:20251102T060000
END:STANDARD
END:VTIMEZONE
BEGIN:VEVENT
DTSTART;TZID=America/New_York:20240522T080000
DTEND;TZID=America/New_York:20240522T170000
DTSTAMP:20260423T182558
CREATED:20230916T213200Z
LAST-MODIFIED:20230916T213333Z
UID:10006353-1716364800-1716397200@tapestrycharter.org
SUMMARY:Early Release: First / Last Day Semester
DESCRIPTION:
URL:https://tapestrycharter.org/event/first-last-day-semester/
CATEGORIES:First / Last Day of Semester
END:VEVENT
BEGIN:VEVENT
DTSTART;TZID=America/New_York:20231215T080000
DTEND;TZID=America/New_York:20231215T170000
DTSTAMP:20260423T182558
CREATED:20230916T210424Z
LAST-MODIFIED:20231211T145707Z
UID:10006344-1702627200-1702659600@tapestrycharter.org
SUMMARY:F/L Day of Semester
DESCRIPTION:
URL:https://tapestrycharter.org/event/first-last-day-of-semester-2/
CATEGORIES:First / Last Day of Semester
END:VEVENT
BEGIN:VEVENT
DTSTART;TZID=America/New_York:20230807T080000
DTEND;TZID=America/New_York:20230807T153000
DTSTAMP:20260423T182558
CREATED:20230725T175645Z
LAST-MODIFIED:20230725T175822Z
UID:10006329-1691395200-1691422200@tapestrycharter.org
SUMMARY:First Day of School for 2023-2024 School Year
DESCRIPTION:Welcome back!
URL:https://tapestrycharter.org/event/first-day-of-school-for-2023-2024-school-year/
CATEGORIES:First / Last Day of Semester
END:VEVENT
BEGIN:VEVENT
DTSTART;VALUE=DATE:20230524
DTEND;VALUE=DATE:20230525
DTSTAMP:20260423T182558
CREATED:20221002T234906Z
LAST-MODIFIED:20221002T235122Z
UID:10006051-1684886400-1684972799@tapestrycharter.org
SUMMARY:First & Last Day of Semester / Early Release
DESCRIPTION:
URL:https://tapestrycharter.org/event/first-last-day-of-semester/
CATEGORIES:First / Last Day of Semester
END:VEVENT
BEGIN:VEVENT
DTSTART;VALUE=DATE:20221216
DTEND;VALUE=DATE:20221217
DTSTAMP:20260423T182558
CREATED:20221002T234143Z
LAST-MODIFIED:20221002T234143Z
UID:10006046-1671148800-1671235199@tapestrycharter.org
SUMMARY:First & Lasst Day of Semester
DESCRIPTION:
URL:https://tapestrycharter.org/event/first-lasst-day-of-semester/
CATEGORIES:First / Last Day of Semester
END:VEVENT
END:VCALENDAR