BEGIN:VCALENDAR
VERSION:2.0
PRODID:-//Tapestry Public Charter School - ECPv6.15.20//NONSGML v1.0//EN
CALSCALE:GREGORIAN
METHOD:PUBLISH
X-ORIGINAL-URL:https://tapestrycharter.org
X-WR-CALDESC:Events for Tapestry Public Charter School
REFRESH-INTERVAL;VALUE=DURATION:PT1H
X-Robots-Tag:noindex
X-PUBLISHED-TTL:PT1H
BEGIN:VTIMEZONE
TZID:America/New_York
BEGIN:DAYLIGHT
TZOFFSETFROM:-0500
TZOFFSETTO:-0400
TZNAME:EDT
DTSTART:20210314T070000
END:DAYLIGHT
BEGIN:STANDARD
TZOFFSETFROM:-0400
TZOFFSETTO:-0500
TZNAME:EST
DTSTART:20211107T060000
END:STANDARD
BEGIN:DAYLIGHT
TZOFFSETFROM:-0500
TZOFFSETTO:-0400
TZNAME:EDT
DTSTART:20220313T070000
END:DAYLIGHT
BEGIN:STANDARD
TZOFFSETFROM:-0400
TZOFFSETTO:-0500
TZNAME:EST
DTSTART:20221106T060000
END:STANDARD
BEGIN:DAYLIGHT
TZOFFSETFROM:-0500
TZOFFSETTO:-0400
TZNAME:EDT
DTSTART:20230312T070000
END:DAYLIGHT
BEGIN:STANDARD
TZOFFSETFROM:-0400
TZOFFSETTO:-0500
TZNAME:EST
DTSTART:20231105T060000
END:STANDARD
END:VTIMEZONE
BEGIN:VEVENT
DTSTART;TZID=America/New_York:20221127T180000
DTEND;TZID=America/New_York:20221127T193000
DTSTAMP:20260424T082301
CREATED:20221003T010855Z
LAST-MODIFIED:20221003T011309Z
UID:10006106-1669572000-1669577400@tapestrycharter.org
SUMMARY:PTO / General Membership Meeting
DESCRIPTION:Tuesday\, August 30\, 2022 6:00pm\nThursday\, October 20\, 2022 6:00pm\nThursday\, December 8\, 2022 6:00pm\nThursday\, January 12\, 2023 6:00pm\nThursday\, March 23\, 2023 6:00pm\nThursday\, May 4\, 2023 6:00pm
URL:https://tapestrycharter.org/event/general-membership-pto-meeting/2022-11-27/
CATEGORIES:PTO
END:VEVENT
BEGIN:VEVENT
DTSTART;TZID=America/New_York:20221126T180000
DTEND;TZID=America/New_York:20221126T193000
DTSTAMP:20260424T082301
CREATED:20221003T010855Z
LAST-MODIFIED:20221003T011309Z
UID:10006105-1669485600-1669491000@tapestrycharter.org
SUMMARY:PTO / General Membership Meeting
DESCRIPTION:Tuesday\, August 30\, 2022 6:00pm\nThursday\, October 20\, 2022 6:00pm\nThursday\, December 8\, 2022 6:00pm\nThursday\, January 12\, 2023 6:00pm\nThursday\, March 23\, 2023 6:00pm\nThursday\, May 4\, 2023 6:00pm
URL:https://tapestrycharter.org/event/general-membership-pto-meeting/2022-11-26/
CATEGORIES:PTO
END:VEVENT
BEGIN:VEVENT
DTSTART;TZID=America/New_York:20221125T180000
DTEND;TZID=America/New_York:20221125T193000
DTSTAMP:20260424T082301
CREATED:20221003T010855Z
LAST-MODIFIED:20221003T011309Z
UID:10006104-1669399200-1669404600@tapestrycharter.org
SUMMARY:PTO / General Membership Meeting
DESCRIPTION:Tuesday\, August 30\, 2022 6:00pm\nThursday\, October 20\, 2022 6:00pm\nThursday\, December 8\, 2022 6:00pm\nThursday\, January 12\, 2023 6:00pm\nThursday\, March 23\, 2023 6:00pm\nThursday\, May 4\, 2023 6:00pm
URL:https://tapestrycharter.org/event/general-membership-pto-meeting/2022-11-25/
CATEGORIES:PTO
END:VEVENT
BEGIN:VEVENT
DTSTART;TZID=America/New_York:20221124T180000
DTEND;TZID=America/New_York:20221124T193000
DTSTAMP:20260424T082301
CREATED:20221003T010855Z
LAST-MODIFIED:20221003T011309Z
UID:10006103-1669312800-1669318200@tapestrycharter.org
SUMMARY:PTO / General Membership Meeting
DESCRIPTION:Tuesday\, August 30\, 2022 6:00pm\nThursday\, October 20\, 2022 6:00pm\nThursday\, December 8\, 2022 6:00pm\nThursday\, January 12\, 2023 6:00pm\nThursday\, March 23\, 2023 6:00pm\nThursday\, May 4\, 2023 6:00pm
URL:https://tapestrycharter.org/event/general-membership-pto-meeting/2022-11-24/
CATEGORIES:PTO
END:VEVENT
BEGIN:VEVENT
DTSTART;TZID=America/New_York:20221123T180000
DTEND;TZID=America/New_York:20221123T193000
DTSTAMP:20260424T082301
CREATED:20221003T010855Z
LAST-MODIFIED:20221003T011309Z
UID:10006102-1669226400-1669231800@tapestrycharter.org
SUMMARY:PTO / General Membership Meeting
DESCRIPTION:Tuesday\, August 30\, 2022 6:00pm\nThursday\, October 20\, 2022 6:00pm\nThursday\, December 8\, 2022 6:00pm\nThursday\, January 12\, 2023 6:00pm\nThursday\, March 23\, 2023 6:00pm\nThursday\, May 4\, 2023 6:00pm
URL:https://tapestrycharter.org/event/general-membership-pto-meeting/2022-11-23/
CATEGORIES:PTO
END:VEVENT
BEGIN:VEVENT
DTSTART;TZID=America/New_York:20221122T180000
DTEND;TZID=America/New_York:20221122T193000
DTSTAMP:20260424T082301
CREATED:20221003T010855Z
LAST-MODIFIED:20221003T011309Z
UID:10006101-1669140000-1669145400@tapestrycharter.org
SUMMARY:PTO / General Membership Meeting
DESCRIPTION:Tuesday\, August 30\, 2022 6:00pm\nThursday\, October 20\, 2022 6:00pm\nThursday\, December 8\, 2022 6:00pm\nThursday\, January 12\, 2023 6:00pm\nThursday\, March 23\, 2023 6:00pm\nThursday\, May 4\, 2023 6:00pm
URL:https://tapestrycharter.org/event/general-membership-pto-meeting/2022-11-22/
CATEGORIES:PTO
END:VEVENT
BEGIN:VEVENT
DTSTART;TZID=America/New_York:20221121T180000
DTEND;TZID=America/New_York:20221121T193000
DTSTAMP:20260424T082301
CREATED:20221003T010855Z
LAST-MODIFIED:20221003T011309Z
UID:10006100-1669053600-1669059000@tapestrycharter.org
SUMMARY:PTO / General Membership Meeting
DESCRIPTION:Tuesday\, August 30\, 2022 6:00pm\nThursday\, October 20\, 2022 6:00pm\nThursday\, December 8\, 2022 6:00pm\nThursday\, January 12\, 2023 6:00pm\nThursday\, March 23\, 2023 6:00pm\nThursday\, May 4\, 2023 6:00pm
URL:https://tapestrycharter.org/event/general-membership-pto-meeting/2022-11-21/
CATEGORIES:PTO
END:VEVENT
BEGIN:VEVENT
DTSTART;TZID=America/New_York:20221120T180000
DTEND;TZID=America/New_York:20221120T193000
DTSTAMP:20260424T082301
CREATED:20221003T010855Z
LAST-MODIFIED:20221003T011309Z
UID:10006099-1668967200-1668972600@tapestrycharter.org
SUMMARY:PTO / General Membership Meeting
DESCRIPTION:Tuesday\, August 30\, 2022 6:00pm\nThursday\, October 20\, 2022 6:00pm\nThursday\, December 8\, 2022 6:00pm\nThursday\, January 12\, 2023 6:00pm\nThursday\, March 23\, 2023 6:00pm\nThursday\, May 4\, 2023 6:00pm
URL:https://tapestrycharter.org/event/general-membership-pto-meeting/2022-11-20/
CATEGORIES:PTO
END:VEVENT
BEGIN:VEVENT
DTSTART;TZID=America/New_York:20221119T180000
DTEND;TZID=America/New_York:20221119T193000
DTSTAMP:20260424T082301
CREATED:20221003T010855Z
LAST-MODIFIED:20221003T011309Z
UID:10006098-1668880800-1668886200@tapestrycharter.org
SUMMARY:PTO / General Membership Meeting
DESCRIPTION:Tuesday\, August 30\, 2022 6:00pm\nThursday\, October 20\, 2022 6:00pm\nThursday\, December 8\, 2022 6:00pm\nThursday\, January 12\, 2023 6:00pm\nThursday\, March 23\, 2023 6:00pm\nThursday\, May 4\, 2023 6:00pm
URL:https://tapestrycharter.org/event/general-membership-pto-meeting/2022-11-19/
CATEGORIES:PTO
END:VEVENT
BEGIN:VEVENT
DTSTART;TZID=America/New_York:20221118T180000
DTEND;TZID=America/New_York:20221118T193000
DTSTAMP:20260424T082301
CREATED:20221003T010855Z
LAST-MODIFIED:20221003T011309Z
UID:10006097-1668794400-1668799800@tapestrycharter.org
SUMMARY:PTO / General Membership Meeting
DESCRIPTION:Tuesday\, August 30\, 2022 6:00pm\nThursday\, October 20\, 2022 6:00pm\nThursday\, December 8\, 2022 6:00pm\nThursday\, January 12\, 2023 6:00pm\nThursday\, March 23\, 2023 6:00pm\nThursday\, May 4\, 2023 6:00pm
URL:https://tapestrycharter.org/event/general-membership-pto-meeting/2022-11-18/
CATEGORIES:PTO
END:VEVENT
BEGIN:VEVENT
DTSTART;TZID=America/New_York:20221117T180000
DTEND;TZID=America/New_York:20221117T193000
DTSTAMP:20260424T082301
CREATED:20221003T010855Z
LAST-MODIFIED:20221003T011309Z
UID:10006096-1668708000-1668713400@tapestrycharter.org
SUMMARY:PTO / General Membership Meeting
DESCRIPTION:Tuesday\, August 30\, 2022 6:00pm\nThursday\, October 20\, 2022 6:00pm\nThursday\, December 8\, 2022 6:00pm\nThursday\, January 12\, 2023 6:00pm\nThursday\, March 23\, 2023 6:00pm\nThursday\, May 4\, 2023 6:00pm
URL:https://tapestrycharter.org/event/general-membership-pto-meeting/2022-11-17/
CATEGORIES:PTO
END:VEVENT
BEGIN:VEVENT
DTSTART;TZID=America/New_York:20221116T180000
DTEND;TZID=America/New_York:20221116T193000
DTSTAMP:20260424T082301
CREATED:20221003T010855Z
LAST-MODIFIED:20221003T011309Z
UID:10006095-1668621600-1668627000@tapestrycharter.org
SUMMARY:PTO / General Membership Meeting
DESCRIPTION:Tuesday\, August 30\, 2022 6:00pm\nThursday\, October 20\, 2022 6:00pm\nThursday\, December 8\, 2022 6:00pm\nThursday\, January 12\, 2023 6:00pm\nThursday\, March 23\, 2023 6:00pm\nThursday\, May 4\, 2023 6:00pm
URL:https://tapestrycharter.org/event/general-membership-pto-meeting/2022-11-16/
CATEGORIES:PTO
END:VEVENT
BEGIN:VEVENT
DTSTART;TZID=America/New_York:20221115T180000
DTEND;TZID=America/New_York:20221115T193000
DTSTAMP:20260424T082301
CREATED:20221003T010855Z
LAST-MODIFIED:20221003T011309Z
UID:10006094-1668535200-1668540600@tapestrycharter.org
SUMMARY:PTO / General Membership Meeting
DESCRIPTION:Tuesday\, August 30\, 2022 6:00pm\nThursday\, October 20\, 2022 6:00pm\nThursday\, December 8\, 2022 6:00pm\nThursday\, January 12\, 2023 6:00pm\nThursday\, March 23\, 2023 6:00pm\nThursday\, May 4\, 2023 6:00pm
URL:https://tapestrycharter.org/event/general-membership-pto-meeting/2022-11-15/
CATEGORIES:PTO
END:VEVENT
BEGIN:VEVENT
DTSTART;TZID=America/New_York:20221114T180000
DTEND;TZID=America/New_York:20221114T193000
DTSTAMP:20260424T082301
CREATED:20221003T010855Z
LAST-MODIFIED:20221003T011309Z
UID:10006093-1668448800-1668454200@tapestrycharter.org
SUMMARY:PTO / General Membership Meeting
DESCRIPTION:Tuesday\, August 30\, 2022 6:00pm\nThursday\, October 20\, 2022 6:00pm\nThursday\, December 8\, 2022 6:00pm\nThursday\, January 12\, 2023 6:00pm\nThursday\, March 23\, 2023 6:00pm\nThursday\, May 4\, 2023 6:00pm
URL:https://tapestrycharter.org/event/general-membership-pto-meeting/2022-11-14/
CATEGORIES:PTO
END:VEVENT
BEGIN:VEVENT
DTSTART;TZID=America/New_York:20221113T180000
DTEND;TZID=America/New_York:20221113T193000
DTSTAMP:20260424T082301
CREATED:20221003T010855Z
LAST-MODIFIED:20221003T011309Z
UID:10006092-1668362400-1668367800@tapestrycharter.org
SUMMARY:PTO / General Membership Meeting
DESCRIPTION:Tuesday\, August 30\, 2022 6:00pm\nThursday\, October 20\, 2022 6:00pm\nThursday\, December 8\, 2022 6:00pm\nThursday\, January 12\, 2023 6:00pm\nThursday\, March 23\, 2023 6:00pm\nThursday\, May 4\, 2023 6:00pm
URL:https://tapestrycharter.org/event/general-membership-pto-meeting/2022-11-13/
CATEGORIES:PTO
END:VEVENT
BEGIN:VEVENT
DTSTART;TZID=America/New_York:20221112T180000
DTEND;TZID=America/New_York:20221112T193000
DTSTAMP:20260424T082301
CREATED:20221003T010855Z
LAST-MODIFIED:20221003T011309Z
UID:10006091-1668276000-1668281400@tapestrycharter.org
SUMMARY:PTO / General Membership Meeting
DESCRIPTION:Tuesday\, August 30\, 2022 6:00pm\nThursday\, October 20\, 2022 6:00pm\nThursday\, December 8\, 2022 6:00pm\nThursday\, January 12\, 2023 6:00pm\nThursday\, March 23\, 2023 6:00pm\nThursday\, May 4\, 2023 6:00pm
URL:https://tapestrycharter.org/event/general-membership-pto-meeting/2022-11-12/
CATEGORIES:PTO
END:VEVENT
BEGIN:VEVENT
DTSTART;TZID=America/New_York:20221111T180000
DTEND;TZID=America/New_York:20221111T193000
DTSTAMP:20260424T082301
CREATED:20221003T010855Z
LAST-MODIFIED:20221003T011309Z
UID:10006090-1668189600-1668195000@tapestrycharter.org
SUMMARY:PTO / General Membership Meeting
DESCRIPTION:Tuesday\, August 30\, 2022 6:00pm\nThursday\, October 20\, 2022 6:00pm\nThursday\, December 8\, 2022 6:00pm\nThursday\, January 12\, 2023 6:00pm\nThursday\, March 23\, 2023 6:00pm\nThursday\, May 4\, 2023 6:00pm
URL:https://tapestrycharter.org/event/general-membership-pto-meeting/2022-11-11/
CATEGORIES:PTO
END:VEVENT
BEGIN:VEVENT
DTSTART;TZID=America/New_York:20221110T180000
DTEND;TZID=America/New_York:20221110T193000
DTSTAMP:20260424T082301
CREATED:20221003T010855Z
LAST-MODIFIED:20221003T011309Z
UID:10006089-1668103200-1668108600@tapestrycharter.org
SUMMARY:PTO / General Membership Meeting
DESCRIPTION:Tuesday\, August 30\, 2022 6:00pm\nThursday\, October 20\, 2022 6:00pm\nThursday\, December 8\, 2022 6:00pm\nThursday\, January 12\, 2023 6:00pm\nThursday\, March 23\, 2023 6:00pm\nThursday\, May 4\, 2023 6:00pm
URL:https://tapestrycharter.org/event/general-membership-pto-meeting/2022-11-10/
CATEGORIES:PTO
END:VEVENT
BEGIN:VEVENT
DTSTART;TZID=America/New_York:20221109T180000
DTEND;TZID=America/New_York:20221109T193000
DTSTAMP:20260424T082301
CREATED:20221003T010855Z
LAST-MODIFIED:20221003T011309Z
UID:10006088-1668016800-1668022200@tapestrycharter.org
SUMMARY:PTO / General Membership Meeting
DESCRIPTION:Tuesday\, August 30\, 2022 6:00pm\nThursday\, October 20\, 2022 6:00pm\nThursday\, December 8\, 2022 6:00pm\nThursday\, January 12\, 2023 6:00pm\nThursday\, March 23\, 2023 6:00pm\nThursday\, May 4\, 2023 6:00pm
URL:https://tapestrycharter.org/event/general-membership-pto-meeting/2022-11-09/
CATEGORIES:PTO
END:VEVENT
BEGIN:VEVENT
DTSTART;TZID=America/New_York:20221108T180000
DTEND;TZID=America/New_York:20221108T193000
DTSTAMP:20260424T082301
CREATED:20221003T010855Z
LAST-MODIFIED:20221003T011309Z
UID:10006087-1667930400-1667935800@tapestrycharter.org
SUMMARY:PTO / General Membership Meeting
DESCRIPTION:Tuesday\, August 30\, 2022 6:00pm\nThursday\, October 20\, 2022 6:00pm\nThursday\, December 8\, 2022 6:00pm\nThursday\, January 12\, 2023 6:00pm\nThursday\, March 23\, 2023 6:00pm\nThursday\, May 4\, 2023 6:00pm
URL:https://tapestrycharter.org/event/general-membership-pto-meeting/2022-11-08/
CATEGORIES:PTO
END:VEVENT
BEGIN:VEVENT
DTSTART;TZID=America/New_York:20221107T180000
DTEND;TZID=America/New_York:20221107T193000
DTSTAMP:20260424T082301
CREATED:20221003T010855Z
LAST-MODIFIED:20221003T011309Z
UID:10006086-1667844000-1667849400@tapestrycharter.org
SUMMARY:PTO / General Membership Meeting
DESCRIPTION:Tuesday\, August 30\, 2022 6:00pm\nThursday\, October 20\, 2022 6:00pm\nThursday\, December 8\, 2022 6:00pm\nThursday\, January 12\, 2023 6:00pm\nThursday\, March 23\, 2023 6:00pm\nThursday\, May 4\, 2023 6:00pm
URL:https://tapestrycharter.org/event/general-membership-pto-meeting/2022-11-07/
CATEGORIES:PTO
END:VEVENT
BEGIN:VEVENT
DTSTART;TZID=America/New_York:20221106T180000
DTEND;TZID=America/New_York:20221106T193000
DTSTAMP:20260424T082301
CREATED:20221003T010855Z
LAST-MODIFIED:20221003T011309Z
UID:10006085-1667757600-1667763000@tapestrycharter.org
SUMMARY:PTO / General Membership Meeting
DESCRIPTION:Tuesday\, August 30\, 2022 6:00pm\nThursday\, October 20\, 2022 6:00pm\nThursday\, December 8\, 2022 6:00pm\nThursday\, January 12\, 2023 6:00pm\nThursday\, March 23\, 2023 6:00pm\nThursday\, May 4\, 2023 6:00pm
URL:https://tapestrycharter.org/event/general-membership-pto-meeting/2022-11-06/
CATEGORIES:PTO
END:VEVENT
BEGIN:VEVENT
DTSTART;TZID=America/New_York:20221105T180000
DTEND;TZID=America/New_York:20221105T193000
DTSTAMP:20260424T082301
CREATED:20221003T010855Z
LAST-MODIFIED:20221003T011309Z
UID:10006084-1667671200-1667676600@tapestrycharter.org
SUMMARY:PTO / General Membership Meeting
DESCRIPTION:Tuesday\, August 30\, 2022 6:00pm\nThursday\, October 20\, 2022 6:00pm\nThursday\, December 8\, 2022 6:00pm\nThursday\, January 12\, 2023 6:00pm\nThursday\, March 23\, 2023 6:00pm\nThursday\, May 4\, 2023 6:00pm
URL:https://tapestrycharter.org/event/general-membership-pto-meeting/2022-11-05/
CATEGORIES:PTO
END:VEVENT
BEGIN:VEVENT
DTSTART;TZID=America/New_York:20221104T180000
DTEND;TZID=America/New_York:20221104T193000
DTSTAMP:20260424T082301
CREATED:20221003T010855Z
LAST-MODIFIED:20221003T011309Z
UID:10006083-1667584800-1667590200@tapestrycharter.org
SUMMARY:PTO / General Membership Meeting
DESCRIPTION:Tuesday\, August 30\, 2022 6:00pm\nThursday\, October 20\, 2022 6:00pm\nThursday\, December 8\, 2022 6:00pm\nThursday\, January 12\, 2023 6:00pm\nThursday\, March 23\, 2023 6:00pm\nThursday\, May 4\, 2023 6:00pm
URL:https://tapestrycharter.org/event/general-membership-pto-meeting/2022-11-04/
CATEGORIES:PTO
END:VEVENT
BEGIN:VEVENT
DTSTART;TZID=America/New_York:20221103T180000
DTEND;TZID=America/New_York:20221103T193000
DTSTAMP:20260424T082301
CREATED:20221003T010855Z
LAST-MODIFIED:20221003T011309Z
UID:10006082-1667498400-1667503800@tapestrycharter.org
SUMMARY:PTO / General Membership Meeting
DESCRIPTION:Tuesday\, August 30\, 2022 6:00pm\nThursday\, October 20\, 2022 6:00pm\nThursday\, December 8\, 2022 6:00pm\nThursday\, January 12\, 2023 6:00pm\nThursday\, March 23\, 2023 6:00pm\nThursday\, May 4\, 2023 6:00pm
URL:https://tapestrycharter.org/event/general-membership-pto-meeting/2022-11-03/
CATEGORIES:PTO
END:VEVENT
BEGIN:VEVENT
DTSTART;TZID=America/New_York:20221102T180000
DTEND;TZID=America/New_York:20221102T193000
DTSTAMP:20260424T082301
CREATED:20221003T010855Z
LAST-MODIFIED:20221003T011309Z
UID:10006081-1667412000-1667417400@tapestrycharter.org
SUMMARY:PTO / General Membership Meeting
DESCRIPTION:Tuesday\, August 30\, 2022 6:00pm\nThursday\, October 20\, 2022 6:00pm\nThursday\, December 8\, 2022 6:00pm\nThursday\, January 12\, 2023 6:00pm\nThursday\, March 23\, 2023 6:00pm\nThursday\, May 4\, 2023 6:00pm
URL:https://tapestrycharter.org/event/general-membership-pto-meeting/2022-11-02/
CATEGORIES:PTO
END:VEVENT
BEGIN:VEVENT
DTSTART;TZID=America/New_York:20221101T180000
DTEND;TZID=America/New_York:20221101T193000
DTSTAMP:20260424T082301
CREATED:20221003T010855Z
LAST-MODIFIED:20221003T011309Z
UID:10006080-1667325600-1667331000@tapestrycharter.org
SUMMARY:PTO / General Membership Meeting
DESCRIPTION:Tuesday\, August 30\, 2022 6:00pm\nThursday\, October 20\, 2022 6:00pm\nThursday\, December 8\, 2022 6:00pm\nThursday\, January 12\, 2023 6:00pm\nThursday\, March 23\, 2023 6:00pm\nThursday\, May 4\, 2023 6:00pm
URL:https://tapestrycharter.org/event/general-membership-pto-meeting/2022-11-01/
CATEGORIES:PTO
END:VEVENT
BEGIN:VEVENT
DTSTART;TZID=America/New_York:20221031T180000
DTEND;TZID=America/New_York:20221031T193000
DTSTAMP:20260424T082301
CREATED:20221003T010855Z
LAST-MODIFIED:20221003T011309Z
UID:10006079-1667239200-1667244600@tapestrycharter.org
SUMMARY:PTO / General Membership Meeting
DESCRIPTION:Tuesday\, August 30\, 2022 6:00pm\nThursday\, October 20\, 2022 6:00pm\nThursday\, December 8\, 2022 6:00pm\nThursday\, January 12\, 2023 6:00pm\nThursday\, March 23\, 2023 6:00pm\nThursday\, May 4\, 2023 6:00pm
URL:https://tapestrycharter.org/event/general-membership-pto-meeting/2022-10-31/
CATEGORIES:PTO
END:VEVENT
BEGIN:VEVENT
DTSTART;TZID=America/New_York:20221030T180000
DTEND;TZID=America/New_York:20221030T193000
DTSTAMP:20260424T082301
CREATED:20221003T010855Z
LAST-MODIFIED:20221003T011309Z
UID:10006078-1667152800-1667158200@tapestrycharter.org
SUMMARY:PTO / General Membership Meeting
DESCRIPTION:Tuesday\, August 30\, 2022 6:00pm\nThursday\, October 20\, 2022 6:00pm\nThursday\, December 8\, 2022 6:00pm\nThursday\, January 12\, 2023 6:00pm\nThursday\, March 23\, 2023 6:00pm\nThursday\, May 4\, 2023 6:00pm
URL:https://tapestrycharter.org/event/general-membership-pto-meeting/2022-10-30/
CATEGORIES:PTO
END:VEVENT
BEGIN:VEVENT
DTSTART;TZID=America/New_York:20221029T180000
DTEND;TZID=America/New_York:20221029T193000
DTSTAMP:20260424T082301
CREATED:20221003T010855Z
LAST-MODIFIED:20221003T011309Z
UID:10006077-1667066400-1667071800@tapestrycharter.org
SUMMARY:PTO / General Membership Meeting
DESCRIPTION:Tuesday\, August 30\, 2022 6:00pm\nThursday\, October 20\, 2022 6:00pm\nThursday\, December 8\, 2022 6:00pm\nThursday\, January 12\, 2023 6:00pm\nThursday\, March 23\, 2023 6:00pm\nThursday\, May 4\, 2023 6:00pm
URL:https://tapestrycharter.org/event/general-membership-pto-meeting/2022-10-29/
CATEGORIES:PTO
END:VEVENT
END:VCALENDAR