BEGIN:VCALENDAR
VERSION:2.0
PRODID:-//Tapestry Public Charter School - ECPv6.15.20//NONSGML v1.0//EN
CALSCALE:GREGORIAN
METHOD:PUBLISH
X-ORIGINAL-URL:https://tapestrycharter.org
X-WR-CALDESC:Events for Tapestry Public Charter School
REFRESH-INTERVAL;VALUE=DURATION:PT1H
X-Robots-Tag:noindex
X-PUBLISHED-TTL:PT1H
BEGIN:VTIMEZONE
TZID:America/New_York
BEGIN:DAYLIGHT
TZOFFSETFROM:-0500
TZOFFSETTO:-0400
TZNAME:EDT
DTSTART:20210314T070000
END:DAYLIGHT
BEGIN:STANDARD
TZOFFSETFROM:-0400
TZOFFSETTO:-0500
TZNAME:EST
DTSTART:20211107T060000
END:STANDARD
BEGIN:DAYLIGHT
TZOFFSETFROM:-0500
TZOFFSETTO:-0400
TZNAME:EDT
DTSTART:20220313T070000
END:DAYLIGHT
BEGIN:STANDARD
TZOFFSETFROM:-0400
TZOFFSETTO:-0500
TZNAME:EST
DTSTART:20221106T060000
END:STANDARD
BEGIN:DAYLIGHT
TZOFFSETFROM:-0500
TZOFFSETTO:-0400
TZNAME:EDT
DTSTART:20230312T070000
END:DAYLIGHT
BEGIN:STANDARD
TZOFFSETFROM:-0400
TZOFFSETTO:-0500
TZNAME:EST
DTSTART:20231105T060000
END:STANDARD
BEGIN:DAYLIGHT
TZOFFSETFROM:-0500
TZOFFSETTO:-0400
TZNAME:EDT
DTSTART:20240310T070000
END:DAYLIGHT
BEGIN:STANDARD
TZOFFSETFROM:-0400
TZOFFSETTO:-0500
TZNAME:EST
DTSTART:20241103T060000
END:STANDARD
END:VTIMEZONE
BEGIN:VEVENT
DTSTART;TZID=America/New_York:20230105T180000
DTEND;TZID=America/New_York:20230105T193000
DTSTAMP:20260424T025101
CREATED:20221003T010855Z
LAST-MODIFIED:20221003T011309Z
UID:10006145-1672941600-1672947000@tapestrycharter.org
SUMMARY:PTO / General Membership Meeting
DESCRIPTION:Tuesday\, August 30\, 2022 6:00pm\nThursday\, October 20\, 2022 6:00pm\nThursday\, December 8\, 2022 6:00pm\nThursday\, January 12\, 2023 6:00pm\nThursday\, March 23\, 2023 6:00pm\nThursday\, May 4\, 2023 6:00pm
URL:https://tapestrycharter.org/event/general-membership-pto-meeting/2023-01-05/
CATEGORIES:PTO
END:VEVENT
BEGIN:VEVENT
DTSTART;TZID=America/New_York:20230104T180000
DTEND;TZID=America/New_York:20230104T193000
DTSTAMP:20260424T025101
CREATED:20221003T010855Z
LAST-MODIFIED:20221003T011309Z
UID:10006144-1672855200-1672860600@tapestrycharter.org
SUMMARY:PTO / General Membership Meeting
DESCRIPTION:Tuesday\, August 30\, 2022 6:00pm\nThursday\, October 20\, 2022 6:00pm\nThursday\, December 8\, 2022 6:00pm\nThursday\, January 12\, 2023 6:00pm\nThursday\, March 23\, 2023 6:00pm\nThursday\, May 4\, 2023 6:00pm
URL:https://tapestrycharter.org/event/general-membership-pto-meeting/2023-01-04/
CATEGORIES:PTO
END:VEVENT
BEGIN:VEVENT
DTSTART;TZID=America/New_York:20230103T180000
DTEND;TZID=America/New_York:20230103T193000
DTSTAMP:20260424T025101
CREATED:20221003T010855Z
LAST-MODIFIED:20221003T011309Z
UID:10006143-1672768800-1672774200@tapestrycharter.org
SUMMARY:PTO / General Membership Meeting
DESCRIPTION:Tuesday\, August 30\, 2022 6:00pm\nThursday\, October 20\, 2022 6:00pm\nThursday\, December 8\, 2022 6:00pm\nThursday\, January 12\, 2023 6:00pm\nThursday\, March 23\, 2023 6:00pm\nThursday\, May 4\, 2023 6:00pm
URL:https://tapestrycharter.org/event/general-membership-pto-meeting/2023-01-03/
CATEGORIES:PTO
END:VEVENT
BEGIN:VEVENT
DTSTART;TZID=America/New_York:20230102T180000
DTEND;TZID=America/New_York:20230102T193000
DTSTAMP:20260424T025101
CREATED:20221003T010855Z
LAST-MODIFIED:20221003T011309Z
UID:10006142-1672682400-1672687800@tapestrycharter.org
SUMMARY:PTO / General Membership Meeting
DESCRIPTION:Tuesday\, August 30\, 2022 6:00pm\nThursday\, October 20\, 2022 6:00pm\nThursday\, December 8\, 2022 6:00pm\nThursday\, January 12\, 2023 6:00pm\nThursday\, March 23\, 2023 6:00pm\nThursday\, May 4\, 2023 6:00pm
URL:https://tapestrycharter.org/event/general-membership-pto-meeting/2023-01-02/
CATEGORIES:PTO
END:VEVENT
BEGIN:VEVENT
DTSTART;TZID=America/New_York:20230101T180000
DTEND;TZID=America/New_York:20230101T193000
DTSTAMP:20260424T025101
CREATED:20221003T010855Z
LAST-MODIFIED:20221003T011309Z
UID:10006141-1672596000-1672601400@tapestrycharter.org
SUMMARY:PTO / General Membership Meeting
DESCRIPTION:Tuesday\, August 30\, 2022 6:00pm\nThursday\, October 20\, 2022 6:00pm\nThursday\, December 8\, 2022 6:00pm\nThursday\, January 12\, 2023 6:00pm\nThursday\, March 23\, 2023 6:00pm\nThursday\, May 4\, 2023 6:00pm
URL:https://tapestrycharter.org/event/general-membership-pto-meeting/2023-01-01/
CATEGORIES:PTO
END:VEVENT
BEGIN:VEVENT
DTSTART;TZID=America/New_York:20221231T180000
DTEND;TZID=America/New_York:20221231T193000
DTSTAMP:20260424T025101
CREATED:20221003T010855Z
LAST-MODIFIED:20221003T011309Z
UID:10006140-1672509600-1672515000@tapestrycharter.org
SUMMARY:PTO / General Membership Meeting
DESCRIPTION:Tuesday\, August 30\, 2022 6:00pm\nThursday\, October 20\, 2022 6:00pm\nThursday\, December 8\, 2022 6:00pm\nThursday\, January 12\, 2023 6:00pm\nThursday\, March 23\, 2023 6:00pm\nThursday\, May 4\, 2023 6:00pm
URL:https://tapestrycharter.org/event/general-membership-pto-meeting/2022-12-31/
CATEGORIES:PTO
END:VEVENT
BEGIN:VEVENT
DTSTART;TZID=America/New_York:20221230T180000
DTEND;TZID=America/New_York:20221230T193000
DTSTAMP:20260424T025101
CREATED:20221003T010855Z
LAST-MODIFIED:20221003T011309Z
UID:10006139-1672423200-1672428600@tapestrycharter.org
SUMMARY:PTO / General Membership Meeting
DESCRIPTION:Tuesday\, August 30\, 2022 6:00pm\nThursday\, October 20\, 2022 6:00pm\nThursday\, December 8\, 2022 6:00pm\nThursday\, January 12\, 2023 6:00pm\nThursday\, March 23\, 2023 6:00pm\nThursday\, May 4\, 2023 6:00pm
URL:https://tapestrycharter.org/event/general-membership-pto-meeting/2022-12-30/
CATEGORIES:PTO
END:VEVENT
BEGIN:VEVENT
DTSTART;TZID=America/New_York:20221229T180000
DTEND;TZID=America/New_York:20221229T193000
DTSTAMP:20260424T025101
CREATED:20221003T010855Z
LAST-MODIFIED:20221003T011309Z
UID:10006138-1672336800-1672342200@tapestrycharter.org
SUMMARY:PTO / General Membership Meeting
DESCRIPTION:Tuesday\, August 30\, 2022 6:00pm\nThursday\, October 20\, 2022 6:00pm\nThursday\, December 8\, 2022 6:00pm\nThursday\, January 12\, 2023 6:00pm\nThursday\, March 23\, 2023 6:00pm\nThursday\, May 4\, 2023 6:00pm
URL:https://tapestrycharter.org/event/general-membership-pto-meeting/2022-12-29/
CATEGORIES:PTO
END:VEVENT
BEGIN:VEVENT
DTSTART;TZID=America/New_York:20221228T180000
DTEND;TZID=America/New_York:20221228T193000
DTSTAMP:20260424T025101
CREATED:20221003T010855Z
LAST-MODIFIED:20221003T011309Z
UID:10006137-1672250400-1672255800@tapestrycharter.org
SUMMARY:PTO / General Membership Meeting
DESCRIPTION:Tuesday\, August 30\, 2022 6:00pm\nThursday\, October 20\, 2022 6:00pm\nThursday\, December 8\, 2022 6:00pm\nThursday\, January 12\, 2023 6:00pm\nThursday\, March 23\, 2023 6:00pm\nThursday\, May 4\, 2023 6:00pm
URL:https://tapestrycharter.org/event/general-membership-pto-meeting/2022-12-28/
CATEGORIES:PTO
END:VEVENT
BEGIN:VEVENT
DTSTART;TZID=America/New_York:20221227T180000
DTEND;TZID=America/New_York:20221227T193000
DTSTAMP:20260424T025101
CREATED:20221003T010855Z
LAST-MODIFIED:20221003T011309Z
UID:10006136-1672164000-1672169400@tapestrycharter.org
SUMMARY:PTO / General Membership Meeting
DESCRIPTION:Tuesday\, August 30\, 2022 6:00pm\nThursday\, October 20\, 2022 6:00pm\nThursday\, December 8\, 2022 6:00pm\nThursday\, January 12\, 2023 6:00pm\nThursday\, March 23\, 2023 6:00pm\nThursday\, May 4\, 2023 6:00pm
URL:https://tapestrycharter.org/event/general-membership-pto-meeting/2022-12-27/
CATEGORIES:PTO
END:VEVENT
BEGIN:VEVENT
DTSTART;TZID=America/New_York:20221226T180000
DTEND;TZID=America/New_York:20221226T193000
DTSTAMP:20260424T025101
CREATED:20221003T010855Z
LAST-MODIFIED:20221003T011309Z
UID:10006135-1672077600-1672083000@tapestrycharter.org
SUMMARY:PTO / General Membership Meeting
DESCRIPTION:Tuesday\, August 30\, 2022 6:00pm\nThursday\, October 20\, 2022 6:00pm\nThursday\, December 8\, 2022 6:00pm\nThursday\, January 12\, 2023 6:00pm\nThursday\, March 23\, 2023 6:00pm\nThursday\, May 4\, 2023 6:00pm
URL:https://tapestrycharter.org/event/general-membership-pto-meeting/2022-12-26/
CATEGORIES:PTO
END:VEVENT
BEGIN:VEVENT
DTSTART;TZID=America/New_York:20221225T180000
DTEND;TZID=America/New_York:20221225T193000
DTSTAMP:20260424T025101
CREATED:20221003T010855Z
LAST-MODIFIED:20221003T011309Z
UID:10006134-1671991200-1671996600@tapestrycharter.org
SUMMARY:PTO / General Membership Meeting
DESCRIPTION:Tuesday\, August 30\, 2022 6:00pm\nThursday\, October 20\, 2022 6:00pm\nThursday\, December 8\, 2022 6:00pm\nThursday\, January 12\, 2023 6:00pm\nThursday\, March 23\, 2023 6:00pm\nThursday\, May 4\, 2023 6:00pm
URL:https://tapestrycharter.org/event/general-membership-pto-meeting/2022-12-25/
CATEGORIES:PTO
END:VEVENT
BEGIN:VEVENT
DTSTART;TZID=America/New_York:20221224T180000
DTEND;TZID=America/New_York:20221224T193000
DTSTAMP:20260424T025101
CREATED:20221003T010855Z
LAST-MODIFIED:20221003T011309Z
UID:10006133-1671904800-1671910200@tapestrycharter.org
SUMMARY:PTO / General Membership Meeting
DESCRIPTION:Tuesday\, August 30\, 2022 6:00pm\nThursday\, October 20\, 2022 6:00pm\nThursday\, December 8\, 2022 6:00pm\nThursday\, January 12\, 2023 6:00pm\nThursday\, March 23\, 2023 6:00pm\nThursday\, May 4\, 2023 6:00pm
URL:https://tapestrycharter.org/event/general-membership-pto-meeting/2022-12-24/
CATEGORIES:PTO
END:VEVENT
BEGIN:VEVENT
DTSTART;TZID=America/New_York:20221223T180000
DTEND;TZID=America/New_York:20221223T193000
DTSTAMP:20260424T025101
CREATED:20221003T010855Z
LAST-MODIFIED:20221003T011309Z
UID:10006132-1671818400-1671823800@tapestrycharter.org
SUMMARY:PTO / General Membership Meeting
DESCRIPTION:Tuesday\, August 30\, 2022 6:00pm\nThursday\, October 20\, 2022 6:00pm\nThursday\, December 8\, 2022 6:00pm\nThursday\, January 12\, 2023 6:00pm\nThursday\, March 23\, 2023 6:00pm\nThursday\, May 4\, 2023 6:00pm
URL:https://tapestrycharter.org/event/general-membership-pto-meeting/2022-12-23/
CATEGORIES:PTO
END:VEVENT
BEGIN:VEVENT
DTSTART;TZID=America/New_York:20221222T180000
DTEND;TZID=America/New_York:20221222T193000
DTSTAMP:20260424T025101
CREATED:20221003T010855Z
LAST-MODIFIED:20221003T011309Z
UID:10006131-1671732000-1671737400@tapestrycharter.org
SUMMARY:PTO / General Membership Meeting
DESCRIPTION:Tuesday\, August 30\, 2022 6:00pm\nThursday\, October 20\, 2022 6:00pm\nThursday\, December 8\, 2022 6:00pm\nThursday\, January 12\, 2023 6:00pm\nThursday\, March 23\, 2023 6:00pm\nThursday\, May 4\, 2023 6:00pm
URL:https://tapestrycharter.org/event/general-membership-pto-meeting/2022-12-22/
CATEGORIES:PTO
END:VEVENT
BEGIN:VEVENT
DTSTART;TZID=America/New_York:20221221T180000
DTEND;TZID=America/New_York:20221221T193000
DTSTAMP:20260424T025101
CREATED:20221003T010855Z
LAST-MODIFIED:20221003T011309Z
UID:10006130-1671645600-1671651000@tapestrycharter.org
SUMMARY:PTO / General Membership Meeting
DESCRIPTION:Tuesday\, August 30\, 2022 6:00pm\nThursday\, October 20\, 2022 6:00pm\nThursday\, December 8\, 2022 6:00pm\nThursday\, January 12\, 2023 6:00pm\nThursday\, March 23\, 2023 6:00pm\nThursday\, May 4\, 2023 6:00pm
URL:https://tapestrycharter.org/event/general-membership-pto-meeting/2022-12-21/
CATEGORIES:PTO
END:VEVENT
BEGIN:VEVENT
DTSTART;TZID=America/New_York:20221220T180000
DTEND;TZID=America/New_York:20221220T193000
DTSTAMP:20260424T025101
CREATED:20221003T010855Z
LAST-MODIFIED:20221003T011309Z
UID:10006129-1671559200-1671564600@tapestrycharter.org
SUMMARY:PTO / General Membership Meeting
DESCRIPTION:Tuesday\, August 30\, 2022 6:00pm\nThursday\, October 20\, 2022 6:00pm\nThursday\, December 8\, 2022 6:00pm\nThursday\, January 12\, 2023 6:00pm\nThursday\, March 23\, 2023 6:00pm\nThursday\, May 4\, 2023 6:00pm
URL:https://tapestrycharter.org/event/general-membership-pto-meeting/2022-12-20/
CATEGORIES:PTO
END:VEVENT
BEGIN:VEVENT
DTSTART;TZID=America/New_York:20221219T180000
DTEND;TZID=America/New_York:20221219T193000
DTSTAMP:20260424T025101
CREATED:20221003T010855Z
LAST-MODIFIED:20221003T011309Z
UID:10006128-1671472800-1671478200@tapestrycharter.org
SUMMARY:PTO / General Membership Meeting
DESCRIPTION:Tuesday\, August 30\, 2022 6:00pm\nThursday\, October 20\, 2022 6:00pm\nThursday\, December 8\, 2022 6:00pm\nThursday\, January 12\, 2023 6:00pm\nThursday\, March 23\, 2023 6:00pm\nThursday\, May 4\, 2023 6:00pm
URL:https://tapestrycharter.org/event/general-membership-pto-meeting/2022-12-19/
CATEGORIES:PTO
END:VEVENT
BEGIN:VEVENT
DTSTART;TZID=America/New_York:20221218T180000
DTEND;TZID=America/New_York:20221218T193000
DTSTAMP:20260424T025101
CREATED:20221003T010855Z
LAST-MODIFIED:20221003T011309Z
UID:10006127-1671386400-1671391800@tapestrycharter.org
SUMMARY:PTO / General Membership Meeting
DESCRIPTION:Tuesday\, August 30\, 2022 6:00pm\nThursday\, October 20\, 2022 6:00pm\nThursday\, December 8\, 2022 6:00pm\nThursday\, January 12\, 2023 6:00pm\nThursday\, March 23\, 2023 6:00pm\nThursday\, May 4\, 2023 6:00pm
URL:https://tapestrycharter.org/event/general-membership-pto-meeting/2022-12-18/
CATEGORIES:PTO
END:VEVENT
BEGIN:VEVENT
DTSTART;TZID=America/New_York:20221217T180000
DTEND;TZID=America/New_York:20221217T193000
DTSTAMP:20260424T025101
CREATED:20221003T010855Z
LAST-MODIFIED:20221003T011309Z
UID:10006126-1671300000-1671305400@tapestrycharter.org
SUMMARY:PTO / General Membership Meeting
DESCRIPTION:Tuesday\, August 30\, 2022 6:00pm\nThursday\, October 20\, 2022 6:00pm\nThursday\, December 8\, 2022 6:00pm\nThursday\, January 12\, 2023 6:00pm\nThursday\, March 23\, 2023 6:00pm\nThursday\, May 4\, 2023 6:00pm
URL:https://tapestrycharter.org/event/general-membership-pto-meeting/2022-12-17/
CATEGORIES:PTO
END:VEVENT
BEGIN:VEVENT
DTSTART;TZID=America/New_York:20221216T180000
DTEND;TZID=America/New_York:20221216T193000
DTSTAMP:20260424T025101
CREATED:20221003T010855Z
LAST-MODIFIED:20221003T011309Z
UID:10006125-1671213600-1671219000@tapestrycharter.org
SUMMARY:PTO / General Membership Meeting
DESCRIPTION:Tuesday\, August 30\, 2022 6:00pm\nThursday\, October 20\, 2022 6:00pm\nThursday\, December 8\, 2022 6:00pm\nThursday\, January 12\, 2023 6:00pm\nThursday\, March 23\, 2023 6:00pm\nThursday\, May 4\, 2023 6:00pm
URL:https://tapestrycharter.org/event/general-membership-pto-meeting/2022-12-16/
CATEGORIES:PTO
END:VEVENT
BEGIN:VEVENT
DTSTART;TZID=America/New_York:20221215T180000
DTEND;TZID=America/New_York:20221215T193000
DTSTAMP:20260424T025101
CREATED:20221003T010855Z
LAST-MODIFIED:20221003T011309Z
UID:10006124-1671127200-1671132600@tapestrycharter.org
SUMMARY:PTO / General Membership Meeting
DESCRIPTION:Tuesday\, August 30\, 2022 6:00pm\nThursday\, October 20\, 2022 6:00pm\nThursday\, December 8\, 2022 6:00pm\nThursday\, January 12\, 2023 6:00pm\nThursday\, March 23\, 2023 6:00pm\nThursday\, May 4\, 2023 6:00pm
URL:https://tapestrycharter.org/event/general-membership-pto-meeting/2022-12-15/
CATEGORIES:PTO
END:VEVENT
BEGIN:VEVENT
DTSTART;TZID=America/New_York:20221214T180000
DTEND;TZID=America/New_York:20221214T193000
DTSTAMP:20260424T025101
CREATED:20221003T010855Z
LAST-MODIFIED:20221003T011309Z
UID:10006123-1671040800-1671046200@tapestrycharter.org
SUMMARY:PTO / General Membership Meeting
DESCRIPTION:Tuesday\, August 30\, 2022 6:00pm\nThursday\, October 20\, 2022 6:00pm\nThursday\, December 8\, 2022 6:00pm\nThursday\, January 12\, 2023 6:00pm\nThursday\, March 23\, 2023 6:00pm\nThursday\, May 4\, 2023 6:00pm
URL:https://tapestrycharter.org/event/general-membership-pto-meeting/2022-12-14/
CATEGORIES:PTO
END:VEVENT
BEGIN:VEVENT
DTSTART;TZID=America/New_York:20221213T180000
DTEND;TZID=America/New_York:20221213T193000
DTSTAMP:20260424T025101
CREATED:20221003T010855Z
LAST-MODIFIED:20221003T011309Z
UID:10006122-1670954400-1670959800@tapestrycharter.org
SUMMARY:PTO / General Membership Meeting
DESCRIPTION:Tuesday\, August 30\, 2022 6:00pm\nThursday\, October 20\, 2022 6:00pm\nThursday\, December 8\, 2022 6:00pm\nThursday\, January 12\, 2023 6:00pm\nThursday\, March 23\, 2023 6:00pm\nThursday\, May 4\, 2023 6:00pm
URL:https://tapestrycharter.org/event/general-membership-pto-meeting/2022-12-13/
CATEGORIES:PTO
END:VEVENT
BEGIN:VEVENT
DTSTART;TZID=America/New_York:20221212T180000
DTEND;TZID=America/New_York:20221212T193000
DTSTAMP:20260424T025101
CREATED:20221003T010855Z
LAST-MODIFIED:20221003T011309Z
UID:10006121-1670868000-1670873400@tapestrycharter.org
SUMMARY:PTO / General Membership Meeting
DESCRIPTION:Tuesday\, August 30\, 2022 6:00pm\nThursday\, October 20\, 2022 6:00pm\nThursday\, December 8\, 2022 6:00pm\nThursday\, January 12\, 2023 6:00pm\nThursday\, March 23\, 2023 6:00pm\nThursday\, May 4\, 2023 6:00pm
URL:https://tapestrycharter.org/event/general-membership-pto-meeting/2022-12-12/
CATEGORIES:PTO
END:VEVENT
BEGIN:VEVENT
DTSTART;TZID=America/New_York:20221211T180000
DTEND;TZID=America/New_York:20221211T193000
DTSTAMP:20260424T025101
CREATED:20221003T010855Z
LAST-MODIFIED:20221003T011309Z
UID:10006120-1670781600-1670787000@tapestrycharter.org
SUMMARY:PTO / General Membership Meeting
DESCRIPTION:Tuesday\, August 30\, 2022 6:00pm\nThursday\, October 20\, 2022 6:00pm\nThursday\, December 8\, 2022 6:00pm\nThursday\, January 12\, 2023 6:00pm\nThursday\, March 23\, 2023 6:00pm\nThursday\, May 4\, 2023 6:00pm
URL:https://tapestrycharter.org/event/general-membership-pto-meeting/2022-12-11/
CATEGORIES:PTO
END:VEVENT
BEGIN:VEVENT
DTSTART;TZID=America/New_York:20221210T180000
DTEND;TZID=America/New_York:20221210T193000
DTSTAMP:20260424T025101
CREATED:20221003T010855Z
LAST-MODIFIED:20221003T011309Z
UID:10006119-1670695200-1670700600@tapestrycharter.org
SUMMARY:PTO / General Membership Meeting
DESCRIPTION:Tuesday\, August 30\, 2022 6:00pm\nThursday\, October 20\, 2022 6:00pm\nThursday\, December 8\, 2022 6:00pm\nThursday\, January 12\, 2023 6:00pm\nThursday\, March 23\, 2023 6:00pm\nThursday\, May 4\, 2023 6:00pm
URL:https://tapestrycharter.org/event/general-membership-pto-meeting/2022-12-10/
CATEGORIES:PTO
END:VEVENT
BEGIN:VEVENT
DTSTART;TZID=America/New_York:20221209T180000
DTEND;TZID=America/New_York:20221209T193000
DTSTAMP:20260424T025101
CREATED:20221003T010855Z
LAST-MODIFIED:20221003T011309Z
UID:10006118-1670608800-1670614200@tapestrycharter.org
SUMMARY:PTO / General Membership Meeting
DESCRIPTION:Tuesday\, August 30\, 2022 6:00pm\nThursday\, October 20\, 2022 6:00pm\nThursday\, December 8\, 2022 6:00pm\nThursday\, January 12\, 2023 6:00pm\nThursday\, March 23\, 2023 6:00pm\nThursday\, May 4\, 2023 6:00pm
URL:https://tapestrycharter.org/event/general-membership-pto-meeting/2022-12-09/
CATEGORIES:PTO
END:VEVENT
BEGIN:VEVENT
DTSTART;TZID=America/New_York:20221208T180000
DTEND;TZID=America/New_York:20221208T193000
DTSTAMP:20260424T025101
CREATED:20221003T010855Z
LAST-MODIFIED:20221003T011309Z
UID:10006117-1670522400-1670527800@tapestrycharter.org
SUMMARY:PTO / General Membership Meeting
DESCRIPTION:Tuesday\, August 30\, 2022 6:00pm\nThursday\, October 20\, 2022 6:00pm\nThursday\, December 8\, 2022 6:00pm\nThursday\, January 12\, 2023 6:00pm\nThursday\, March 23\, 2023 6:00pm\nThursday\, May 4\, 2023 6:00pm
URL:https://tapestrycharter.org/event/general-membership-pto-meeting/2022-12-08/
CATEGORIES:PTO
END:VEVENT
BEGIN:VEVENT
DTSTART;TZID=America/New_York:20221208T180000
DTEND;TZID=America/New_York:20221208T180000
DTSTAMP:20260424T025101
CREATED:20221003T011235Z
LAST-MODIFIED:20221003T011235Z
UID:10006192-1670522400-1670522400@tapestrycharter.org
SUMMARY:PTO / General Membership Meeting
DESCRIPTION:Tuesday\, August 30\, 2022 6:00pm\nThursday\, October 20\, 2022 6:00pm\nThursday\, December 8\, 2022 6:00pm\nThursday\, January 12\, 2023 6:00pm\nThursday\, March 23\, 2023 6:00pm\nThursday\, May 4\, 2023 6:00pm
URL:https://tapestrycharter.org/event/pto-general-membership-meeting/
CATEGORIES:PTO
END:VEVENT
END:VCALENDAR