BEGIN:VCALENDAR
VERSION:2.0
PRODID:-//Tapestry Public Charter School - ECPv6.15.20//NONSGML v1.0//EN
CALSCALE:GREGORIAN
METHOD:PUBLISH
X-WR-CALNAME:Tapestry Public Charter School
X-ORIGINAL-URL:https://tapestrycharter.org
X-WR-CALDESC:Events for Tapestry Public Charter School
REFRESH-INTERVAL;VALUE=DURATION:PT1H
X-Robots-Tag:noindex
X-PUBLISHED-TTL:PT1H
BEGIN:VTIMEZONE
TZID:America/New_York
BEGIN:DAYLIGHT
TZOFFSETFROM:-0500
TZOFFSETTO:-0400
TZNAME:EDT
DTSTART:20210314T070000
END:DAYLIGHT
BEGIN:STANDARD
TZOFFSETFROM:-0400
TZOFFSETTO:-0500
TZNAME:EST
DTSTART:20211107T060000
END:STANDARD
BEGIN:DAYLIGHT
TZOFFSETFROM:-0500
TZOFFSETTO:-0400
TZNAME:EDT
DTSTART:20220313T070000
END:DAYLIGHT
BEGIN:STANDARD
TZOFFSETFROM:-0400
TZOFFSETTO:-0500
TZNAME:EST
DTSTART:20221106T060000
END:STANDARD
BEGIN:DAYLIGHT
TZOFFSETFROM:-0500
TZOFFSETTO:-0400
TZNAME:EDT
DTSTART:20230312T070000
END:DAYLIGHT
BEGIN:STANDARD
TZOFFSETFROM:-0400
TZOFFSETTO:-0500
TZNAME:EST
DTSTART:20231105T060000
END:STANDARD
BEGIN:DAYLIGHT
TZOFFSETFROM:-0500
TZOFFSETTO:-0400
TZNAME:EDT
DTSTART:20240310T070000
END:DAYLIGHT
BEGIN:STANDARD
TZOFFSETFROM:-0400
TZOFFSETTO:-0500
TZNAME:EST
DTSTART:20241103T060000
END:STANDARD
BEGIN:DAYLIGHT
TZOFFSETFROM:-0500
TZOFFSETTO:-0400
TZNAME:EDT
DTSTART:20250309T070000
END:DAYLIGHT
BEGIN:STANDARD
TZOFFSETFROM:-0400
TZOFFSETTO:-0500
TZNAME:EST
DTSTART:20251102T060000
END:STANDARD
END:VTIMEZONE
BEGIN:VEVENT
DTSTART;TZID=America/New_York:20240527T080000
DTEND;TZID=America/New_York:20240527T170000
DTSTAMP:20260423T165348
CREATED:20230916T213431Z
LAST-MODIFIED:20230916T213431Z
UID:10006355-1716796800-1716829200@tapestrycharter.org
SUMMARY:School Closed
DESCRIPTION:Memorial Day
URL:https://tapestrycharter.org/event/school-closed-3/
CATEGORIES:Holiday,School Closed
END:VEVENT
BEGIN:VEVENT
DTSTART;TZID=America/New_York:20240401T080000
DTEND;TZID=America/New_York:20240405T170000
DTSTAMP:20260423T165348
CREATED:20230916T213021Z
LAST-MODIFIED:20230916T213021Z
UID:10006352-1711958400-1712336400@tapestrycharter.org
SUMMARY:Spring Break
DESCRIPTION:
URL:https://tapestrycharter.org/event/spring-break-2/
CATEGORIES:School Closed
END:VEVENT
BEGIN:VEVENT
DTSTART;TZID=America/New_York:20240219T080000
DTEND;TZID=America/New_York:20240219T170000
DTSTAMP:20260423T165348
CREATED:20230916T212714Z
LAST-MODIFIED:20230916T212808Z
UID:10006351-1708329600-1708362000@tapestrycharter.org
SUMMARY:School Closed
DESCRIPTION:
URL:https://tapestrycharter.org/event/school-closed-2/
CATEGORIES:School Closed
END:VEVENT
BEGIN:VEVENT
DTSTART;TZID=America/New_York:20240102T080000
DTEND;TZID=America/New_York:20240102T170000
DTSTAMP:20260423T165348
CREATED:20230916T210745Z
LAST-MODIFIED:20230916T210745Z
UID:10006346-1704182400-1704214800@tapestrycharter.org
SUMMARY:Teacher Work Day / School Closed
DESCRIPTION:
URL:https://tapestrycharter.org/event/teacher-work-day-school-closed/
CATEGORIES:School Closed,Teacher Work Day / Professional Development
END:VEVENT
BEGIN:VEVENT
DTSTART;TZID=America/New_York:20231218T080000
DTEND;TZID=America/New_York:20240101T170000
DTSTAMP:20260423T165348
CREATED:20230916T210555Z
LAST-MODIFIED:20230916T210618Z
UID:10006345-1702886400-1704128400@tapestrycharter.org
SUMMARY:Winter Break
DESCRIPTION:School Closed
URL:https://tapestrycharter.org/event/winter-break/
CATEGORIES:School Closed
END:VEVENT
BEGIN:VEVENT
DTSTART;TZID=America/New_York:20231120T080000
DTEND;TZID=America/New_York:20231124T170000
DTSTAMP:20260423T165348
CREATED:20230916T210312Z
LAST-MODIFIED:20230916T210312Z
UID:10006343-1700467200-1700845200@tapestrycharter.org
SUMMARY:Thanksgiving Break
DESCRIPTION:
URL:https://tapestrycharter.org/event/thanksgiving-break/
CATEGORIES:Holiday,School Closed
END:VEVENT
BEGIN:VEVENT
DTSTART;TZID=America/New_York:20231009T080000
DTEND;TZID=America/New_York:20231009T170000
DTSTAMP:20260423T165348
CREATED:20230916T210159Z
LAST-MODIFIED:20230916T210159Z
UID:10006342-1696838400-1696870800@tapestrycharter.org
SUMMARY:School Closed Holiday
DESCRIPTION:Indigenous Peoples Day / Columbus Day
URL:https://tapestrycharter.org/event/school-closed-holiday/
CATEGORIES:School Closed
END:VEVENT
BEGIN:VEVENT
DTSTART;TZID=America/New_York:20230403T080000
DTEND;TZID=America/New_York:20230407T170000
DTSTAMP:20260423T165348
CREATED:20221002T234759Z
LAST-MODIFIED:20221002T234808Z
UID:10006050-1680508800-1680886800@tapestrycharter.org
SUMMARY:Spring Break
DESCRIPTION:
URL:https://tapestrycharter.org/event/spring-break-5/
CATEGORIES:Break,School Closed
END:VEVENT
BEGIN:VEVENT
DTSTART;VALUE=DATE:20230116
DTEND;VALUE=DATE:20230117
DTSTAMP:20260423T165348
CREATED:20221002T234603Z
LAST-MODIFIED:20221002T234603Z
UID:10006048-1673827200-1673913599@tapestrycharter.org
SUMMARY:School Closed
DESCRIPTION:
URL:https://tapestrycharter.org/event/school-closed/
CATEGORIES:School Closed
END:VEVENT
BEGIN:VEVENT
DTSTART;TZID=America/New_York:20230111T173000
DTEND;TZID=America/New_York:20230111T190000
DTSTAMP:20260423T165348
CREATED:20230105T001558Z
LAST-MODIFIED:20230105T001558Z
UID:10005947-1673458200-1673463600@tapestrycharter.org
SUMMARY:HS Curriculum Night 5:30-7:00pm
DESCRIPTION:Wednesday\, January 11 – HS Curriculum Night @ 5:00 – 7:00 pm\nWednesday\, January 11 – AP Parent Info Meeting @ 4:30 – 5:00 pm
URL:https://tapestrycharter.org/event/hs-curriculum-night-530-700pm/
CATEGORIES:School Closed
END:VEVENT
BEGIN:VEVENT
DTSTART;TZID=America/New_York:20221121T080000
DTEND;TZID=America/New_York:20221125T170000
DTSTAMP:20260423T165348
CREATED:20221002T234051Z
LAST-MODIFIED:20221002T234330Z
UID:10006045-1669017600-1669395600@tapestrycharter.org
SUMMARY:Thanksgiving Break
DESCRIPTION:
URL:https://tapestrycharter.org/event/thanksgiving-break-4/
CATEGORIES:Holiday,School Closed
END:VEVENT
BEGIN:VEVENT
DTSTART;VALUE=DATE:20221007
DTEND;VALUE=DATE:20221011
DTSTAMP:20260423T165348
CREATED:20221002T233306Z
LAST-MODIFIED:20221002T233306Z
UID:10004722-1665100800-1665446399@tapestrycharter.org
SUMMARY:School Closed / Fall Break
DESCRIPTION:
URL:https://tapestrycharter.org/event/school-closed-fall-break/
CATEGORIES:School Closed
END:VEVENT
END:VCALENDAR