BEGIN:VCALENDAR
VERSION:2.0
PRODID:-//Tapestry Public Charter School - ECPv6.15.20//NONSGML v1.0//EN
CALSCALE:GREGORIAN
METHOD:PUBLISH
X-WR-CALNAME:Tapestry Public Charter School
X-ORIGINAL-URL:https://tapestrycharter.org
X-WR-CALDESC:Events for Tapestry Public Charter School
REFRESH-INTERVAL;VALUE=DURATION:PT1H
X-Robots-Tag:noindex
X-PUBLISHED-TTL:PT1H
BEGIN:VTIMEZONE
TZID:America/New_York
BEGIN:DAYLIGHT
TZOFFSETFROM:-0500
TZOFFSETTO:-0400
TZNAME:EDT
DTSTART:20210314T070000
END:DAYLIGHT
BEGIN:STANDARD
TZOFFSETFROM:-0400
TZOFFSETTO:-0500
TZNAME:EST
DTSTART:20211107T060000
END:STANDARD
BEGIN:DAYLIGHT
TZOFFSETFROM:-0500
TZOFFSETTO:-0400
TZNAME:EDT
DTSTART:20220313T070000
END:DAYLIGHT
BEGIN:STANDARD
TZOFFSETFROM:-0400
TZOFFSETTO:-0500
TZNAME:EST
DTSTART:20221106T060000
END:STANDARD
BEGIN:DAYLIGHT
TZOFFSETFROM:-0500
TZOFFSETTO:-0400
TZNAME:EDT
DTSTART:20230312T070000
END:DAYLIGHT
BEGIN:STANDARD
TZOFFSETFROM:-0400
TZOFFSETTO:-0500
TZNAME:EST
DTSTART:20231105T060000
END:STANDARD
BEGIN:DAYLIGHT
TZOFFSETFROM:-0500
TZOFFSETTO:-0400
TZNAME:EDT
DTSTART:20240310T070000
END:DAYLIGHT
BEGIN:STANDARD
TZOFFSETFROM:-0400
TZOFFSETTO:-0500
TZNAME:EST
DTSTART:20241103T060000
END:STANDARD
END:VTIMEZONE
BEGIN:VEVENT
DTSTART;TZID=America/New_York:20230201T100000
DTEND;TZID=America/New_York:20230201T113000
DTSTAMP:20260423T153840
CREATED:20230104T155814Z
LAST-MODIFIED:20230105T002746Z
UID:10005945-1675245600-1675251000@tapestrycharter.org
SUMMARY:Tapestry School Tour
DESCRIPTION:Enrollment information.  \nRSVP at bit.ly/tourtapestry
URL:https://tapestrycharter.org/event/tapestry-school-tour-3/
CATEGORIES:Special Event
END:VEVENT
BEGIN:VEVENT
DTSTART;VALUE=DATE:20230126
DTEND;VALUE=DATE:20230128
DTSTAMP:20260423T153840
CREATED:20221026T001713Z
LAST-MODIFIED:20221026T001938Z
UID:10006240-1674691200-1674863999@tapestrycharter.org
SUMMARY:Tapestry Drama Production of Puffs (Time TBD)
DESCRIPTION:January 26 & 27\, time to be determined.
URL:https://tapestrycharter.org/event/tapestry-drama-production-of-puffs-time-tbd/
CATEGORIES:Special Event
END:VEVENT
BEGIN:VEVENT
DTSTART;TZID=America/New_York:20230116T090000
DTEND;TZID=America/New_York:20230116T150000
DTSTAMP:20260423T153840
CREATED:20230105T002444Z
LAST-MODIFIED:20230105T002458Z
UID:10006293-1673859600-1673881200@tapestrycharter.org
SUMMARY:MLK Day of Service at Tapestry
DESCRIPTION:Help make Tapestry shine with help indoors and outdoors. While the event is from 9:00am – 3:00 pm\, you can come and help out all or part of the day. Families are welcome\, but children must be supervised. Honor Dr. King and earn volunteer hours (can be logged in the Membership Tool Kit or we will have a signup. Thank you to the PTO for providing pizza to our hungry volunteer! \n 
URL:https://tapestrycharter.org/event/mlk-day-of-service-at-tapestry/
CATEGORIES:Special Event
END:VEVENT
BEGIN:VEVENT
DTSTART;TZID=America/New_York:20230111T163000
DTEND;TZID=America/New_York:20230111T170000
DTSTAMP:20260423T153840
CREATED:20230105T001727Z
LAST-MODIFIED:20230105T001727Z
UID:10005948-1673454600-1673456400@tapestrycharter.org
SUMMARY:AP Parent Info Meeting
DESCRIPTION:Wednesday\, January 11 – HS Curriculum Night @ 5:00 – 7:00 pm \nWednesday\, January 11 – AP Parent Info Meeting @ 4:30 – 5:00 pm
URL:https://tapestrycharter.org/event/ap-parent-info-meeting/
CATEGORIES:Special Event
END:VEVENT
BEGIN:VEVENT
DTSTART;TZID=America/New_York:20230110T180000
DTEND;TZID=America/New_York:20230110T193000
DTSTAMP:20260423T153840
CREATED:20230104T155625Z
LAST-MODIFIED:20230104T155625Z
UID:10005944-1673373600-1673379000@tapestrycharter.org
SUMMARY:Tapestry School Tour
DESCRIPTION:Enrollment information.
URL:https://tapestrycharter.org/event/tapestry-school-tour-2/
CATEGORIES:Special Event
END:VEVENT
BEGIN:VEVENT
DTSTART;TZID=America/New_York:20230110T100000
DTEND;TZID=America/New_York:20230110T113000
DTSTAMP:20260423T153840
CREATED:20230104T155447Z
LAST-MODIFIED:20230104T155521Z
UID:10005943-1673344800-1673350200@tapestrycharter.org
SUMMARY:Tapestry School Tour
DESCRIPTION:Enrollment information. 
URL:https://tapestrycharter.org/event/tapestry-school-tour/
CATEGORIES:Special Event
END:VEVENT
BEGIN:VEVENT
DTSTART;TZID=America/New_York:20221213T163000
DTEND;TZID=America/New_York:20221213T183000
DTSTAMP:20260423T153840
CREATED:20221209T150553Z
LAST-MODIFIED:20221209T151456Z
UID:10005940-1670949000-1670956200@tapestrycharter.org
SUMMARY:Festival of Lights Presented by Tapestry Art
DESCRIPTION:  \n \nThe Tapestry Art and Music Departments present a Winter Art and Music Showcase entitled A Festival of Lights on Tuesday\, December 13th from 4:30 to 6:30PM. Refreshments will be served. Adult tickets will cost $5 and children will be admitted for free. All proceeds benefit the Tapestry Arts Department.
URL:https://tapestrycharter.org/event/festival-of-lights-presente/
CATEGORIES:Concert,Special Event
END:VEVENT
BEGIN:VEVENT
DTSTART;VALUE=DATE:20221208
DTEND;VALUE=DATE:20221209
DTSTAMP:20260423T153840
CREATED:20221102T233430Z
LAST-MODIFIED:20221112T191532Z
UID:10004807-1670457600-1670543999@tapestrycharter.org
SUMMARY:Retake Picture Day with Strawbridge
DESCRIPTION:Fall Pictures – Retakes – 12/8\nRetakes are scheduled for December 8th. Only those students that were absent or parents/guardians that have requested retakes will be called to sit for a picture on that day.  If you wish for your student to have a retake done\, please put a note on the returned pic envelope or email raldrich@tapestrycharter.org. \nEmail Robin Aldrich at raldrich@tapestrycharter.org with any picture questions. \nPlease click here for more information. Times to be announced but come dressed for pictures!
URL:https://tapestrycharter.org/event/retake-picture-day-with-strawbridge/
CATEGORIES:Special Event
END:VEVENT
BEGIN:VEVENT
DTSTART;TZID=America/New_York:20221203T110000
DTEND;TZID=America/New_York:20221203T130000
DTSTAMP:20260423T153840
CREATED:20221112T190929Z
LAST-MODIFIED:20221112T190929Z
UID:10004813-1670065200-1670072400@tapestrycharter.org
SUMMARY:Meat Your Seat: A Christmas Carol @ Alliance Theatre
DESCRIPTION:
URL:https://tapestrycharter.org/event/meat-your-seat-a-christmas-carol-alliance-theatre/
LOCATION:Alliance Theatre
CATEGORIES:Special Event
END:VEVENT
BEGIN:VEVENT
DTSTART;TZID=America/New_York:20221128T080000
DTEND;TZID=America/New_York:20221203T170000
DTSTAMP:20260423T153840
CREATED:20221112T190459Z
LAST-MODIFIED:20221202T035230Z
UID:10004811-1669622400-1670086800@tapestrycharter.org
SUMMARY:High School: Homecoming Spirit Week (Mon-Sat)
DESCRIPTION:Big week and Saturday! \nMonday Nov 28th: Munchkin Land\nWear your fave school-appropriate PJ’s! Free Pancakes are provided by the Admin team! \nTuesday\, Nov 29th: Ease on Down the Road\nCarry your belongings in Anything But A Bookbag as we journey through the day! \nWednesday\, Nov 30th Which Witch is Which?\nDress like your favorite Celeb OR Match with a friend(s) \nThursday Dec 1st: Time Twister\nDress like your favorite Decade/Throwback! \nFriday\, Dec 2nd: Auntie Em vs. Uncle Henry\nDress in your funniest Soccer Mom or BBQ Dad attire! \nSaturday Dec 3rd: There’s No Place like HOME!\nJoin us on campus for a day full of fun activities\, starting at Noon. \nTitan Tailgate Noon-2pm (Stay tuned for weather update!)\nHosted by Tapestry PTO \nHomecoming Basketball Game 1pm\nVarsity Boys vs. Hearts Christian Academy. Special halftime performance by the Titan Varsity Cheerleaders! \nHomecoming Dance 7-10pm\nHigh School Students are invited to celebrate with a Semi-Formal dance in the Cafeteria. Tickets go on sale November 28th during lunch and online! HOCO Royalty will be announced at the dance\, so don’t miss it!
URL:https://tapestrycharter.org/event/high-school-homecoming-spirit-week-mon-sat/
CATEGORIES:Special Event
ORGANIZER;CN="Tapestry PTO":MAILTO:PTO@TapestryCharter.org
END:VEVENT
BEGIN:VEVENT
DTSTART;TZID=America/New_York:20221118T180000
DTEND;TZID=America/New_York:20221118T193000
DTSTAMP:20260423T153840
CREATED:20221002T230811Z
LAST-MODIFIED:20221026T001515Z
UID:10004720-1668794400-1668799800@tapestrycharter.org
SUMMARY:Tapestry Drama Production of Puffs (Invite Only)
DESCRIPTION:Public Drama Event over two days\, January 26 & 27\, 2023
URL:https://tapestrycharter.org/event/tapestry-drama-production-of-puffs/
CATEGORIES:Special Event
END:VEVENT
BEGIN:VEVENT
DTSTART;TZID=America/New_York:20221114T080000
DTEND;TZID=America/New_York:20221118T170000
DTSTAMP:20260423T153840
CREATED:20221112T191820Z
LAST-MODIFIED:20221112T191820Z
UID:10004817-1668412800-1668790800@tapestrycharter.org
SUMMARY:The Scholastic Book Fair
DESCRIPTION:The Scholastic Book Fair is coming to Tapestry November 14 – 18! We’ll be setting up shop in the cafeteria before school and during lunch so you’ll get plenty of opportunities all week to check out all the books. To get a preview\, sign up to volunteer\, and/or online shop\, go to https://www.scholastic.com/bf/tapestrypubliccharterschool1. See you there!
URL:https://tapestrycharter.org/event/the-scholastic-book-fair/
CATEGORIES:Special Event
END:VEVENT
BEGIN:VEVENT
DTSTART;TZID=America/New_York:20221110T180000
DTEND;TZID=America/New_York:20221110T200000
DTSTAMP:20260423T153840
CREATED:20221102T233918Z
LAST-MODIFIED:20221102T234342Z
UID:10004809-1668103200-1668110400@tapestrycharter.org
SUMMARY:Parent University: Transition Tips for 8th-12th Grade Students at Tapestry
DESCRIPTION:Check newsletter for login information to meeting!
URL:https://tapestrycharter.org/event/parent-university-transition-tips-for-8th-12th-grade-students-at-tapestry/
CATEGORIES:Special Event
END:VEVENT
BEGIN:VEVENT
DTSTART;VALUE=DATE:20221031
DTEND;VALUE=DATE:20221101
DTSTAMP:20260423T153840
CREATED:20221003T013846Z
LAST-MODIFIED:20221003T013846Z
UID:10006195-1667174400-1667260799@tapestrycharter.org
SUMMARY:Halloween
DESCRIPTION:
URL:https://tapestrycharter.org/event/halloween/
CATEGORIES:Special Event
END:VEVENT
BEGIN:VEVENT
DTSTART;VALUE=DATE:20221024
DTEND;VALUE=DATE:20221029
DTSTAMP:20260423T153840
CREATED:20221020T034706Z
LAST-MODIFIED:20221020T035122Z
UID:10006239-1666569600-1667001599@tapestrycharter.org
SUMMARY:Middle School Spirit Week!
DESCRIPTION:  \nMonday\, Oct 24th Pajama Day\nStudents may wear school appropriate Pajamas to school. \nTuesday\, Oct 25th Fandom Day\nStudents may wear items or paraphernalia related to their fandoms (Disney\, Star Wars\, Tik-Tok influencers\, Gaming\, Anime\, etc.) \nWednesday\, Oct 26th\nVirtual Day – No School \nThursday\, Oct 27th Tacky Day\nMis-Matched everything! Polka dots w/Plaid\, short socks with long socks\, heels and flats\, Nike and Adidas w/ Reebok. Anything goes as long as it doesn’t match! \nFriday\, Oct 28th Formal Friday\nLook your best for the middle school dance! \nMiddle School Dance\nThe Halloween-themed dance will be held on Friday\, Oct 28th from 4-6 PM in the cafeteria. Students do not need to wear costumes\, just their dressy clothes from Formal Friday. Admission is $5 and can be paid via https://tpcspto.membershiptoolkit.com/packet/269 \n 
URL:https://tapestrycharter.org/event/middle-school-spirit-week-2/
CATEGORIES:Special Event
ORGANIZER;CN="Tapestry PTO":MAILTO:PTO@TapestryCharter.org
END:VEVENT
BEGIN:VEVENT
DTSTART;TZID=America/New_York:20221014T163000
DTEND;TZID=America/New_York:20221014T163000
DTSTAMP:20260423T153840
CREATED:20220929T144606Z
LAST-MODIFIED:20221013T024258Z
UID:10004718-1665765000-1665765000@tapestrycharter.org
SUMMARY:Fall Festival\, October 14\, 2022 ••• 4:30PM
DESCRIPTION:
URL:https://tapestrycharter.org/event/fall-festival-october-14-2022-430pm/
LOCATION:Tapestry Public Charter School\, 3130 Raymond Dr.\, Atlanta\, GA\, 30340\, United States
CATEGORIES:Special Event
GEO:33.8860165;-84.2757662
X-APPLE-STRUCTURED-LOCATION;VALUE=URI;X-ADDRESS=Tapestry Public Charter School 3130 Raymond Dr. Atlanta GA 30340 United States;X-APPLE-RADIUS=500;X-TITLE=3130 Raymond Dr.:geo:-84.2757662,33.8860165
END:VEVENT
END:VCALENDAR