BEGIN:VCALENDAR
VERSION:2.0
PRODID:-//Tapestry Public Charter School - ECPv6.15.20//NONSGML v1.0//EN
CALSCALE:GREGORIAN
METHOD:PUBLISH
X-WR-CALNAME:Tapestry Public Charter School
X-ORIGINAL-URL:https://tapestrycharter.org
X-WR-CALDESC:Events for Tapestry Public Charter School
REFRESH-INTERVAL;VALUE=DURATION:PT1H
X-Robots-Tag:noindex
X-PUBLISHED-TTL:PT1H
BEGIN:VTIMEZONE
TZID:America/New_York
BEGIN:DAYLIGHT
TZOFFSETFROM:-0500
TZOFFSETTO:-0400
TZNAME:EDT
DTSTART:20210314T070000
END:DAYLIGHT
BEGIN:STANDARD
TZOFFSETFROM:-0400
TZOFFSETTO:-0500
TZNAME:EST
DTSTART:20211107T060000
END:STANDARD
BEGIN:DAYLIGHT
TZOFFSETFROM:-0500
TZOFFSETTO:-0400
TZNAME:EDT
DTSTART:20220313T070000
END:DAYLIGHT
BEGIN:STANDARD
TZOFFSETFROM:-0400
TZOFFSETTO:-0500
TZNAME:EST
DTSTART:20221106T060000
END:STANDARD
BEGIN:DAYLIGHT
TZOFFSETFROM:-0500
TZOFFSETTO:-0400
TZNAME:EDT
DTSTART:20230312T070000
END:DAYLIGHT
BEGIN:STANDARD
TZOFFSETFROM:-0400
TZOFFSETTO:-0500
TZNAME:EST
DTSTART:20231105T060000
END:STANDARD
BEGIN:DAYLIGHT
TZOFFSETFROM:-0500
TZOFFSETTO:-0400
TZNAME:EDT
DTSTART:20240310T070000
END:DAYLIGHT
BEGIN:STANDARD
TZOFFSETFROM:-0400
TZOFFSETTO:-0500
TZNAME:EST
DTSTART:20241103T060000
END:STANDARD
END:VTIMEZONE
BEGIN:VEVENT
DTSTART;TZID=America/New_York:20230515T080000
DTEND;TZID=America/New_York:20230516T170000
DTSTAMP:20260423T232415
CREATED:20230426T013721Z
LAST-MODIFIED:20230426T014344Z
UID:10006315-1684137600-1684256400@tapestrycharter.org
SUMMARY:Spring MAP Testing - High School
DESCRIPTION:High School: May 15th and 16th \n 
URL:https://tapestrycharter.org/event/spring-map-testing-high-school/
CATEGORIES:Testing
END:VEVENT
BEGIN:VEVENT
DTSTART;VALUE=DATE:20230502
DTEND;VALUE=DATE:20230504
DTSTAMP:20260423T232415
CREATED:20230426T013511Z
LAST-MODIFIED:20230426T013511Z
UID:10006314-1682985600-1683158399@tapestrycharter.org
SUMMARY:Spring MAP Testing - MIddle School
DESCRIPTION:Spring MAP administration will be on the following days: \nMiddle School: May 2nd and May 3rd \n  \nNOTE: \nMilestones End of Grade & End of Course Testing\nHello Tapestry Titans!!! EOG for Middle School began on 4/19 and EOC for High School began 4/20. 8th grade students taking Physical Science on 4/24 will take the 8th Grade Science EOG on 4/27 in the afternoon. Please review the EOG and EOC parent letters below.  \nEOC_English\nEOG_English\nEOC Spanish\nEOG_Spanish
URL:https://tapestrycharter.org/event/spring-map-testing-middle-school/
CATEGORIES:Testing
END:VEVENT
BEGIN:VEVENT
DTSTART;TZID=America/New_York:20221207T080000
DTEND;TZID=America/New_York:20221216T170000
DTSTAMP:20260423T232415
CREATED:20221114T174450Z
LAST-MODIFIED:20221119T014717Z
UID:10006286-1670400000-1671210000@tapestrycharter.org
SUMMARY:Winter MAP Testing / Middle School Only
DESCRIPTION:Georgia Milestones: End of Course (EOC) Winter 2022\nDay of Testing EOC Content\nWednesday\, December 7 American Literature Part I\nThursday\, December 8 American Literature Part II \nBiology Part I \nFriday\, December 9 American Literature Part III \nBiology Part II\nMonday\, December 12 Make Up Day\nTuesday\, December 13 Coordinate Algebra/Algebra Part I \nUS History Part I \nWednesday\, December 14 Coordinate Algebra/Algebra Part II \nUS History Part II\nThursday\, December 15 Make Up Day\nFriday\, December 16 Non-Testing Day/Warehouse Day \nLINK TO PDF
URL:https://tapestrycharter.org/event/winter-map-testing-middle-school-only/
CATEGORIES:Testing
END:VEVENT
BEGIN:VEVENT
DTSTART;TZID=America/New_York:20221205T080000
DTEND;TZID=America/New_York:20221209T170000
DTSTAMP:20260423T232415
CREATED:20221114T174643Z
LAST-MODIFIED:20221114T174643Z
UID:10006287-1670227200-1670605200@tapestrycharter.org
SUMMARY:End of Course Tests / High School
DESCRIPTION:High School will take End of Course tests the week of 12/5-12/9.\nFor more information please click here for English.\nFor more information please click here for Spanish.
URL:https://tapestrycharter.org/event/end-of-course-tests-high-school/
CATEGORIES:Testing
END:VEVENT
END:VCALENDAR