BEGIN:VCALENDAR
VERSION:2.0
PRODID:-//Tapestry Public Charter School - ECPv6.15.20//NONSGML v1.0//EN
CALSCALE:GREGORIAN
METHOD:PUBLISH
X-WR-CALNAME:Tapestry Public Charter School
X-ORIGINAL-URL:https://tapestrycharter.org
X-WR-CALDESC:Events for Tapestry Public Charter School
REFRESH-INTERVAL;VALUE=DURATION:PT1H
X-Robots-Tag:noindex
X-PUBLISHED-TTL:PT1H
BEGIN:VTIMEZONE
TZID:America/New_York
BEGIN:DAYLIGHT
TZOFFSETFROM:-0500
TZOFFSETTO:-0400
TZNAME:EDT
DTSTART:20210314T070000
END:DAYLIGHT
BEGIN:STANDARD
TZOFFSETFROM:-0400
TZOFFSETTO:-0500
TZNAME:EST
DTSTART:20211107T060000
END:STANDARD
BEGIN:DAYLIGHT
TZOFFSETFROM:-0500
TZOFFSETTO:-0400
TZNAME:EDT
DTSTART:20220313T070000
END:DAYLIGHT
BEGIN:STANDARD
TZOFFSETFROM:-0400
TZOFFSETTO:-0500
TZNAME:EST
DTSTART:20221106T060000
END:STANDARD
BEGIN:DAYLIGHT
TZOFFSETFROM:-0500
TZOFFSETTO:-0400
TZNAME:EDT
DTSTART:20230312T070000
END:DAYLIGHT
BEGIN:STANDARD
TZOFFSETFROM:-0400
TZOFFSETTO:-0500
TZNAME:EST
DTSTART:20231105T060000
END:STANDARD
BEGIN:DAYLIGHT
TZOFFSETFROM:-0500
TZOFFSETTO:-0400
TZNAME:EDT
DTSTART:20240310T070000
END:DAYLIGHT
BEGIN:STANDARD
TZOFFSETFROM:-0400
TZOFFSETTO:-0500
TZNAME:EST
DTSTART:20241103T060000
END:STANDARD
END:VTIMEZONE
BEGIN:VEVENT
DTSTART;TZID=America/New_York:20230111T163000
DTEND;TZID=America/New_York:20230111T170000
DTSTAMP:20260424T195720
CREATED:20230105T001727Z
LAST-MODIFIED:20230105T001727Z
UID:10005948-1673454600-1673456400@tapestrycharter.org
SUMMARY:AP Parent Info Meeting
DESCRIPTION:Wednesday\, January 11 – HS Curriculum Night @ 5:00 – 7:00 pm \nWednesday\, January 11 – AP Parent Info Meeting @ 4:30 – 5:00 pm
URL:https://tapestrycharter.org/event/ap-parent-info-meeting/
CATEGORIES:Special Event
END:VEVENT
BEGIN:VEVENT
DTSTART;TZID=America/New_York:20230110T180000
DTEND;TZID=America/New_York:20230110T193000
DTSTAMP:20260424T195720
CREATED:20230104T155625Z
LAST-MODIFIED:20230104T155625Z
UID:10005944-1673373600-1673379000@tapestrycharter.org
SUMMARY:Tapestry School Tour
DESCRIPTION:Enrollment information.
URL:https://tapestrycharter.org/event/tapestry-school-tour-2/
CATEGORIES:Special Event
END:VEVENT
BEGIN:VEVENT
DTSTART;TZID=America/New_York:20230110T180000
DTEND;TZID=America/New_York:20230110T193000
DTSTAMP:20260424T195720
CREATED:20221003T010855Z
LAST-MODIFIED:20221003T011309Z
UID:10006150-1673373600-1673379000@tapestrycharter.org
SUMMARY:PTO / General Membership Meeting
DESCRIPTION:Tuesday\, August 30\, 2022 6:00pm\nThursday\, October 20\, 2022 6:00pm\nThursday\, December 8\, 2022 6:00pm\nThursday\, January 12\, 2023 6:00pm\nThursday\, March 23\, 2023 6:00pm\nThursday\, May 4\, 2023 6:00pm
URL:https://tapestrycharter.org/event/general-membership-pto-meeting/2023-01-10/
CATEGORIES:PTO
END:VEVENT
BEGIN:VEVENT
DTSTART;TZID=America/New_York:20230110T171500
DTEND;TZID=America/New_York:20230110T181500
DTSTAMP:20260424T195720
CREATED:20230105T011408Z
LAST-MODIFIED:20230105T011638Z
UID:10005954-1673370900-1673374500@tapestrycharter.org
SUMMARY:Basketball: HS / Mill Springs at Mill Springs Academy
DESCRIPTION:Basketball: HS / Mill Springs at Mill Springs Academy in Alpharetta (AAC Conference Game)
URL:https://tapestrycharter.org/event/basketball-hs-mill-springs-at-mill-springs-academy/
CATEGORIES:Athletics
END:VEVENT
BEGIN:VEVENT
DTSTART;TZID=America/New_York:20230110T153000
DTEND;TZID=America/New_York:20230110T163000
DTSTAMP:20260424T195720
CREATED:20221112T195326Z
LAST-MODIFIED:20221112T195453Z
UID:10006267-1673364600-1673368200@tapestrycharter.org
SUMMARY:Tapestry Choir
DESCRIPTION:Tapestry Choir\n–  Practice Tuesdays\, 3:30 – 4:30 p.m.\n–  Please contact Ms. Jackson cydney.jackson@tapestrycharter.org for more information.
URL:https://tapestrycharter.org/event/tapestry-choir-2/2023-01-10/
CATEGORIES:Clubs
END:VEVENT
BEGIN:VEVENT
DTSTART;TZID=America/New_York:20230110T100000
DTEND;TZID=America/New_York:20230110T113000
DTSTAMP:20260424T195720
CREATED:20230104T155447Z
LAST-MODIFIED:20230104T155521Z
UID:10005943-1673344800-1673350200@tapestrycharter.org
SUMMARY:Tapestry School Tour
DESCRIPTION:Enrollment information. 
URL:https://tapestrycharter.org/event/tapestry-school-tour/
CATEGORIES:Special Event
END:VEVENT
BEGIN:VEVENT
DTSTART;TZID=America/New_York:20230110T080000
DTEND;TZID=America/New_York:20230110T083000
DTSTAMP:20260424T195720
CREATED:20221013T000421Z
LAST-MODIFIED:20221013T000421Z
UID:10004761-1673337600-1673339400@tapestrycharter.org
SUMMARY:MS Minecraft Club
DESCRIPTION:
URL:https://tapestrycharter.org/event/ms-minecraft-club-10/
CATEGORIES:Clubs
END:VEVENT
BEGIN:VEVENT
DTSTART;TZID=America/New_York:20230109T190000
DTEND;TZID=America/New_York:20230109T200000
DTSTAMP:20260424T195720
CREATED:20221112T203604Z
LAST-MODIFIED:20221112T205148Z
UID:10006280-1673290800-1673294400@tapestrycharter.org
SUMMARY:Board Meeting
DESCRIPTION:Monday\, January 9\, 2023\, 7:00 p.m. -Board Meeting \nTapestry Public Charter School\,  3130 Raymond Dr.\, Atlanta\, GA  30340 \nHere is the link to past meeting minutes and agendas.  \n 
URL:https://tapestrycharter.org/event/board-meeting-18/
CATEGORIES:Board Meeting
END:VEVENT
BEGIN:VEVENT
DTSTART;TZID=America/New_York:20230109T180000
DTEND;TZID=America/New_York:20230109T193000
DTSTAMP:20260424T195720
CREATED:20221003T010855Z
LAST-MODIFIED:20221003T011309Z
UID:10006149-1673287200-1673292600@tapestrycharter.org
SUMMARY:PTO / General Membership Meeting
DESCRIPTION:Tuesday\, August 30\, 2022 6:00pm\nThursday\, October 20\, 2022 6:00pm\nThursday\, December 8\, 2022 6:00pm\nThursday\, January 12\, 2023 6:00pm\nThursday\, March 23\, 2023 6:00pm\nThursday\, May 4\, 2023 6:00pm
URL:https://tapestrycharter.org/event/general-membership-pto-meeting/2023-01-09/
CATEGORIES:PTO
END:VEVENT
BEGIN:VEVENT
DTSTART;TZID=America/New_York:20230109T153000
DTEND;TZID=America/New_York:20230109T160000
DTSTAMP:20260424T195720
CREATED:20221119T013356Z
LAST-MODIFIED:20221119T013356Z
UID:10006292-1673278200-1673280000@tapestrycharter.org
SUMMARY:Gay-Straight Alliance (GSA) Meeting
DESCRIPTION:Gay-Straight Alliance (GSA) Meeting \n\n\nGay-Straight Alliance (GSA) Meeting is 3:30-4:00 p.m in Mr. Van Kirk’s room. Additionally\, regular meetings will be held every Monday at 3:30-4:00 in Mr. Van Kirk’s room. For more information please contact Ms. Williams
URL:https://tapestrycharter.org/event/gay-straight-alliance-gsa-meeting-5/
CATEGORIES:Clubs
END:VEVENT
BEGIN:VEVENT
DTSTART;TZID=America/New_York:20230109T080000
DTEND;TZID=America/New_York:20230109T083000
DTSTAMP:20260424T195720
CREATED:20221013T000304Z
LAST-MODIFIED:20221013T000327Z
UID:10004760-1673251200-1673253000@tapestrycharter.org
SUMMARY:MS Minecraft Club
DESCRIPTION:
URL:https://tapestrycharter.org/event/ms-minecraft-club-9/
CATEGORIES:Clubs
END:VEVENT
BEGIN:VEVENT
DTSTART;TZID=America/New_York:20230108T180000
DTEND;TZID=America/New_York:20230108T193000
DTSTAMP:20260424T195720
CREATED:20221003T010855Z
LAST-MODIFIED:20221003T011309Z
UID:10006148-1673200800-1673206200@tapestrycharter.org
SUMMARY:PTO / General Membership Meeting
DESCRIPTION:Tuesday\, August 30\, 2022 6:00pm\nThursday\, October 20\, 2022 6:00pm\nThursday\, December 8\, 2022 6:00pm\nThursday\, January 12\, 2023 6:00pm\nThursday\, March 23\, 2023 6:00pm\nThursday\, May 4\, 2023 6:00pm
URL:https://tapestrycharter.org/event/general-membership-pto-meeting/2023-01-08/
CATEGORIES:PTO
END:VEVENT
BEGIN:VEVENT
DTSTART;TZID=America/New_York:20230107T180000
DTEND;TZID=America/New_York:20230107T193000
DTSTAMP:20260424T195720
CREATED:20221003T010855Z
LAST-MODIFIED:20221003T011309Z
UID:10006147-1673114400-1673119800@tapestrycharter.org
SUMMARY:PTO / General Membership Meeting
DESCRIPTION:Tuesday\, August 30\, 2022 6:00pm\nThursday\, October 20\, 2022 6:00pm\nThursday\, December 8\, 2022 6:00pm\nThursday\, January 12\, 2023 6:00pm\nThursday\, March 23\, 2023 6:00pm\nThursday\, May 4\, 2023 6:00pm
URL:https://tapestrycharter.org/event/general-membership-pto-meeting/2023-01-07/
CATEGORIES:PTO
END:VEVENT
BEGIN:VEVENT
DTSTART;TZID=America/New_York:20230107T130000
DTEND;TZID=America/New_York:20230107T140000
DTSTAMP:20260424T195720
CREATED:20230105T011214Z
LAST-MODIFIED:20230105T011235Z
UID:10005953-1673096400-1673100000@tapestrycharter.org
SUMMARY:Basketball: HS / Horizon Christian at Tapestry
DESCRIPTION:Basketball: HS / Horizon Christian at Tapestry
URL:https://tapestrycharter.org/event/basketball-hs-horizon-christian-at-tapestry/
END:VEVENT
BEGIN:VEVENT
DTSTART;TZID=America/New_York:20230106T180000
DTEND;TZID=America/New_York:20230106T193000
DTSTAMP:20260424T195720
CREATED:20221003T010855Z
LAST-MODIFIED:20221003T011309Z
UID:10006146-1673028000-1673033400@tapestrycharter.org
SUMMARY:PTO / General Membership Meeting
DESCRIPTION:Tuesday\, August 30\, 2022 6:00pm\nThursday\, October 20\, 2022 6:00pm\nThursday\, December 8\, 2022 6:00pm\nThursday\, January 12\, 2023 6:00pm\nThursday\, March 23\, 2023 6:00pm\nThursday\, May 4\, 2023 6:00pm
URL:https://tapestrycharter.org/event/general-membership-pto-meeting/2023-01-06/
CATEGORIES:PTO
END:VEVENT
BEGIN:VEVENT
DTSTART;TZID=America/New_York:20230106T160000
DTEND;TZID=America/New_York:20230106T170000
DTSTAMP:20260424T195720
CREATED:20230105T004422Z
LAST-MODIFIED:20230105T005423Z
UID:10006296-1673020800-1673024400@tapestrycharter.org
SUMMARY:Basketball: MS / Mill Springs at Mill Springs Academy
DESCRIPTION:Basketball: MS / Mill Springs at Mill Springs Academy in Alpharetta (AAC Conference Game)
URL:https://tapestrycharter.org/event/basketball-ms-mill-springs-at-mill-springs-academy/
CATEGORIES:Athletics
END:VEVENT
BEGIN:VEVENT
DTSTART;TZID=America/New_York:20230106T080000
DTEND;TZID=America/New_York:20230106T083000
DTSTAMP:20260424T195720
CREATED:20221013T000228Z
LAST-MODIFIED:20221013T000228Z
UID:10006218-1672992000-1672993800@tapestrycharter.org
SUMMARY:HS Minecraft Club
DESCRIPTION:
URL:https://tapestrycharter.org/event/hs-minecraft-club-9/
CATEGORIES:Clubs
END:VEVENT
BEGIN:VEVENT
DTSTART;TZID=America/New_York:20230105T180000
DTEND;TZID=America/New_York:20230105T193000
DTSTAMP:20260424T195720
CREATED:20221003T010855Z
LAST-MODIFIED:20221003T011309Z
UID:10006145-1672941600-1672947000@tapestrycharter.org
SUMMARY:PTO / General Membership Meeting
DESCRIPTION:Tuesday\, August 30\, 2022 6:00pm\nThursday\, October 20\, 2022 6:00pm\nThursday\, December 8\, 2022 6:00pm\nThursday\, January 12\, 2023 6:00pm\nThursday\, March 23\, 2023 6:00pm\nThursday\, May 4\, 2023 6:00pm
URL:https://tapestrycharter.org/event/general-membership-pto-meeting/2023-01-05/
CATEGORIES:PTO
END:VEVENT
BEGIN:VEVENT
DTSTART;TZID=America/New_York:20230105T080000
DTEND;TZID=America/New_York:20230105T083000
DTSTAMP:20260424T195720
CREATED:20221013T000150Z
LAST-MODIFIED:20221013T000150Z
UID:10006217-1672905600-1672907400@tapestrycharter.org
SUMMARY:HS Minecraft Club
DESCRIPTION:
URL:https://tapestrycharter.org/event/hs-minecraft-club-8/
CATEGORIES:Clubs
END:VEVENT
BEGIN:VEVENT
DTSTART;TZID=America/New_York:20230104T180000
DTEND;TZID=America/New_York:20230104T193000
DTSTAMP:20260424T195720
CREATED:20221003T010855Z
LAST-MODIFIED:20221003T011309Z
UID:10006144-1672855200-1672860600@tapestrycharter.org
SUMMARY:PTO / General Membership Meeting
DESCRIPTION:Tuesday\, August 30\, 2022 6:00pm\nThursday\, October 20\, 2022 6:00pm\nThursday\, December 8\, 2022 6:00pm\nThursday\, January 12\, 2023 6:00pm\nThursday\, March 23\, 2023 6:00pm\nThursday\, May 4\, 2023 6:00pm
URL:https://tapestrycharter.org/event/general-membership-pto-meeting/2023-01-04/
CATEGORIES:PTO
END:VEVENT
BEGIN:VEVENT
DTSTART;VALUE=DATE:20230104
DTEND;VALUE=DATE:20230105
DTSTAMP:20260424T195720
CREATED:20221229T183035Z
LAST-MODIFIED:20221229T183121Z
UID:10005942-1672790400-1672876799@tapestrycharter.org
SUMMARY:Students Return after Winter Break
DESCRIPTION:Students Return 1/4/23 \nTeacher Work Day 1/3/23
URL:https://tapestrycharter.org/event/students-return-after-winter-break/
CATEGORIES:Break
END:VEVENT
BEGIN:VEVENT
DTSTART;TZID=America/New_York:20230103T180000
DTEND;TZID=America/New_York:20230103T193000
DTSTAMP:20260424T195720
CREATED:20221003T010855Z
LAST-MODIFIED:20221003T011309Z
UID:10006143-1672768800-1672774200@tapestrycharter.org
SUMMARY:PTO / General Membership Meeting
DESCRIPTION:Tuesday\, August 30\, 2022 6:00pm\nThursday\, October 20\, 2022 6:00pm\nThursday\, December 8\, 2022 6:00pm\nThursday\, January 12\, 2023 6:00pm\nThursday\, March 23\, 2023 6:00pm\nThursday\, May 4\, 2023 6:00pm
URL:https://tapestrycharter.org/event/general-membership-pto-meeting/2023-01-03/
CATEGORIES:PTO
END:VEVENT
BEGIN:VEVENT
DTSTART;TZID=America/New_York:20230103T153000
DTEND;TZID=America/New_York:20230103T163000
DTSTAMP:20260424T195720
CREATED:20221112T195326Z
LAST-MODIFIED:20221112T195453Z
UID:10006266-1672759800-1672763400@tapestrycharter.org
SUMMARY:Tapestry Choir
DESCRIPTION:Tapestry Choir\n–  Practice Tuesdays\, 3:30 – 4:30 p.m.\n–  Please contact Ms. Jackson cydney.jackson@tapestrycharter.org for more information.
URL:https://tapestrycharter.org/event/tapestry-choir-2/2023-01-03/
CATEGORIES:Clubs
END:VEVENT
BEGIN:VEVENT
DTSTART;VALUE=DATE:20230103
DTEND;VALUE=DATE:20230104
DTSTAMP:20260424T195720
CREATED:20221229T182546Z
LAST-MODIFIED:20221229T182632Z
UID:10005941-1672704000-1672790399@tapestrycharter.org
SUMMARY:Teacher Work Day after Winter Break
DESCRIPTION:Teacher Work Day 1/3/23 \nStudents return 1/4/23
URL:https://tapestrycharter.org/event/teacher-work-day-after-winter-break/
CATEGORIES:Teacher Work Day / Professional Development
END:VEVENT
BEGIN:VEVENT
DTSTART;TZID=America/New_York:20230102T180000
DTEND;TZID=America/New_York:20230102T193000
DTSTAMP:20260424T195720
CREATED:20221003T010855Z
LAST-MODIFIED:20221003T011309Z
UID:10006142-1672682400-1672687800@tapestrycharter.org
SUMMARY:PTO / General Membership Meeting
DESCRIPTION:Tuesday\, August 30\, 2022 6:00pm\nThursday\, October 20\, 2022 6:00pm\nThursday\, December 8\, 2022 6:00pm\nThursday\, January 12\, 2023 6:00pm\nThursday\, March 23\, 2023 6:00pm\nThursday\, May 4\, 2023 6:00pm
URL:https://tapestrycharter.org/event/general-membership-pto-meeting/2023-01-02/
CATEGORIES:PTO
END:VEVENT
BEGIN:VEVENT
DTSTART;TZID=America/New_York:20230101T180000
DTEND;TZID=America/New_York:20230101T193000
DTSTAMP:20260424T195720
CREATED:20221003T010855Z
LAST-MODIFIED:20221003T011309Z
UID:10006141-1672596000-1672601400@tapestrycharter.org
SUMMARY:PTO / General Membership Meeting
DESCRIPTION:Tuesday\, August 30\, 2022 6:00pm\nThursday\, October 20\, 2022 6:00pm\nThursday\, December 8\, 2022 6:00pm\nThursday\, January 12\, 2023 6:00pm\nThursday\, March 23\, 2023 6:00pm\nThursday\, May 4\, 2023 6:00pm
URL:https://tapestrycharter.org/event/general-membership-pto-meeting/2023-01-01/
CATEGORIES:PTO
END:VEVENT
BEGIN:VEVENT
DTSTART;TZID=America/New_York:20221231T180000
DTEND;TZID=America/New_York:20221231T193000
DTSTAMP:20260424T195720
CREATED:20221003T010855Z
LAST-MODIFIED:20221003T011309Z
UID:10006140-1672509600-1672515000@tapestrycharter.org
SUMMARY:PTO / General Membership Meeting
DESCRIPTION:Tuesday\, August 30\, 2022 6:00pm\nThursday\, October 20\, 2022 6:00pm\nThursday\, December 8\, 2022 6:00pm\nThursday\, January 12\, 2023 6:00pm\nThursday\, March 23\, 2023 6:00pm\nThursday\, May 4\, 2023 6:00pm
URL:https://tapestrycharter.org/event/general-membership-pto-meeting/2022-12-31/
CATEGORIES:PTO
END:VEVENT
BEGIN:VEVENT
DTSTART;TZID=America/New_York:20221230T180000
DTEND;TZID=America/New_York:20221230T193000
DTSTAMP:20260424T195720
CREATED:20221003T010855Z
LAST-MODIFIED:20221003T011309Z
UID:10006139-1672423200-1672428600@tapestrycharter.org
SUMMARY:PTO / General Membership Meeting
DESCRIPTION:Tuesday\, August 30\, 2022 6:00pm\nThursday\, October 20\, 2022 6:00pm\nThursday\, December 8\, 2022 6:00pm\nThursday\, January 12\, 2023 6:00pm\nThursday\, March 23\, 2023 6:00pm\nThursday\, May 4\, 2023 6:00pm
URL:https://tapestrycharter.org/event/general-membership-pto-meeting/2022-12-30/
CATEGORIES:PTO
END:VEVENT
BEGIN:VEVENT
DTSTART;TZID=America/New_York:20221229T180000
DTEND;TZID=America/New_York:20221229T193000
DTSTAMP:20260424T195720
CREATED:20221003T010855Z
LAST-MODIFIED:20221003T011309Z
UID:10006138-1672336800-1672342200@tapestrycharter.org
SUMMARY:PTO / General Membership Meeting
DESCRIPTION:Tuesday\, August 30\, 2022 6:00pm\nThursday\, October 20\, 2022 6:00pm\nThursday\, December 8\, 2022 6:00pm\nThursday\, January 12\, 2023 6:00pm\nThursday\, March 23\, 2023 6:00pm\nThursday\, May 4\, 2023 6:00pm
URL:https://tapestrycharter.org/event/general-membership-pto-meeting/2022-12-29/
CATEGORIES:PTO
END:VEVENT
BEGIN:VEVENT
DTSTART;TZID=America/New_York:20221228T180000
DTEND;TZID=America/New_York:20221228T193000
DTSTAMP:20260424T195720
CREATED:20221003T010855Z
LAST-MODIFIED:20221003T011309Z
UID:10006137-1672250400-1672255800@tapestrycharter.org
SUMMARY:PTO / General Membership Meeting
DESCRIPTION:Tuesday\, August 30\, 2022 6:00pm\nThursday\, October 20\, 2022 6:00pm\nThursday\, December 8\, 2022 6:00pm\nThursday\, January 12\, 2023 6:00pm\nThursday\, March 23\, 2023 6:00pm\nThursday\, May 4\, 2023 6:00pm
URL:https://tapestrycharter.org/event/general-membership-pto-meeting/2022-12-28/
CATEGORIES:PTO
END:VEVENT
END:VCALENDAR