BEGIN:VCALENDAR
VERSION:2.0
PRODID:-//Tapestry Public Charter School - ECPv6.15.20//NONSGML v1.0//EN
CALSCALE:GREGORIAN
METHOD:PUBLISH
X-WR-CALNAME:Tapestry Public Charter School
X-ORIGINAL-URL:https://tapestrycharter.org
X-WR-CALDESC:Events for Tapestry Public Charter School
REFRESH-INTERVAL;VALUE=DURATION:PT1H
X-Robots-Tag:noindex
X-PUBLISHED-TTL:PT1H
BEGIN:VTIMEZONE
TZID:America/New_York
BEGIN:DAYLIGHT
TZOFFSETFROM:-0500
TZOFFSETTO:-0400
TZNAME:EDT
DTSTART:20220313T070000
END:DAYLIGHT
BEGIN:STANDARD
TZOFFSETFROM:-0400
TZOFFSETTO:-0500
TZNAME:EST
DTSTART:20221106T060000
END:STANDARD
BEGIN:DAYLIGHT
TZOFFSETFROM:-0500
TZOFFSETTO:-0400
TZNAME:EDT
DTSTART:20230312T070000
END:DAYLIGHT
BEGIN:STANDARD
TZOFFSETFROM:-0400
TZOFFSETTO:-0500
TZNAME:EST
DTSTART:20231105T060000
END:STANDARD
BEGIN:DAYLIGHT
TZOFFSETFROM:-0500
TZOFFSETTO:-0400
TZNAME:EDT
DTSTART:20240310T070000
END:DAYLIGHT
BEGIN:STANDARD
TZOFFSETFROM:-0400
TZOFFSETTO:-0500
TZNAME:EST
DTSTART:20241103T060000
END:STANDARD
BEGIN:DAYLIGHT
TZOFFSETFROM:-0500
TZOFFSETTO:-0400
TZNAME:EDT
DTSTART:20250309T070000
END:DAYLIGHT
BEGIN:STANDARD
TZOFFSETFROM:-0400
TZOFFSETTO:-0500
TZNAME:EST
DTSTART:20251102T060000
END:STANDARD
END:VTIMEZONE
BEGIN:VEVENT
DTSTART;TZID=America/New_York:20240117T083000
DTEND;TZID=America/New_York:20240117T120000
DTSTAMP:20260423T180549
CREATED:20230912T145348Z
LAST-MODIFIED:20230916T205323Z
UID:10006337-1705480200-1705492800@tapestrycharter.org
SUMMARY:Autism Consortium
DESCRIPTION:Where: Library \nWhen: 1/17/24/2024 \nTime: 8:30am-12:00 noon
URL:https://tapestrycharter.org/event/autism-consortium/
CATEGORIES:Special Event
END:VEVENT
BEGIN:VEVENT
DTSTART;TZID=America/New_York:20240115T093000
DTEND;TZID=America/New_York:20240115T150000
DTSTAMP:20260423T180549
CREATED:20230916T211205Z
LAST-MODIFIED:20240108T014342Z
UID:10006348-1705311000-1705330800@tapestrycharter.org
SUMMARY:Dr. M.L. King\, Jr. Day / Day of Service at School
DESCRIPTION:Earn volunteer hours… typically there is painting\, cleaning\, yard work\, and more to do! \nContact devon@tapestrycharter.org for information and to sign up! (PTO usually provides lunch).
URL:https://tapestrycharter.org/event/dr-m-l-king-jr-day-day-of-service-at-school/
CATEGORIES:Holiday
END:VEVENT
BEGIN:VEVENT
DTSTART;TZID=America/New_York:20240112T080000
DTEND;TZID=America/New_York:20240112T170000
DTSTAMP:20260423T180549
CREATED:20240109T171803Z
LAST-MODIFIED:20240109T171803Z
UID:10006397-1705046400-1705078800@tapestrycharter.org
SUMMARY:Fri Athletic Lineup
DESCRIPTION:No Games\, No practices for: \n\n\n\nLady Titans\nAll Cheer\nMS Basketball\nVarsity Basketball\n\n\n\n\n\n\nSign up to volunteer for athletics!  \nPlease note: All Home Basketball games are FREE for Tapestry Students. Games are $5 for adults. \nWe encourage all fans to wear their best Titan Red!
URL:https://tapestrycharter.org/event/fri-athletic-lineup-2/
END:VEVENT
BEGIN:VEVENT
DTSTART;TZID=America/New_York:20240111T163000
DTEND;TZID=America/New_York:20240111T190000
DTSTAMP:20260423T180549
CREATED:20240109T170858Z
LAST-MODIFIED:20240109T171020Z
UID:10006396-1704990600-1704999600@tapestrycharter.org
SUMMARY:Thu Athletic Lineup
DESCRIPTION:  \n\n\n\nMS Cheer\, AWAY @ Howard\, 4:30\nMS Basketball\, AWAY @ Howard\, 4:30pm\nLady Titans\, AWAY @ Howard\, 5:30pm\nVarsity Cheer\, AWAY @ Howard\, 6:00pm\n Varsity Basketball\, AWAY @ Howard\, 7:00pm\n\n\n\n\nSign up to volunteer for athletics!  \nPlease note: All Home Basketball games are FREE for Tapestry Students. Games are $5 for adults. \nWe encourage all fans to wear their best Titan Red!
URL:https://tapestrycharter.org/event/thu-athletics-lineup/
CATEGORIES:Athletics
END:VEVENT
BEGIN:VEVENT
DTSTART;TZID=America/New_York:20240110T153000
DTEND;TZID=America/New_York:20240110T173000
DTSTAMP:20260423T180549
CREATED:20240109T170438Z
LAST-MODIFIED:20240109T170438Z
UID:10006395-1704900600-1704907800@tapestrycharter.org
SUMMARY:Wed Athletics Lineup
DESCRIPTION:  \n\n\n\nLady Titans Practice\, 3:00-5:00pm: GYM\nAll Cheer\, 3:30-5:15pm: CAFETERIA\nMS Basketball Practice\, 3:30-5:30pm: GYM\nVarsity Basketball Practice: 3:30-5:30pm: GYM\n\n\n\n\nSign up to volunteer for athletics!  \nPlease note: All Home Basketball games are FREE for Tapestry Students. Games are $5 for adults. \nWe encourage all fans to wear their best Titan Red!
URL:https://tapestrycharter.org/event/wed-athletics-lineup-6/
CATEGORIES:Athletics
ATTACH;FMTTYPE=image/jpeg:https://tapestrycharter.org/wp-content/uploads/2023/08/Calendar.jpeg
END:VEVENT
BEGIN:VEVENT
DTSTART;TZID=America/New_York:20240109T033000
DTEND;TZID=America/New_York:20240109T190000
DTSTAMP:20260423T180549
CREATED:20240109T165835Z
LAST-MODIFIED:20240109T170952Z
UID:10006394-1704771000-1704826800@tapestrycharter.org
SUMMARY:Tue Athletic Lineup
DESCRIPTION:  \n\n\n\nLady Titans Practice\, 3:30-5:00pm: Porter’s Room\nMS Cheer\, AWAY @ Swift (Waller Park Gym)\, 4:00pm\nMS Basketball\, AWAY @ Swift (Waller Park Gym)\, 4:00pm\nVarsity Basketbal\, HOME vs CORE\, 4:30pm: GYM\nVarsity Cheer\, HOME vs CORE\, 4:30pm: GYM\n\n\n\n\nSign up to volunteer for athletics!  \nPlease note: All Home Basketball games are FREE for Tapestry Students. Games are $5 for adults. \nWe encourage all fans to wear their best Titan Red!
URL:https://tapestrycharter.org/event/tue-atheltics-lineup/
CATEGORIES:Athletics
END:VEVENT
BEGIN:VEVENT
DTSTART;TZID=America/New_York:20240108T154500
DTEND;TZID=America/New_York:20240108T184500
DTSTAMP:20260423T180549
CREATED:20240108T013856Z
LAST-MODIFIED:20240109T171037Z
UID:10006392-1704728700-1704739500@tapestrycharter.org
SUMMARY:Mon Athletic Lineup
DESCRIPTION:Parent Meeting and practices as noted below. \nWe have a parent meeting scheduled for Monday\, 01/08 at 5:45pm in the Tapestry Library. The Coaching Staff and Athletic Director will be on hand. Please bring all of your questions about basketball season! \n  \n\n\n\n\n\n\nAll Cheer – Monday & Wednesday this week (01/08 & 01/10) 3:45-5:15pm. Cafeteria\n\n\nMS Basketball – Monday & Wednesday this week\, Gym\n\n\nVarsity Basketball – Monday & Wednesday this week\, Gym\n\n\nLady Titans – see email from Coach Porter for the remaining practice dates this season\n\n\n\n  \n\nSign up to volunteer for athletics!  \nPlease note: All Home Basketball games are FREE for Tapestry Students. Games are $5 for adults. \nWe encourage all fans to wear their best Titan Red!
URL:https://tapestrycharter.org/event/mon-athletics-lineup-5/
CATEGORIES:Athletics
END:VEVENT
BEGIN:VEVENT
DTSTART;TZID=America/New_York:20240103T080000
DTEND;TZID=America/New_York:20240103T170000
DTSTAMP:20260423T180549
CREATED:20230916T210842Z
LAST-MODIFIED:20230916T210842Z
UID:10006347-1704268800-1704301200@tapestrycharter.org
SUMMARY:First / Last Day of Semester - First Day Back
DESCRIPTION:
URL:https://tapestrycharter.org/event/first-last-day-of-semester-first-day-back/
CATEGORIES:Teacher Work Day / Professional Development
END:VEVENT
BEGIN:VEVENT
DTSTART;TZID=America/New_York:20240102T080000
DTEND;TZID=America/New_York:20240102T170000
DTSTAMP:20260423T180549
CREATED:20230916T210745Z
LAST-MODIFIED:20230916T210745Z
UID:10006346-1704182400-1704214800@tapestrycharter.org
SUMMARY:Teacher Work Day / School Closed
DESCRIPTION:
URL:https://tapestrycharter.org/event/teacher-work-day-school-closed/
CATEGORIES:School Closed,Teacher Work Day / Professional Development
END:VEVENT
BEGIN:VEVENT
DTSTART;TZID=America/New_York:20231218T080000
DTEND;TZID=America/New_York:20240101T170000
DTSTAMP:20260423T180549
CREATED:20230916T210555Z
LAST-MODIFIED:20230916T210618Z
UID:10006345-1702886400-1704128400@tapestrycharter.org
SUMMARY:Winter Break
DESCRIPTION:School Closed
URL:https://tapestrycharter.org/event/winter-break/
CATEGORIES:School Closed
END:VEVENT
BEGIN:VEVENT
DTSTART;TZID=America/New_York:20231215T080000
DTEND;TZID=America/New_York:20231215T170000
DTSTAMP:20260423T180549
CREATED:20231211T145143Z
LAST-MODIFIED:20240109T171043Z
UID:10006391-1702627200-1702659600@tapestrycharter.org
SUMMARY:Athletics: No games/practrices
DESCRIPTION:All athletics: no games\, no practices. Winter break begins.
URL:https://tapestrycharter.org/event/athletics-no-games-practrices/
END:VEVENT
BEGIN:VEVENT
DTSTART;TZID=America/New_York:20231215T080000
DTEND;TZID=America/New_York:20231215T170000
DTSTAMP:20260423T180549
CREATED:20230916T210424Z
LAST-MODIFIED:20231211T145707Z
UID:10006344-1702627200-1702659600@tapestrycharter.org
SUMMARY:F/L Day of Semester
DESCRIPTION:
URL:https://tapestrycharter.org/event/first-last-day-of-semester-2/
CATEGORIES:First / Last Day of Semester
END:VEVENT
BEGIN:VEVENT
DTSTART;TZID=America/New_York:20231215T080000
DTEND;TZID=America/New_York:20231215T120000
DTSTAMP:20260423T180549
CREATED:20231130T135003Z
LAST-MODIFIED:20231130T135003Z
UID:10006380-1702627200-1702641600@tapestrycharter.org
SUMMARY:Early Release Day
DESCRIPTION:Students will be released early from school on December 15th @ 12 noon. Please make sure to be here to pick up your student . Thank you and have a wonderful Holiday season and Wonderful New year.
URL:https://tapestrycharter.org/event/early-release-day/
CATEGORIES:Holiday
END:VEVENT
BEGIN:VEVENT
DTSTART;TZID=America/New_York:20231214T170000
DTEND;TZID=America/New_York:20231214T190000
DTSTAMP:20260423T180549
CREATED:20231211T144934Z
LAST-MODIFIED:20231211T144934Z
UID:10006390-1702573200-1702580400@tapestrycharter.org
SUMMARY:Thu Athletic Lineup
DESCRIPTION:Thursday\, 12/14/23 \nPEP RALLY DAY! \n\nLady Titans AWAY @ AASD\, 5:00pm\nVarsity Cheer\, AWAY @ AASD\, 5;00pm\nVarsity Basketball AWAY @ AASD\, 6:00pm\nMS Basketball and MS Cheer\, no games\, no practices.\n\nSign up to volunteer for athletics!  \nPlease note: All Home Basketball games are FREE for Tapestry Students. Games are $5 for adults. \nWe encourage all fans to wear their best Titan Red!
URL:https://tapestrycharter.org/event/thu-athletic-lineup/
CATEGORIES:Athletics
END:VEVENT
BEGIN:VEVENT
DTSTART;TZID=America/New_York:20231213T163000
DTEND;TZID=America/New_York:20231213T183000
DTSTAMP:20260423T180549
CREATED:20231120T013558Z
LAST-MODIFIED:20231201T214711Z
UID:10006371-1702485000-1702492200@tapestrycharter.org
SUMMARY:Winter Arts Festival
DESCRIPTION:Join us for Tapestry’s Winter Arts Festival at 4:30pm
URL:https://tapestrycharter.org/event/winter-arts-festival/
CATEGORIES:Special Event
END:VEVENT
BEGIN:VEVENT
DTSTART;TZID=America/New_York:20231213T153000
DTEND;TZID=America/New_York:20231213T173000
DTSTAMP:20260423T180549
CREATED:20231211T144236Z
LAST-MODIFIED:20240109T171051Z
UID:10006389-1702481400-1702488600@tapestrycharter.org
SUMMARY:Wed Athletic Lineup
DESCRIPTION:Wednesday\, 12/13/23 \n\nLady Titans practice\, 3:30-5:00: GYM\nMS Cheer AWAY @ The Cottage School\, 3:30pm\nMS Basketball AWAY @ The Cottage School\, 3:30: GYM\nVarsity Basketball and Varsity Cheer\, no games\, no practices.\n\nSign up to volunteer for athletics!  \nPlease note: All Home Basketball games are FREE for Tapestry Students. Games are $5 for adults. \nWe encourage all fans to wear their best Titan Red!
URL:https://tapestrycharter.org/event/tue-athletics-lineup-3/
CATEGORIES:Athletics
END:VEVENT
BEGIN:VEVENT
DTSTART;TZID=America/New_York:20231212T153000
DTEND;TZID=America/New_York:20231212T174500
DTSTAMP:20260423T180549
CREATED:20231211T143815Z
LAST-MODIFIED:20231211T144516Z
UID:10006388-1702395000-1702403100@tapestrycharter.org
SUMMARY:Tue Athletic Lineup
DESCRIPTION:Tuesday\, 12/12/23 \n\nLady Titans practice\, 3:30-4:45: GYM\nAll Cheer\, 3:30-4:45pm: Cafeteria\nMS Basketball practice\, 3:30-4:45pm: GYM\nVarsity Basketball practice\, 3:30-4:45pm: GYM\nALL ATHLETICS HOLIDAY PRACTICE 4:45pm-5:45pm Cafeteria\n\nSign up to volunteer for athletics!  \nPlease note: All Home Basketball games are FREE for Tapestry Students. Games are $5 for adults. \nWe encourage all fans to wear their best Titan Red! \nOn Tuesday\, 12/12 we will have our annual Holiday Practice from 4:45-5:45pm. All Basketball players\, Cheerleaders and coaches are invited to change into school appropriate pajamas and meet in the cafeteria for an afternoon of fun. \nWe will have Holiday Karaoke\, a Gingerbread House building contest\, cookie decorating\, and fun games for all. \nStudents should bring a holiday snack to share and families are encouraged to donate whatever they’d like to help make the day merry. Items can be left in the front office.
URL:https://tapestrycharter.org/event/5247/
CATEGORIES:Athletics
END:VEVENT
BEGIN:VEVENT
DTSTART;TZID=America/New_York:20231211T160000
DTEND;TZID=America/New_York:20231211T190000
DTSTAMP:20260423T180549
CREATED:20231211T143223Z
LAST-MODIFIED:20231211T143223Z
UID:10006387-1702310400-1702321200@tapestrycharter.org
SUMMARY:Mon Athletics Lineup
DESCRIPTION:Monday\, 12/11/23 \n\nMS Cheer HOME vs. Swift\, 4:00pm\nMS Basketball HOME vs Swift: 4:00pm GYM\nLady Titans HOME vs Cumberland\, 5:00pm\nVarsity Cheer HOME vs. Cumberland\, 5:00pm\nVarsity Basketball HOME vs. Cumberland\, 6:15pm\n\nSign up to volunteer for athletics!  \nPlease note: All Home Basketball games are FREE for Tapestry Students. Games are $5 for adults. \nWe encourage all fans to wear their best Titan Red! \nOn Tuesday\, 12/12 we will have our annual Holiday Practice from 4:45-5:45pm. All Basketball players\, Cheerleaders and coaches are invited to change into school appropriate pajamas and meet in the cafeteria for an afternoon of fun. \nWe will have Holiday Karaoke\, a Gingerbread House building contest\, cookie decorating\, and fun games for all. \nStudents should bring a holiday snack to share and families are encouraged to donate whatever they’d like to help make the day merry. Items can be left in the front office.
URL:https://tapestrycharter.org/event/mon-athletics-lineup-4/
CATEGORIES:Athletics
END:VEVENT
BEGIN:VEVENT
DTSTART;TZID=America/New_York:20231209T080000
DTEND;TZID=America/New_York:20231209T170000
DTSTAMP:20260423T180549
CREATED:20231204T153326Z
LAST-MODIFIED:20231204T153453Z
UID:10006386-1702108800-1702141200@tapestrycharter.org
SUMMARY:ALL Athletics - no games\, no practices.
DESCRIPTION:
URL:https://tapestrycharter.org/event/all-athletics-lineup-no-games-no-practices/
CATEGORIES:Athletics
END:VEVENT
BEGIN:VEVENT
DTSTART;TZID=America/New_York:20231208T163000
DTEND;TZID=America/New_York:20231208T190000
DTSTAMP:20260423T180549
CREATED:20231204T153134Z
LAST-MODIFIED:20231204T153134Z
UID:10006385-1702053000-1702062000@tapestrycharter.org
SUMMARY:Fri Athletic Lineup
DESCRIPTION:Friday\, 12/8/23 \n\nLady Titans AWAY vs. The Cottage School\, 4:30pm GYM\nVarsity Basketball AWAY vs. The Cottage School\, 6:00pm: GYM\nVarsity Cheer\, AWAY at The Cottage School\, 4:30pm\nMS Cheer\, no games\, no practices.\nMS Basketball\, no games\, no practices.\n\nSign up to volunteer for athletics!  \nPlease note: All Home Basketball games are FREE for Tapestry Students. Games are $5 for adults. \nWe encourage all fans to wear their best Titan Red!
URL:https://tapestrycharter.org/event/fri-athletic-lineup/
CATEGORIES:Athletics
END:VEVENT
BEGIN:VEVENT
DTSTART;TZID=America/New_York:20231207T151500
DTEND;TZID=America/New_York:20231207T173000
DTSTAMP:20260423T180549
CREATED:20231204T152535Z
LAST-MODIFIED:20240109T171109Z
UID:10006384-1701962100-1701970200@tapestrycharter.org
SUMMARY:Thur Athletic Lineup
DESCRIPTION:Thursday\, 12/7/23 \n\nLady Titans Practice\, 3:30-5:00pm: GYM\nAll Cheer\, 3:30-5:15pm CAFETERIA\nMS Basketball Practice\, 3:30-5:30pm: GYM\nVarsity Basketball Practice\, 3:30-5:30pm: GYM\n\nSign up to volunteer for athletics!  \nPlease note: All Home Basketball games are FREE for Tapestry Students. Games are $5 for adults. \nWe encourage all fans to wear their best Titan Red!
URL:https://tapestrycharter.org/event/thur-athletics-lineup-3/
CATEGORIES:Athletics
END:VEVENT
BEGIN:VEVENT
DTSTART;TZID=America/New_York:20231206T151500
DTEND;TZID=America/New_York:20231206T173000
DTSTAMP:20260423T180549
CREATED:20231204T152213Z
LAST-MODIFIED:20240109T171127Z
UID:10006383-1701875700-1701883800@tapestrycharter.org
SUMMARY:Wed Athletic Lineup
DESCRIPTION:Wednesday\, 12/6/23 \n\nLady Titans Practice\, 3:30-5:00pm: GYM\nAll Cheer\, 3:30-5:15pm CAFETERIA\nMS Basketball Practice\, 3:30-5:30pm: GYM\nVarsity Basketball Practice\, 3:30-5:30pm: GYM\n\nSign up to volunteer for athletics!  \nPlease note: All Home Basketball games are FREE for Tapestry Students. Games are $5 for adults. \nWe encourage all fans to wear their best Titan Red!
URL:https://tapestrycharter.org/event/wed-athletics-lineup-4/
CATEGORIES:Athletics
END:VEVENT
BEGIN:VEVENT
DTSTART;TZID=America/New_York:20231205T153000
DTEND;TZID=America/New_York:20231205T170000
DTSTAMP:20260423T180549
CREATED:20231204T151835Z
LAST-MODIFIED:20231204T151835Z
UID:10006382-1701790200-1701795600@tapestrycharter.org
SUMMARY:Tues Atheltic Lineup
DESCRIPTION:Tuesday\, 12/5/23 \n\nLady Titans Practice\, 3:30-5:00pm: GYM\nAll Cheer\, no games\, no practices.\nMS Basketball Practice\,no games\, no practices.\nVarsity Basketball Practice\, no games\, no practices.\n\nSign up to volunteer for athletics!  \nPlease note: All Home Basketball games are FREE for Tapestry Students. Games are $5 for adults. \nWe encourage all fans to wear their best Titan Red!
URL:https://tapestrycharter.org/event/tues-atheltic-lineup/
CATEGORIES:Athletics
END:VEVENT
BEGIN:VEVENT
DTSTART;TZID=America/New_York:20231204T153000
DTEND;TZID=America/New_York:20231204T173000
DTSTAMP:20260423T180549
CREATED:20231204T151548Z
LAST-MODIFIED:20231204T151548Z
UID:10006381-1701703800-1701711000@tapestrycharter.org
SUMMARY:Mon Athletic Lineup
DESCRIPTION:Monday 12/4/23 \n\nLady Titans Practice\, no games\, no practices.\nAll Cheer\, 3:30-5:15pm: CAFETERIA\nMS Basketball Practice\, 3:30-5:30pm: GYM\nVarsity Basketball Practice\, 3:30-5:30pm: GYM\n\nSign up to volunteer for athletics!  \nPlease note: All Home Basketball games are FREE for Tapestry Students. Games are $5 for adults. \nWe encourage all fans to wear their best Titan Red!
URL:https://tapestrycharter.org/event/mon-athletic-lineup/
CATEGORIES:Athletics
END:VEVENT
BEGIN:VEVENT
DTSTART;TZID=America/New_York:20231202T130000
DTEND;TZID=America/New_York:20231202T150000
DTSTAMP:20260423T180549
CREATED:20231127T191824Z
LAST-MODIFIED:20240109T171135Z
UID:10006379-1701522000-1701529200@tapestrycharter.org
SUMMARY:Sat AthleticsLineup
DESCRIPTION:Saturday 12/2/23 \n\nVarsity Basketball HOME vs. Hearts\, 1:00pm\nVarsity Cheer HOME vs. Hearts\, 1:00pm\nLady Titans\, no games\, no practices.\nVarsity Basketball\, no games\, no practices.\nVarsity Cheer\, no games no\, practices.\n\nSign up to volunteer for athletics!  \nPlease note: All Home Basketball games are FREE for Tapestry Students. Games are $5 for adults. \nWe encourage all fans to wear their best Titan Red!
URL:https://tapestrycharter.org/event/sat-athletics-lineup-2/
CATEGORIES:Athletics
END:VEVENT
BEGIN:VEVENT
DTSTART;TZID=America/New_York:20231201T080000
DTEND;TZID=America/New_York:20231201T170000
DTSTAMP:20260423T180549
CREATED:20231127T191318Z
LAST-MODIFIED:20231127T191330Z
UID:10006378-1701417600-1701450000@tapestrycharter.org
SUMMARY:Fri Atheltics Lineup
DESCRIPTION:Friday 12/1/23 \n\nMS Basketball\, no games\, no practices.\nLady Titans\, no games\, no practices.\nVarsity Basketball\, no games\, no practices.\n All Cheer\, no games no\, practices.\n\nSign up to volunteer for athletics!  \nPlease note: All Home Basketball games are FREE for Tapestry Students. Games are $5 for adults. \nWe encourage all fans to wear their best Titan Red!
URL:https://tapestrycharter.org/event/fri-atheltics-lineup/
CATEGORIES:Athletics
END:VEVENT
BEGIN:VEVENT
DTSTART;TZID=America/New_York:20231130T153000
DTEND;TZID=America/New_York:20231130T173000
DTSTAMP:20260423T180549
CREATED:20231127T190529Z
LAST-MODIFIED:20231127T190653Z
UID:10006376-1701358200-1701365400@tapestrycharter.org
SUMMARY:Thur Athletic Lineup
DESCRIPTION:Thursday\, 11/30/23 \n\nLady Titans Practice\, 3:30-5:00pm: GYM\nAll Cheer\, 3:30-5:15pm: CAFETERIA\nMS Basketball Practice\, 3:30-5:30pm: GYM\nVarsity Basketball Practice\, 3:30-5:30pm: GYM\n\nSign up to volunteer for athletics!  \nPlease note: All Home Basketball games are FREE for Tapestry Students. Games are $5 for adults. \nWe encourage all fans to wear their best Titan Red!
URL:https://tapestrycharter.org/event/5185/
CATEGORIES:Athletics
END:VEVENT
BEGIN:VEVENT
DTSTART;TZID=America/New_York:20231129T153000
DTEND;TZID=America/New_York:20231129T173000
DTSTAMP:20260423T180549
CREATED:20231127T190118Z
LAST-MODIFIED:20240109T171153Z
UID:10006375-1701271800-1701279000@tapestrycharter.org
SUMMARY:Wed Athletic Lineup
DESCRIPTION:Wednesday 11/29/23 \n\nLady Titans Practice\, 3:30-5:00pm: GYM\nMS Basketball AWAY @ Al-Falah\, 3:30pm\nMS Cheer\, AWAY @ Al-Falah\, 4:30pm\nLady Titans\, no games\, no practices.\nVarsity Cheer\, AWAY @ Al-Falah\, 4:30pm\n\nSign up to volunteer for athletics!  \nPlease note: All Home Basketball games are FREE for Tapestry Students. Games are $5 for adults. \nWe encourage all fans to wear their best Titan Red!
URL:https://tapestrycharter.org/event/wed-athletics-lineup-3/
CATEGORIES:Athletics
END:VEVENT
BEGIN:VEVENT
DTSTART;TZID=America/New_York:20231128T153000
DTEND;TZID=America/New_York:20231128T173000
DTSTAMP:20260423T180549
CREATED:20231127T185503Z
LAST-MODIFIED:20240109T171201Z
UID:10006374-1701185400-1701192600@tapestrycharter.org
SUMMARY:Tue Athletic Lineup
DESCRIPTION:Tuesday 11/28/23\n\n\n\n\nLady Titans Practice\, 3:30-5:00pm: GYM\nAll Cheer\, 3:30-5:30: MEET IN CAFETERIA\nMS Basketball Practice\, 3:30-5:30pm: GYM\nVarsity Basketball Practice\, 3:30-5:30 GYM\n\nSign up to volunteer for athletics!  \nPlease note: All Home Basketball games are FREE for Tapestry Students. Games are $5 for adults. \nWe encourage all fans to wear their best Titan Red!
URL:https://tapestrycharter.org/event/tue-athletics-lineup-2/
CATEGORIES:Athletics
END:VEVENT
BEGIN:VEVENT
DTSTART;TZID=America/New_York:20231128T080000
DTEND;TZID=America/New_York:20231128T170000
DTSTAMP:20260423T180549
CREATED:20231120T021116Z
LAST-MODIFIED:20231120T021209Z
UID:10006372-1701158400-1701190800@tapestrycharter.org
SUMMARY:Giving Tuesday
DESCRIPTION:We have a $12\,500 Board Challenge! The Tapestry board is supporting TPCS  through this challenge…. won’t you help us? Here is a link to TapestryCharter.org/give.
URL:https://tapestrycharter.org/event/giving-tuesday/
CATEGORIES:Special Event
END:VEVENT
END:VCALENDAR