BEGIN:VCALENDAR
VERSION:2.0
PRODID:-//Tapestry Public Charter School - ECPv6.15.20//NONSGML v1.0//EN
CALSCALE:GREGORIAN
METHOD:PUBLISH
X-WR-CALNAME:Tapestry Public Charter School
X-ORIGINAL-URL:https://tapestrycharter.org
X-WR-CALDESC:Events for Tapestry Public Charter School
REFRESH-INTERVAL;VALUE=DURATION:PT1H
X-Robots-Tag:noindex
X-PUBLISHED-TTL:PT1H
BEGIN:VTIMEZONE
TZID:America/New_York
BEGIN:DAYLIGHT
TZOFFSETFROM:-0500
TZOFFSETTO:-0400
TZNAME:EDT
DTSTART:20210314T070000
END:DAYLIGHT
BEGIN:STANDARD
TZOFFSETFROM:-0400
TZOFFSETTO:-0500
TZNAME:EST
DTSTART:20211107T060000
END:STANDARD
BEGIN:DAYLIGHT
TZOFFSETFROM:-0500
TZOFFSETTO:-0400
TZNAME:EDT
DTSTART:20220313T070000
END:DAYLIGHT
BEGIN:STANDARD
TZOFFSETFROM:-0400
TZOFFSETTO:-0500
TZNAME:EST
DTSTART:20221106T060000
END:STANDARD
BEGIN:DAYLIGHT
TZOFFSETFROM:-0500
TZOFFSETTO:-0400
TZNAME:EDT
DTSTART:20230312T070000
END:DAYLIGHT
BEGIN:STANDARD
TZOFFSETFROM:-0400
TZOFFSETTO:-0500
TZNAME:EST
DTSTART:20231105T060000
END:STANDARD
END:VTIMEZONE
BEGIN:VEVENT
DTSTART;TZID=America/New_York:20221109T163000
DTEND;TZID=America/New_York:20221109T173000
DTSTAMP:20260425T151454
CREATED:20221102T213807Z
LAST-MODIFIED:20221102T213807Z
UID:10006252-1668011400-1668015000@tapestrycharter.org
SUMMARY:Basketball: MS / Howard at Howard School (Atlanta)
DESCRIPTION:
URL:https://tapestrycharter.org/event/basketball-ms-howard-at-howard-school-atlanta/
ORGANIZER;CN="Tapestry PTO":MAILTO:PTO@TapestryCharter.org
END:VEVENT
BEGIN:VEVENT
DTSTART;TZID=America/New_York:20221108T180000
DTEND;TZID=America/New_York:20221108T193000
DTSTAMP:20260425T151454
CREATED:20221003T010855Z
LAST-MODIFIED:20221003T011309Z
UID:10006087-1667930400-1667935800@tapestrycharter.org
SUMMARY:PTO / General Membership Meeting
DESCRIPTION:Tuesday\, August 30\, 2022 6:00pm\nThursday\, October 20\, 2022 6:00pm\nThursday\, December 8\, 2022 6:00pm\nThursday\, January 12\, 2023 6:00pm\nThursday\, March 23\, 2023 6:00pm\nThursday\, May 4\, 2023 6:00pm
URL:https://tapestrycharter.org/event/general-membership-pto-meeting/2022-11-08/
CATEGORIES:PTO
END:VEVENT
BEGIN:VEVENT
DTSTART;TZID=America/New_York:20221107T180000
DTEND;TZID=America/New_York:20221107T193000
DTSTAMP:20260425T151454
CREATED:20221003T010855Z
LAST-MODIFIED:20221003T011309Z
UID:10006086-1667844000-1667849400@tapestrycharter.org
SUMMARY:PTO / General Membership Meeting
DESCRIPTION:Tuesday\, August 30\, 2022 6:00pm\nThursday\, October 20\, 2022 6:00pm\nThursday\, December 8\, 2022 6:00pm\nThursday\, January 12\, 2023 6:00pm\nThursday\, March 23\, 2023 6:00pm\nThursday\, May 4\, 2023 6:00pm
URL:https://tapestrycharter.org/event/general-membership-pto-meeting/2022-11-07/
CATEGORIES:PTO
END:VEVENT
BEGIN:VEVENT
DTSTART;TZID=America/New_York:20221106T180000
DTEND;TZID=America/New_York:20221106T193000
DTSTAMP:20260425T151454
CREATED:20221003T010855Z
LAST-MODIFIED:20221003T011309Z
UID:10006085-1667757600-1667763000@tapestrycharter.org
SUMMARY:PTO / General Membership Meeting
DESCRIPTION:Tuesday\, August 30\, 2022 6:00pm\nThursday\, October 20\, 2022 6:00pm\nThursday\, December 8\, 2022 6:00pm\nThursday\, January 12\, 2023 6:00pm\nThursday\, March 23\, 2023 6:00pm\nThursday\, May 4\, 2023 6:00pm
URL:https://tapestrycharter.org/event/general-membership-pto-meeting/2022-11-06/
CATEGORIES:PTO
END:VEVENT
BEGIN:VEVENT
DTSTART;TZID=America/New_York:20221105T180000
DTEND;TZID=America/New_York:20221105T193000
DTSTAMP:20260425T151454
CREATED:20221003T010855Z
LAST-MODIFIED:20221003T011309Z
UID:10006084-1667671200-1667676600@tapestrycharter.org
SUMMARY:PTO / General Membership Meeting
DESCRIPTION:Tuesday\, August 30\, 2022 6:00pm\nThursday\, October 20\, 2022 6:00pm\nThursday\, December 8\, 2022 6:00pm\nThursday\, January 12\, 2023 6:00pm\nThursday\, March 23\, 2023 6:00pm\nThursday\, May 4\, 2023 6:00pm
URL:https://tapestrycharter.org/event/general-membership-pto-meeting/2022-11-05/
CATEGORIES:PTO
END:VEVENT
BEGIN:VEVENT
DTSTART;TZID=America/New_York:20221105T130000
DTEND;TZID=America/New_York:20221105T150000
DTSTAMP:20260425T151454
CREATED:20221102T205111Z
LAST-MODIFIED:20221102T205111Z
UID:10006242-1667653200-1667660400@tapestrycharter.org
SUMMARY:Basketball: Varsity / Riverside Military (RMA) at RMA in Gainesville
DESCRIPTION:
URL:https://tapestrycharter.org/event/basketball-varsity-riverside-military-rma-at-rma-in-gainesville/
CATEGORIES:Athletics
ORGANIZER;CN="Tapestry PTO":MAILTO:PTO@TapestryCharter.org
END:VEVENT
BEGIN:VEVENT
DTSTART;TZID=America/New_York:20221104T180000
DTEND;TZID=America/New_York:20221104T193000
DTSTAMP:20260425T151454
CREATED:20221003T010855Z
LAST-MODIFIED:20221003T011309Z
UID:10006083-1667584800-1667590200@tapestrycharter.org
SUMMARY:PTO / General Membership Meeting
DESCRIPTION:Tuesday\, August 30\, 2022 6:00pm\nThursday\, October 20\, 2022 6:00pm\nThursday\, December 8\, 2022 6:00pm\nThursday\, January 12\, 2023 6:00pm\nThursday\, March 23\, 2023 6:00pm\nThursday\, May 4\, 2023 6:00pm
URL:https://tapestrycharter.org/event/general-membership-pto-meeting/2022-11-04/
CATEGORIES:PTO
END:VEVENT
BEGIN:VEVENT
DTSTART;TZID=America/New_York:20221104T080000
DTEND;TZID=America/New_York:20221104T083000
DTSTAMP:20260425T151454
CREATED:20221012T235318Z
LAST-MODIFIED:20221012T235318Z
UID:10006209-1667548800-1667550600@tapestrycharter.org
SUMMARY:HS Minecraft Club
DESCRIPTION:
URL:https://tapestrycharter.org/event/hs-minecraft-club-4/
CATEGORIES:Clubs
END:VEVENT
BEGIN:VEVENT
DTSTART;TZID=America/New_York:20221103T180000
DTEND;TZID=America/New_York:20221103T193000
DTSTAMP:20260425T151454
CREATED:20221003T010855Z
LAST-MODIFIED:20221003T011309Z
UID:10006082-1667498400-1667503800@tapestrycharter.org
SUMMARY:PTO / General Membership Meeting
DESCRIPTION:Tuesday\, August 30\, 2022 6:00pm\nThursday\, October 20\, 2022 6:00pm\nThursday\, December 8\, 2022 6:00pm\nThursday\, January 12\, 2023 6:00pm\nThursday\, March 23\, 2023 6:00pm\nThursday\, May 4\, 2023 6:00pm
URL:https://tapestrycharter.org/event/general-membership-pto-meeting/2022-11-03/
CATEGORIES:PTO
END:VEVENT
BEGIN:VEVENT
DTSTART;TZID=America/New_York:20221103T161500
DTEND;TZID=America/New_York:20221103T183000
DTSTAMP:20260425T151454
CREATED:20221102T202305Z
LAST-MODIFIED:20221102T222056Z
UID:10006241-1667492100-1667500200@tapestrycharter.org
SUMMARY:Basketball Home Opener - Varsity & Middle School against Mill Springs Mustangs
DESCRIPTION:Basketball Home Opener – Nov 3rd @ 4:15 pm!!!\n\n\nJoin us for a Double Header on Thursday\, Nov 3rd in the Tapestry Gym as the Middle School and Varsity Basketball Titans take on the Mill Springs Mustangs! The Cheerleaders and Band have prepared special performances to kick off the season.\n\n\n\nThis game is a WHITEOUT!\n\n\n\nTitans Fans are encouraged to wear ALL WHITE to the game. The student in the best/most spirited ALL WHITE outfit will win a hot\, fresh Chick-Fil-A lunch hand-delivered on Friday from the PTO! 1 Middle School and 1 High School winner will be announced at halftime of the Varsity game. You must be present to win!\n\n\nPTO members are encouraged to attend and grab a nametag at the door. PTO Board members will be on hand\, so please stop by and say hello! Spirit wear will be on sale in the lobby and the concession stand is fully stocked with treats. We hope to see you in TITANS TERRITORY on Thursday\, November 3rd!\n\n\n\nStudents & Kids (10 & up) – $3\nAdults – $5\nSenior Citizens (65 & up) – Free with ID\nTapestry Staff – Free with Tapestry ID
URL:https://tapestrycharter.org/event/basketball-home-opener-varsity-middle-school-against-mill-springs-mustangs/
CATEGORIES:Athletics
ORGANIZER;CN="Tapestry PTO":MAILTO:PTO@TapestryCharter.org
END:VEVENT
BEGIN:VEVENT
DTSTART;TZID=America/New_York:20221103T080000
DTEND;TZID=America/New_York:20221103T083000
DTSTAMP:20260425T151454
CREATED:20221012T235227Z
LAST-MODIFIED:20221012T235227Z
UID:10004759-1667462400-1667464200@tapestrycharter.org
SUMMARY:HS Minecraft Club
DESCRIPTION:
URL:https://tapestrycharter.org/event/hs-minecraft-club-3/
CATEGORIES:Clubs
END:VEVENT
BEGIN:VEVENT
DTSTART;TZID=America/New_York:20221102T180000
DTEND;TZID=America/New_York:20221102T193000
DTSTAMP:20260425T151454
CREATED:20221003T010855Z
LAST-MODIFIED:20221003T011309Z
UID:10006081-1667412000-1667417400@tapestrycharter.org
SUMMARY:PTO / General Membership Meeting
DESCRIPTION:Tuesday\, August 30\, 2022 6:00pm\nThursday\, October 20\, 2022 6:00pm\nThursday\, December 8\, 2022 6:00pm\nThursday\, January 12\, 2023 6:00pm\nThursday\, March 23\, 2023 6:00pm\nThursday\, May 4\, 2023 6:00pm
URL:https://tapestrycharter.org/event/general-membership-pto-meeting/2022-11-02/
CATEGORIES:PTO
END:VEVENT
BEGIN:VEVENT
DTSTART;TZID=America/New_York:20221101T180000
DTEND;TZID=America/New_York:20221101T193000
DTSTAMP:20260425T151454
CREATED:20221003T010855Z
LAST-MODIFIED:20221003T011309Z
UID:10006080-1667325600-1667331000@tapestrycharter.org
SUMMARY:PTO / General Membership Meeting
DESCRIPTION:Tuesday\, August 30\, 2022 6:00pm\nThursday\, October 20\, 2022 6:00pm\nThursday\, December 8\, 2022 6:00pm\nThursday\, January 12\, 2023 6:00pm\nThursday\, March 23\, 2023 6:00pm\nThursday\, May 4\, 2023 6:00pm
URL:https://tapestrycharter.org/event/general-membership-pto-meeting/2022-11-01/
CATEGORIES:PTO
END:VEVENT
BEGIN:VEVENT
DTSTART;TZID=America/New_York:20221101T080000
DTEND;TZID=America/New_York:20221102T170000
DTSTAMP:20260425T151454
CREATED:20221003T015039Z
LAST-MODIFIED:20221003T015039Z
UID:10006198-1667289600-1667408400@tapestrycharter.org
SUMMARY:Dia de los Muertos (Day of the Dead)
DESCRIPTION:
URL:https://tapestrycharter.org/event/dia-de-los-muertos-day-of-the-dead/
CATEGORIES:Diversity & Inclusion Calendar
END:VEVENT
BEGIN:VEVENT
DTSTART;TZID=America/New_York:20221101T080000
DTEND;TZID=America/New_York:20221101T083000
DTSTAMP:20260425T151454
CREATED:20221012T235108Z
LAST-MODIFIED:20221012T235108Z
UID:10004758-1667289600-1667291400@tapestrycharter.org
SUMMARY:MS Minecraft Club
DESCRIPTION:
URL:https://tapestrycharter.org/event/ms-minecraft-club-4/
CATEGORIES:Clubs
END:VEVENT
BEGIN:VEVENT
DTSTART;VALUE=DATE:20221101
DTEND;VALUE=DATE:20221102
DTSTAMP:20260425T151454
CREATED:20221003T020602Z
LAST-MODIFIED:20221003T020602Z
UID:10004752-1667260800-1667347199@tapestrycharter.org
SUMMARY:All Saints' Day
DESCRIPTION:
URL:https://tapestrycharter.org/event/all-saints-day/
CATEGORIES:Diversity & Inclusion Calendar
END:VEVENT
BEGIN:VEVENT
DTSTART;VALUE=DATE:20221101
DTEND;VALUE=DATE:20221102
DTSTAMP:20260425T151454
CREATED:20221003T014204Z
LAST-MODIFIED:20221003T020812Z
UID:10006196-1667260800-1667347199@tapestrycharter.org
SUMMARY:Diabetes Awareness Month\, American Heritage Month\, Native American Month
DESCRIPTION:
URL:https://tapestrycharter.org/event/awareness-month-for-diabetes-american-heritage-native-american/
CATEGORIES:Diversity & Inclusion Calendar
END:VEVENT
BEGIN:VEVENT
DTSTART;TZID=America/New_York:20221031T180000
DTEND;TZID=America/New_York:20221031T193000
DTSTAMP:20260425T151454
CREATED:20221003T010855Z
LAST-MODIFIED:20221003T011309Z
UID:10006079-1667239200-1667244600@tapestrycharter.org
SUMMARY:PTO / General Membership Meeting
DESCRIPTION:Tuesday\, August 30\, 2022 6:00pm\nThursday\, October 20\, 2022 6:00pm\nThursday\, December 8\, 2022 6:00pm\nThursday\, January 12\, 2023 6:00pm\nThursday\, March 23\, 2023 6:00pm\nThursday\, May 4\, 2023 6:00pm
URL:https://tapestrycharter.org/event/general-membership-pto-meeting/2022-10-31/
CATEGORIES:PTO
END:VEVENT
BEGIN:VEVENT
DTSTART;TZID=America/New_York:20221031T080000
DTEND;TZID=America/New_York:20221031T083000
DTSTAMP:20260425T151454
CREATED:20221012T235013Z
LAST-MODIFIED:20221012T235013Z
UID:10004757-1667203200-1667205000@tapestrycharter.org
SUMMARY:MS Minecraft Club
DESCRIPTION:
URL:https://tapestrycharter.org/event/ms-minecraft-club-3/
CATEGORIES:Clubs
END:VEVENT
BEGIN:VEVENT
DTSTART;VALUE=DATE:20221031
DTEND;VALUE=DATE:20221101
DTSTAMP:20260425T151454
CREATED:20221003T013846Z
LAST-MODIFIED:20221003T013846Z
UID:10006195-1667174400-1667260799@tapestrycharter.org
SUMMARY:Halloween
DESCRIPTION:
URL:https://tapestrycharter.org/event/halloween/
CATEGORIES:Special Event
END:VEVENT
BEGIN:VEVENT
DTSTART;TZID=America/New_York:20221030T180000
DTEND;TZID=America/New_York:20221030T193000
DTSTAMP:20260425T151454
CREATED:20221003T010855Z
LAST-MODIFIED:20221003T011309Z
UID:10006078-1667152800-1667158200@tapestrycharter.org
SUMMARY:PTO / General Membership Meeting
DESCRIPTION:Tuesday\, August 30\, 2022 6:00pm\nThursday\, October 20\, 2022 6:00pm\nThursday\, December 8\, 2022 6:00pm\nThursday\, January 12\, 2023 6:00pm\nThursday\, March 23\, 2023 6:00pm\nThursday\, May 4\, 2023 6:00pm
URL:https://tapestrycharter.org/event/general-membership-pto-meeting/2022-10-30/
CATEGORIES:PTO
END:VEVENT
BEGIN:VEVENT
DTSTART;TZID=America/New_York:20221029T180000
DTEND;TZID=America/New_York:20221029T193000
DTSTAMP:20260425T151454
CREATED:20221003T010855Z
LAST-MODIFIED:20221003T011309Z
UID:10006077-1667066400-1667071800@tapestrycharter.org
SUMMARY:PTO / General Membership Meeting
DESCRIPTION:Tuesday\, August 30\, 2022 6:00pm\nThursday\, October 20\, 2022 6:00pm\nThursday\, December 8\, 2022 6:00pm\nThursday\, January 12\, 2023 6:00pm\nThursday\, March 23\, 2023 6:00pm\nThursday\, May 4\, 2023 6:00pm
URL:https://tapestrycharter.org/event/general-membership-pto-meeting/2022-10-29/
CATEGORIES:PTO
END:VEVENT
BEGIN:VEVENT
DTSTART;TZID=America/New_York:20221028T180000
DTEND;TZID=America/New_York:20221028T193000
DTSTAMP:20260425T151454
CREATED:20221003T010855Z
LAST-MODIFIED:20221003T011309Z
UID:10006076-1666980000-1666985400@tapestrycharter.org
SUMMARY:PTO / General Membership Meeting
DESCRIPTION:Tuesday\, August 30\, 2022 6:00pm\nThursday\, October 20\, 2022 6:00pm\nThursday\, December 8\, 2022 6:00pm\nThursday\, January 12\, 2023 6:00pm\nThursday\, March 23\, 2023 6:00pm\nThursday\, May 4\, 2023 6:00pm
URL:https://tapestrycharter.org/event/general-membership-pto-meeting/2022-10-28/
CATEGORIES:PTO
END:VEVENT
BEGIN:VEVENT
DTSTART;TZID=America/New_York:20221028T080000
DTEND;TZID=America/New_York:20221028T083000
DTSTAMP:20260425T151454
CREATED:20221012T234913Z
LAST-MODIFIED:20221012T234913Z
UID:10004756-1666944000-1666945800@tapestrycharter.org
SUMMARY:HS Minecraft Club
DESCRIPTION:
URL:https://tapestrycharter.org/event/hs-minecraft-club-2/
CATEGORIES:Clubs
END:VEVENT
BEGIN:VEVENT
DTSTART;TZID=America/New_York:20221027T180000
DTEND;TZID=America/New_York:20221027T193000
DTSTAMP:20260425T151454
CREATED:20221003T010855Z
LAST-MODIFIED:20221003T011309Z
UID:10006075-1666893600-1666899000@tapestrycharter.org
SUMMARY:PTO / General Membership Meeting
DESCRIPTION:Tuesday\, August 30\, 2022 6:00pm\nThursday\, October 20\, 2022 6:00pm\nThursday\, December 8\, 2022 6:00pm\nThursday\, January 12\, 2023 6:00pm\nThursday\, March 23\, 2023 6:00pm\nThursday\, May 4\, 2023 6:00pm
URL:https://tapestrycharter.org/event/general-membership-pto-meeting/2022-10-27/
CATEGORIES:PTO
END:VEVENT
BEGIN:VEVENT
DTSTART;TZID=America/New_York:20221027T080000
DTEND;TZID=America/New_York:20221027T083000
DTSTAMP:20260425T151454
CREATED:20221012T234835Z
LAST-MODIFIED:20221012T234835Z
UID:10004755-1666857600-1666859400@tapestrycharter.org
SUMMARY:HS Minecraft Club
DESCRIPTION:
URL:https://tapestrycharter.org/event/hs-minecraft-club/
CATEGORIES:Clubs
END:VEVENT
BEGIN:VEVENT
DTSTART;TZID=America/New_York:20221026T180000
DTEND;TZID=America/New_York:20221026T193000
DTSTAMP:20260425T151454
CREATED:20221003T010855Z
LAST-MODIFIED:20221003T011309Z
UID:10006074-1666807200-1666812600@tapestrycharter.org
SUMMARY:PTO / General Membership Meeting
DESCRIPTION:Tuesday\, August 30\, 2022 6:00pm\nThursday\, October 20\, 2022 6:00pm\nThursday\, December 8\, 2022 6:00pm\nThursday\, January 12\, 2023 6:00pm\nThursday\, March 23\, 2023 6:00pm\nThursday\, May 4\, 2023 6:00pm
URL:https://tapestrycharter.org/event/general-membership-pto-meeting/2022-10-26/
CATEGORIES:PTO
END:VEVENT
BEGIN:VEVENT
DTSTART;TZID=America/New_York:20221026T080000
DTEND;TZID=America/New_York:20221026T170000
DTSTAMP:20260425T151454
CREATED:20221002T233359Z
LAST-MODIFIED:20221002T233359Z
UID:10006040-1666771200-1666803600@tapestrycharter.org
SUMMARY:Virtual Learning Day
DESCRIPTION:
URL:https://tapestrycharter.org/event/virtual-learning-day/
CATEGORIES:Virtual Learning Day
END:VEVENT
BEGIN:VEVENT
DTSTART;TZID=America/New_York:20221025T180000
DTEND;TZID=America/New_York:20221025T193000
DTSTAMP:20260425T151454
CREATED:20221003T010855Z
LAST-MODIFIED:20221003T011309Z
UID:10006073-1666720800-1666726200@tapestrycharter.org
SUMMARY:PTO / General Membership Meeting
DESCRIPTION:Tuesday\, August 30\, 2022 6:00pm\nThursday\, October 20\, 2022 6:00pm\nThursday\, December 8\, 2022 6:00pm\nThursday\, January 12\, 2023 6:00pm\nThursday\, March 23\, 2023 6:00pm\nThursday\, May 4\, 2023 6:00pm
URL:https://tapestrycharter.org/event/general-membership-pto-meeting/2022-10-25/
CATEGORIES:PTO
END:VEVENT
BEGIN:VEVENT
DTSTART;TZID=America/New_York:20221024T180000
DTEND;TZID=America/New_York:20221024T193000
DTSTAMP:20260425T151454
CREATED:20221003T010855Z
LAST-MODIFIED:20221003T011309Z
UID:10006072-1666634400-1666639800@tapestrycharter.org
SUMMARY:PTO / General Membership Meeting
DESCRIPTION:Tuesday\, August 30\, 2022 6:00pm\nThursday\, October 20\, 2022 6:00pm\nThursday\, December 8\, 2022 6:00pm\nThursday\, January 12\, 2023 6:00pm\nThursday\, March 23\, 2023 6:00pm\nThursday\, May 4\, 2023 6:00pm
URL:https://tapestrycharter.org/event/general-membership-pto-meeting/2022-10-24/
CATEGORIES:PTO
END:VEVENT
END:VCALENDAR