BEGIN:VCALENDAR
VERSION:2.0
PRODID:-//Tapestry Public Charter School - ECPv6.15.20//NONSGML v1.0//EN
CALSCALE:GREGORIAN
METHOD:PUBLISH
X-WR-CALNAME:Tapestry Public Charter School
X-ORIGINAL-URL:https://tapestrycharter.org
X-WR-CALDESC:Events for Tapestry Public Charter School
REFRESH-INTERVAL;VALUE=DURATION:PT1H
X-Robots-Tag:noindex
X-PUBLISHED-TTL:PT1H
BEGIN:VTIMEZONE
TZID:America/New_York
BEGIN:DAYLIGHT
TZOFFSETFROM:-0500
TZOFFSETTO:-0400
TZNAME:EDT
DTSTART:20220313T070000
END:DAYLIGHT
BEGIN:STANDARD
TZOFFSETFROM:-0400
TZOFFSETTO:-0500
TZNAME:EST
DTSTART:20221106T060000
END:STANDARD
BEGIN:DAYLIGHT
TZOFFSETFROM:-0500
TZOFFSETTO:-0400
TZNAME:EDT
DTSTART:20230312T070000
END:DAYLIGHT
BEGIN:STANDARD
TZOFFSETFROM:-0400
TZOFFSETTO:-0500
TZNAME:EST
DTSTART:20231105T060000
END:STANDARD
BEGIN:DAYLIGHT
TZOFFSETFROM:-0500
TZOFFSETTO:-0400
TZNAME:EDT
DTSTART:20240310T070000
END:DAYLIGHT
BEGIN:STANDARD
TZOFFSETFROM:-0400
TZOFFSETTO:-0500
TZNAME:EST
DTSTART:20241103T060000
END:STANDARD
END:VTIMEZONE
BEGIN:VEVENT
DTSTART;TZID=America/New_York:20231111T110000
DTEND;TZID=America/New_York:20231111T170000
DTSTAMP:20260423T231946
CREATED:20231106T163928Z
LAST-MODIFIED:20231110T121010Z
UID:10006364-1699700400-1699722000@tapestrycharter.org
SUMMARY:CANCELED: Sat Athletics Lineup
DESCRIPTION:ALL EVENTS CANCELED FOR Saturday 11/11 \n\nLady Titans\, no games\, no practices.\nMS Basketball vs. RMA / HOME\, NOON (arrive by 11)\nVarsity BAsketball vs RMA / HOME\, 1:00pm (arrive by NOON)\nMS Cheer / HOME\, NOON (arrive by 11am)\nVarsity Cheer / HOME\, 1:00pm (arrive by NOON)\n\nAll Home Basketball games are FREE for Tapestry Students. Games are $5 for adults. \n We encourage all fans to wear their best Titan Red! \nSign up to volunteer for athletics! 
URL:https://tapestrycharter.org/event/sat-athletics-lineup/
END:VEVENT
BEGIN:VEVENT
DTSTART;TZID=America/New_York:20231110T153000
DTEND;TZID=America/New_York:20231110T173000
DTSTAMP:20260423T231946
CREATED:20231106T163507Z
LAST-MODIFIED:20231106T193422Z
UID:10006363-1699630200-1699637400@tapestrycharter.org
SUMMARY:Fri Athletics Lineup
DESCRIPTION:Friday 11/10 \n\nLady Titans\, no games\, no practices.\nAll Cheer\, 3:30-5:15pm: MEET IN CAFETERIA\nMS Basketball Practice\, 3:30-5:3:0 GYM\nVarsity Basketball Practice\, 3:30-5:30pm:GYM\n\nSign up to volunteer for athletics! 
URL:https://tapestrycharter.org/event/fri-athletics-lineup/
CATEGORIES:Athletics
END:VEVENT
BEGIN:VEVENT
DTSTART;TZID=America/New_York:20231109T153000
DTEND;TZID=America/New_York:20231109T170000
DTSTAMP:20260423T231946
CREATED:20231106T163130Z
LAST-MODIFIED:20231106T190543Z
UID:10006362-1699543800-1699549200@tapestrycharter.org
SUMMARY:Thur Athletics Lineup
DESCRIPTION:Thursday 11/9 \n\nAll Cheer\, no games\, no practices.\nLady Titans\, practice: 3:30-5pm: GYM\nMS Basketball\, no games\, no practices.\nVarsity Basketball\, no games\, no practice.\n\nSign up to volunteer for athletics! 
URL:https://tapestrycharter.org/event/thur-athletics-lineup/
CATEGORIES:Athletics
END:VEVENT
BEGIN:VEVENT
DTSTART;TZID=America/New_York:20231108T153000
DTEND;TZID=America/New_York:20231108T173000
DTSTAMP:20260423T231946
CREATED:20231106T162832Z
LAST-MODIFIED:20231106T190502Z
UID:10006361-1699457400-1699464600@tapestrycharter.org
SUMMARY:Wed Athletics Lineup
DESCRIPTION:Wednesday 11/8 \n\nLady Titans\, No games\, no pratices.\nAll Cheer\, 3:30-5:15pm: MEET IN CAFETERIA\nMS Basketball Practice\, 3:30-5:30: GYM\nVarsity Basketball Practice\, 3:30-5:30pm: GYM\n\nSign up to volunteer for athletics! 
URL:https://tapestrycharter.org/event/wed-athletics-lineup/
CATEGORIES:Athletics
END:VEVENT
BEGIN:VEVENT
DTSTART;TZID=America/New_York:20231107T153000
DTEND;TZID=America/New_York:20231107T190000
DTSTAMP:20260423T231946
CREATED:20231106T161809Z
LAST-MODIFIED:20231106T190410Z
UID:10006360-1699371000-1699383600@tapestrycharter.org
SUMMARY:Tuesday Athletics Lineup
DESCRIPTION:Tuesday 11/7 \n\nMS Basketball vs. MSA / HOME\, 4:00pm (arrive by 3pm)\nLady Titans vs. MSA / HOME\, 5:00pm (arrive by 3pm)\nVarsity Basketballs vs. MSA\, HOME\, 6:15pm (arrive by 4pm)\nMS Cheer / Home: 4pm (arrive by 3pm)\nVarsity Cheer / Home: 5: 3opm (arrive by 4pm)\n\nAll Home Basketball games are FREE for Tapestry Students. Games are $5 for adults. \n We encourage all fans to wear their best Titan Red! \nSign up to volunteer for athletics! 
URL:https://tapestrycharter.org/event/tuesday-athletics-lineup/
CATEGORIES:Athletics
END:VEVENT
BEGIN:VEVENT
DTSTART;TZID=America/New_York:20231107T080000
DTEND;TZID=America/New_York:20231107T153000
DTSTAMP:20260423T231946
CREATED:20230916T205616Z
LAST-MODIFIED:20231106T162522Z
UID:10006340-1699344000-1699371000@tapestrycharter.org
SUMMARY:Virtual Day & Prof Dev
DESCRIPTION:
URL:https://tapestrycharter.org/event/virtual-learning-professional-development-2/
CATEGORIES:Virtual Learning Day
END:VEVENT
BEGIN:VEVENT
DTSTART;TZID=America/New_York:20231106T150000
DTEND;TZID=America/New_York:20231106T190000
DTSTAMP:20260423T231946
CREATED:20231106T161159Z
LAST-MODIFIED:20231106T190329Z
UID:10006359-1699282800-1699297200@tapestrycharter.org
SUMMARY:Mon Athletics Lineup
DESCRIPTION:Monday 11/6 \n\nLady Titans Practic: 3:30-5:00pm GYM\nAll Cheer: 3:30-5:15pm CAFETERIA\nMS Basketball Practice: 3:30-5:30 GYM\nVarsity Basketball Practice: 3:30-5:30 GYM\n\nSign up to volunteer for athletics! 
URL:https://tapestrycharter.org/event/mon-athletics-lineup/
CATEGORIES:Athletics
END:VEVENT
BEGIN:VEVENT
DTSTART;TZID=America/New_York:20231027T170000
DTEND;TZID=America/New_York:20231027T190000
DTSTAMP:20260423T231946
CREATED:20230912T134552Z
LAST-MODIFIED:20230912T134552Z
UID:10006336-1698426000-1698433200@tapestrycharter.org
SUMMARY:WHO DONE IT !
DESCRIPTION:Do you consider yourself an armature Sherlock Holmes? Well come and enjoy a night of mystery and suspense with the Tapestry Charter ” Mystery Dinner” \nWhen: 10/27/2023 \nWhere: Tapestry Cafeteria \nTime: 5pm-7pm
URL:https://tapestrycharter.org/event/who-done-it/
CATEGORIES:Special Event
END:VEVENT
BEGIN:VEVENT
DTSTART;TZID=America/New_York:20231013T163000
DTEND;TZID=America/New_York:20231013T183000
DTSTAMP:20260423T231946
CREATED:20230921T123148Z
LAST-MODIFIED:20230921T123148Z
UID:10006358-1697214600-1697221800@tapestrycharter.org
SUMMARY:Titans After Dark
DESCRIPTION:Middle School Dance
URL:https://tapestrycharter.org/event/titans-after-dark/
END:VEVENT
BEGIN:VEVENT
DTSTART;TZID=America/New_York:20231009T080000
DTEND;TZID=America/New_York:20231009T170000
DTSTAMP:20260423T231946
CREATED:20230916T210159Z
LAST-MODIFIED:20230916T210159Z
UID:10006342-1696838400-1696870800@tapestrycharter.org
SUMMARY:School Closed Holiday
DESCRIPTION:Indigenous Peoples Day / Columbus Day
URL:https://tapestrycharter.org/event/school-closed-holiday/
CATEGORIES:School Closed
END:VEVENT
BEGIN:VEVENT
DTSTART;TZID=America/New_York:20231006T080000
DTEND;TZID=America/New_York:20231006T170000
DTSTAMP:20260423T231946
CREATED:20230916T205827Z
LAST-MODIFIED:20230916T205841Z
UID:10006341-1696579200-1696611600@tapestrycharter.org
SUMMARY:Professional Development (students do not report)
DESCRIPTION:
URL:https://tapestrycharter.org/event/professional-development-students-do-not-report/
CATEGORIES:Teacher Work Day / Professional Development
END:VEVENT
BEGIN:VEVENT
DTSTART;VALUE=DATE:20231006
DTEND;VALUE=DATE:20231007
DTSTAMP:20260423T231946
CREATED:20230921T114920Z
LAST-MODIFIED:20230921T114920Z
UID:10006356-1696550400-1696636799@tapestrycharter.org
SUMMARY:No School
DESCRIPTION:
URL:https://tapestrycharter.org/event/no-school/
END:VEVENT
BEGIN:VEVENT
DTSTART;TZID=America/New_York:20230922T080000
DTEND;TZID=America/New_York:20230922T170000
DTSTAMP:20260423T231946
CREATED:20230921T115340Z
LAST-MODIFIED:20230921T115340Z
UID:10006357-1695369600-1695402000@tapestrycharter.org
SUMMARY:Wacky Hair Day
DESCRIPTION:Show off your wackiest hair do’s
URL:https://tapestrycharter.org/event/wacky-hair-day/
END:VEVENT
BEGIN:VEVENT
DTSTART;TZID=America/New_York:20230920T080000
DTEND;TZID=America/New_York:20230920T153000
DTSTAMP:20260423T231946
CREATED:20230916T205514Z
LAST-MODIFIED:20230916T205514Z
UID:10006339-1695196800-1695223800@tapestrycharter.org
SUMMARY:Virtual Learning/Professional Development
DESCRIPTION:
URL:https://tapestrycharter.org/event/virtual-learning-professional-development/
CATEGORIES:Virtual Learning Day
END:VEVENT
BEGIN:VEVENT
DTSTART;TZID=America/New_York:20230912T180000
DTEND;TZID=America/New_York:20230912T200000
DTSTAMP:20260423T231946
CREATED:20230906T190847Z
LAST-MODIFIED:20230906T190847Z
UID:10006332-1694541600-1694548800@tapestrycharter.org
SUMMARY:What's next after the hat comes down: A presentation on what happens after graduation
DESCRIPTION:Emory partners will be giving a presentation on this topic at 6 p.m. on September 12 in the LIBRARY at Tapestry. The presentation will be recorded. For junior and Senior Parents ( Free to Attend)
URL:https://tapestrycharter.org/event/whats-next-after-the-hat-comes-down-a-presentation-on-what-happens-after-graduation/
CATEGORIES:Special Event
END:VEVENT
BEGIN:VEVENT
DTSTART;TZID=America/New_York:20230911T074500
DTEND;TZID=America/New_York:20230911T083000
DTSTAMP:20260423T231946
CREATED:20230906T192404Z
LAST-MODIFIED:20230906T192404Z
UID:10006334-1694418300-1694421000@tapestrycharter.org
SUMMARY:Let's Make Music
DESCRIPTION:First meeting of Tapestry Instrumental Ensemble will be held in the high school music room
URL:https://tapestrycharter.org/event/lets-make-music/
CATEGORIES:Clubs
END:VEVENT
BEGIN:VEVENT
DTSTART;TZID=America/New_York:20230908T080000
DTEND;TZID=America/New_York:20230908T153000
DTSTAMP:20260423T231946
CREATED:20230906T192015Z
LAST-MODIFIED:20230906T192015Z
UID:10006333-1694160000-1694187000@tapestrycharter.org
SUMMARY:Spirit Day
DESCRIPTION:Wear your favorite Hawaiian shirt or a shirt that you purchased on your favorite vacation
URL:https://tapestrycharter.org/event/spirit-day/
CATEGORIES:Special Event
END:VEVENT
BEGIN:VEVENT
DTSTART;TZID=America/New_York:20230905T170000
DTEND;TZID=America/New_York:20230905T200000
DTSTAMP:20260423T231946
CREATED:20230901T181136Z
LAST-MODIFIED:20230901T181136Z
UID:10006331-1693933200-1693944000@tapestrycharter.org
SUMMARY:APS Red out
DESCRIPTION:Please join Tapestry @ APS HQ  @ 130 Trinity Ave Atlanta GA on September 5th to show support. Please wear RED
URL:https://tapestrycharter.org/event/aps-red-out/
CATEGORIES:Special Event
END:VEVENT
BEGIN:VEVENT
DTSTART;TZID=America/New_York:20230825T083000
DTEND;TZID=America/New_York:20230825T093000
DTSTAMP:20260423T231946
CREATED:20230823T195828Z
LAST-MODIFIED:20230823T195828Z
UID:10006330-1692952200-1692955800@tapestrycharter.org
SUMMARY:Principal Coffee. Library or virtual
DESCRIPTION:Library from 8:30-9:30am  or virtual google meet click here 
URL:https://tapestrycharter.org/event/principal-coffee-library-or-virtual/
CATEGORIES:Special Event
END:VEVENT
BEGIN:VEVENT
DTSTART;TZID=America/New_York:20230807T080000
DTEND;TZID=America/New_York:20230807T153000
DTSTAMP:20260423T231946
CREATED:20230725T175645Z
LAST-MODIFIED:20230725T175822Z
UID:10006329-1691395200-1691422200@tapestrycharter.org
SUMMARY:First Day of School for 2023-2024 School Year
DESCRIPTION:Welcome back!
URL:https://tapestrycharter.org/event/first-day-of-school-for-2023-2024-school-year/
CATEGORIES:First / Last Day of Semester
END:VEVENT
BEGIN:VEVENT
DTSTART;TZID=America/New_York:20230803T160000
DTEND;TZID=America/New_York:20230803T180000
DTSTAMP:20260423T231946
CREATED:20230725T175140Z
LAST-MODIFIED:20230725T175543Z
UID:10006328-1691078400-1691085600@tapestrycharter.org
SUMMARY:Open House for 2023-2024 School Year
DESCRIPTION:Join us from 4pm-6pm for Open House! Learn about the PTO\, athletics\, clubs and ways for you and your family to get involved in the Tapestry community. See you there!
URL:https://tapestrycharter.org/event/open-house-for-2023-2024-school-year/
CATEGORIES:Special Event
END:VEVENT
BEGIN:VEVENT
DTSTART;TZID=America/New_York:20230725T100000
DTEND;TZID=America/New_York:20230726T160000
DTSTAMP:20260423T231946
CREATED:20230725T174917Z
LAST-MODIFIED:20230725T174917Z
UID:10006327-1690279200-1690387200@tapestrycharter.org
SUMMARY:TIPs Conference
DESCRIPTION:More info here! 
URL:https://tapestrycharter.org/event/tips-conference-2/
CATEGORIES:Special Event,Teacher Work Day / Professional Development
END:VEVENT
BEGIN:VEVENT
DTSTART;TZID=America/New_York:20230612T190000
DTEND;TZID=America/New_York:20230612T200000
DTSTAMP:20260423T231946
CREATED:20221112T204254Z
LAST-MODIFIED:20221112T204254Z
UID:10006285-1686596400-1686600000@tapestrycharter.org
SUMMARY:Board Meeting
DESCRIPTION:Monday\, June 12\, 2023\, 7:00 p.m. -Board Meeting \nTapestry Public Charter School\,  3130 Raymond Dr.\, Atlanta\, GA  30340 \nHere is the link to past meeting minutes and agendas.  \n 
URL:https://tapestrycharter.org/event/board-meeting-22/
CATEGORIES:Board Meeting
END:VEVENT
BEGIN:VEVENT
DTSTART;VALUE=DATE:20230529
DTEND;VALUE=DATE:20230530
DTSTAMP:20260423T231946
CREATED:20221002T235304Z
LAST-MODIFIED:20221003T003153Z
UID:10006053-1685318400-1685404799@tapestrycharter.org
SUMMARY:Memorial Day
DESCRIPTION:
URL:https://tapestrycharter.org/event/memorial-day-3/
CATEGORIES:Holiday
END:VEVENT
BEGIN:VEVENT
DTSTART;VALUE=DATE:20230525
DTEND;VALUE=DATE:20230526
DTSTAMP:20260423T231946
CREATED:20221002T235018Z
LAST-MODIFIED:20221002T235018Z
UID:10006052-1684972800-1685059199@tapestrycharter.org
SUMMARY:Professional Developement
DESCRIPTION:
URL:https://tapestrycharter.org/event/professional-developement/
CATEGORIES:Teacher Work Day / Professional Development
END:VEVENT
BEGIN:VEVENT
DTSTART;VALUE=DATE:20230524
DTEND;VALUE=DATE:20230525
DTSTAMP:20260423T231946
CREATED:20221002T234906Z
LAST-MODIFIED:20221002T235122Z
UID:10006051-1684886400-1684972799@tapestrycharter.org
SUMMARY:First & Last Day of Semester / Early Release
DESCRIPTION:
URL:https://tapestrycharter.org/event/first-last-day-of-semester/
CATEGORIES:First / Last Day of Semester
END:VEVENT
BEGIN:VEVENT
DTSTART;TZID=America/New_York:20230523T080000
DTEND;TZID=America/New_York:20230523T083000
DTSTAMP:20260423T231946
CREATED:20221013T004924Z
LAST-MODIFIED:20221013T004924Z
UID:10006236-1684828800-1684830600@tapestrycharter.org
SUMMARY:MS Minecraft Club
DESCRIPTION:
URL:https://tapestrycharter.org/event/ms-minecraft-club-27/
CATEGORIES:Clubs
END:VEVENT
BEGIN:VEVENT
DTSTART;TZID=America/New_York:20230522T080000
DTEND;TZID=America/New_York:20230522T170000
DTSTAMP:20260423T231946
CREATED:20230426T020434Z
LAST-MODIFIED:20230426T020434Z
UID:10006316-1684742400-1684774800@tapestrycharter.org
SUMMARY:Tapestry Graduation & VIRTUAL DAY May 22
DESCRIPTION:Tapestry Graduation will be held on Monday\, May 22\, 2023\, at 9:00 am at Hallford Stadium. Due to the time of the event\, May 22 will now be a Virtual Day for all students so that our staff members and families can attend the ceremony and support our students.
URL:https://tapestrycharter.org/event/tapestry-graduation-virtual-day-may-22/
CATEGORIES:Special Event,Virtual Learning Day
END:VEVENT
BEGIN:VEVENT
DTSTART;TZID=America/New_York:20230522T080000
DTEND;TZID=America/New_York:20230522T083000
DTSTAMP:20260423T231946
CREATED:20221013T004837Z
LAST-MODIFIED:20221013T004837Z
UID:10006235-1684742400-1684744200@tapestrycharter.org
SUMMARY:MS Minecraft Club
DESCRIPTION:
URL:https://tapestrycharter.org/event/ms-minecraft-club-26/
CATEGORIES:Clubs
END:VEVENT
BEGIN:VEVENT
DTSTART;TZID=America/New_York:20230519T080000
DTEND;TZID=America/New_York:20230519T170000
DTSTAMP:20260423T231946
CREATED:20230519T143957Z
LAST-MODIFIED:20230519T144800Z
UID:10006326-1684483200-1684515600@tapestrycharter.org
SUMMARY:Tapestry Graduation & Virtual Day
DESCRIPTION:Tapestry Graduation & VIRTUAL DAY \nTapestry Graduation will be held on Monday\, May 22\, 2023\, at 9:00 am at Hallford Stadium. \nDue to the time of the event\, May 22 is now a Virtual Day for all students so that our staff members and families can attend the ceremony and support our students.
URL:https://tapestrycharter.org/event/tapestry-graduation-virtual-day/
CATEGORIES:Special Event,Virtual Learning Day
END:VEVENT
END:VCALENDAR