BEGIN:VCALENDAR
VERSION:2.0
PRODID:-//Tapestry Public Charter School - ECPv6.15.20//NONSGML v1.0//EN
CALSCALE:GREGORIAN
METHOD:PUBLISH
X-ORIGINAL-URL:https://tapestrycharter.org
X-WR-CALDESC:Events for Tapestry Public Charter School
REFRESH-INTERVAL;VALUE=DURATION:PT1H
X-Robots-Tag:noindex
X-PUBLISHED-TTL:PT1H
BEGIN:VTIMEZONE
TZID:America/New_York
BEGIN:DAYLIGHT
TZOFFSETFROM:-0500
TZOFFSETTO:-0400
TZNAME:EDT
DTSTART:20220313T070000
END:DAYLIGHT
BEGIN:STANDARD
TZOFFSETFROM:-0400
TZOFFSETTO:-0500
TZNAME:EST
DTSTART:20221106T060000
END:STANDARD
BEGIN:DAYLIGHT
TZOFFSETFROM:-0500
TZOFFSETTO:-0400
TZNAME:EDT
DTSTART:20230312T070000
END:DAYLIGHT
BEGIN:STANDARD
TZOFFSETFROM:-0400
TZOFFSETTO:-0500
TZNAME:EST
DTSTART:20231105T060000
END:STANDARD
BEGIN:DAYLIGHT
TZOFFSETFROM:-0500
TZOFFSETTO:-0400
TZNAME:EDT
DTSTART:20240310T070000
END:DAYLIGHT
BEGIN:STANDARD
TZOFFSETFROM:-0400
TZOFFSETTO:-0500
TZNAME:EST
DTSTART:20241103T060000
END:STANDARD
END:VTIMEZONE
BEGIN:VEVENT
DTSTART;TZID=America/New_York:20230209T180000
DTEND;TZID=America/New_York:20230209T193000
DTSTAMP:20260424T103009
CREATED:20221003T010855Z
LAST-MODIFIED:20221003T011309Z
UID:10006180-1675965600-1675971000@tapestrycharter.org
SUMMARY:PTO / General Membership Meeting
DESCRIPTION:Tuesday\, August 30\, 2022 6:00pm\nThursday\, October 20\, 2022 6:00pm\nThursday\, December 8\, 2022 6:00pm\nThursday\, January 12\, 2023 6:00pm\nThursday\, March 23\, 2023 6:00pm\nThursday\, May 4\, 2023 6:00pm
URL:https://tapestrycharter.org/event/general-membership-pto-meeting/2023-02-09/
CATEGORIES:PTO
END:VEVENT
BEGIN:VEVENT
DTSTART;TZID=America/New_York:20230208T180000
DTEND;TZID=America/New_York:20230208T193000
DTSTAMP:20260424T103009
CREATED:20221003T010855Z
LAST-MODIFIED:20221003T011309Z
UID:10006179-1675879200-1675884600@tapestrycharter.org
SUMMARY:PTO / General Membership Meeting
DESCRIPTION:Tuesday\, August 30\, 2022 6:00pm\nThursday\, October 20\, 2022 6:00pm\nThursday\, December 8\, 2022 6:00pm\nThursday\, January 12\, 2023 6:00pm\nThursday\, March 23\, 2023 6:00pm\nThursday\, May 4\, 2023 6:00pm
URL:https://tapestrycharter.org/event/general-membership-pto-meeting/2023-02-08/
CATEGORIES:PTO
END:VEVENT
BEGIN:VEVENT
DTSTART;TZID=America/New_York:20230208T170000
DTEND;TZID=America/New_York:20230208T180000
DTSTAMP:20260424T103009
CREATED:20230105T012926Z
LAST-MODIFIED:20230105T013028Z
UID:10006306-1675875600-1675879200@tapestrycharter.org
SUMMARY:Basketball: HS / CCS / Senior Night at Tapestry
DESCRIPTION:Basketball: HS / CCS / Senior Night at Tapestry
URL:https://tapestrycharter.org/event/basketball-hs-ccs-senior-night-at-tapestry/
CATEGORIES:Athletics
END:VEVENT
BEGIN:VEVENT
DTSTART;TZID=America/New_York:20230208T100000
DTEND;TZID=America/New_York:20230208T113000
DTSTAMP:20260424T103009
CREATED:20230104T155946Z
LAST-MODIFIED:20230105T002706Z
UID:10005946-1675850400-1675855800@tapestrycharter.org
SUMMARY:Tapestry School Tour
DESCRIPTION:Enrollment information.  \nRSVP at bit.ly/tourtapestry
URL:https://tapestrycharter.org/event/tapestry-school-tour-4/
CATEGORIES:Special Event
END:VEVENT
BEGIN:VEVENT
DTSTART;TZID=America/New_York:20230207T180000
DTEND;TZID=America/New_York:20230207T193000
DTSTAMP:20260424T103009
CREATED:20221003T010855Z
LAST-MODIFIED:20221003T011309Z
UID:10006178-1675792800-1675798200@tapestrycharter.org
SUMMARY:PTO / General Membership Meeting
DESCRIPTION:Tuesday\, August 30\, 2022 6:00pm\nThursday\, October 20\, 2022 6:00pm\nThursday\, December 8\, 2022 6:00pm\nThursday\, January 12\, 2023 6:00pm\nThursday\, March 23\, 2023 6:00pm\nThursday\, May 4\, 2023 6:00pm
URL:https://tapestrycharter.org/event/general-membership-pto-meeting/2023-02-07/
CATEGORIES:PTO
END:VEVENT
BEGIN:VEVENT
DTSTART;TZID=America/New_York:20230207T153000
DTEND;TZID=America/New_York:20230207T163000
DTSTAMP:20260424T103009
CREATED:20221112T195326Z
LAST-MODIFIED:20221112T195453Z
UID:10006271-1675783800-1675787400@tapestrycharter.org
SUMMARY:Tapestry Choir
DESCRIPTION:Tapestry Choir\n–  Practice Tuesdays\, 3:30 – 4:30 p.m.\n–  Please contact Ms. Jackson cydney.jackson@tapestrycharter.org for more information.
URL:https://tapestrycharter.org/event/tapestry-choir-2/2023-02-07/
CATEGORIES:Clubs
END:VEVENT
BEGIN:VEVENT
DTSTART;TZID=America/New_York:20230207T080000
DTEND;TZID=America/New_York:20230207T083000
DTSTAMP:20260424T103009
CREATED:20221013T001205Z
LAST-MODIFIED:20221013T001205Z
UID:10004769-1675756800-1675758600@tapestrycharter.org
SUMMARY:MS Minecraft Club
DESCRIPTION:
URL:https://tapestrycharter.org/event/ms-minecraft-club-14/
CATEGORIES:Clubs
END:VEVENT
BEGIN:VEVENT
DTSTART;TZID=America/New_York:20230206T180000
DTEND;TZID=America/New_York:20230206T193000
DTSTAMP:20260424T103009
CREATED:20221003T010855Z
LAST-MODIFIED:20221003T011309Z
UID:10006177-1675706400-1675711800@tapestrycharter.org
SUMMARY:PTO / General Membership Meeting
DESCRIPTION:Tuesday\, August 30\, 2022 6:00pm\nThursday\, October 20\, 2022 6:00pm\nThursday\, December 8\, 2022 6:00pm\nThursday\, January 12\, 2023 6:00pm\nThursday\, March 23\, 2023 6:00pm\nThursday\, May 4\, 2023 6:00pm
URL:https://tapestrycharter.org/event/general-membership-pto-meeting/2023-02-06/
CATEGORIES:PTO
END:VEVENT
BEGIN:VEVENT
DTSTART;TZID=America/New_York:20230206T080000
DTEND;TZID=America/New_York:20230206T170000
DTSTAMP:20260424T103009
CREATED:20221119T013916Z
LAST-MODIFIED:20221119T013916Z
UID:10005937-1675670400-1675702800@tapestrycharter.org
SUMMARY:Gay-Straight Alliance (GSA) Meeting
DESCRIPTION:Gay-Straight Alliance (GSA) Meeting \nThe Gay-Straight Alliance (GSA) Meeting is 3:30-4:00 p.m in Mr. Van Kirk’s room. Additionally\, regular meetings will be held every Monday at 3:30-4:00 in Mr. Van Kirk’s room. For more information please contact Ms. Williams
URL:https://tapestrycharter.org/event/gay-straight-alliance-gsa-meeting-7/2023-02-06/
CATEGORIES:Clubs
END:VEVENT
BEGIN:VEVENT
DTSTART;TZID=America/New_York:20230206T080000
DTEND;TZID=America/New_York:20230206T083000
DTSTAMP:20260424T103009
CREATED:20221013T001125Z
LAST-MODIFIED:20221013T001125Z
UID:10004768-1675670400-1675672200@tapestrycharter.org
SUMMARY:MS Minecraft Club
DESCRIPTION:
URL:https://tapestrycharter.org/event/ms-minecraft-club-13/
CATEGORIES:Clubs
END:VEVENT
BEGIN:VEVENT
DTSTART;VALUE=DATE:20230206
DTEND;VALUE=DATE:20230308
DTSTAMP:20260424T103009
CREATED:20230105T010256Z
LAST-MODIFIED:20230105T010256Z
UID:10006302-1675641600-1678233599@tapestrycharter.org
SUMMARY:Basketball: MS / APAC Tournament at The Cottage School (Time TBD)
DESCRIPTION:Basketball: MS / APAC Tournament at The Cottage School in Roswell the time is to be determined.
URL:https://tapestrycharter.org/event/basketball-ms-apac-tournament-at-the-cottage-school-time-tbd/
END:VEVENT
BEGIN:VEVENT
DTSTART;TZID=America/New_York:20230205T180000
DTEND;TZID=America/New_York:20230205T193000
DTSTAMP:20260424T103009
CREATED:20221003T010855Z
LAST-MODIFIED:20221003T011309Z
UID:10006176-1675620000-1675625400@tapestrycharter.org
SUMMARY:PTO / General Membership Meeting
DESCRIPTION:Tuesday\, August 30\, 2022 6:00pm\nThursday\, October 20\, 2022 6:00pm\nThursday\, December 8\, 2022 6:00pm\nThursday\, January 12\, 2023 6:00pm\nThursday\, March 23\, 2023 6:00pm\nThursday\, May 4\, 2023 6:00pm
URL:https://tapestrycharter.org/event/general-membership-pto-meeting/2023-02-05/
CATEGORIES:PTO
END:VEVENT
BEGIN:VEVENT
DTSTART;TZID=America/New_York:20230204T180000
DTEND;TZID=America/New_York:20230204T193000
DTSTAMP:20260424T103009
CREATED:20221003T010855Z
LAST-MODIFIED:20221003T011309Z
UID:10006175-1675533600-1675539000@tapestrycharter.org
SUMMARY:PTO / General Membership Meeting
DESCRIPTION:Tuesday\, August 30\, 2022 6:00pm\nThursday\, October 20\, 2022 6:00pm\nThursday\, December 8\, 2022 6:00pm\nThursday\, January 12\, 2023 6:00pm\nThursday\, March 23\, 2023 6:00pm\nThursday\, May 4\, 2023 6:00pm
URL:https://tapestrycharter.org/event/general-membership-pto-meeting/2023-02-04/
CATEGORIES:PTO
END:VEVENT
BEGIN:VEVENT
DTSTART;TZID=America/New_York:20230203T180000
DTEND;TZID=America/New_York:20230203T193000
DTSTAMP:20260424T103009
CREATED:20221003T010855Z
LAST-MODIFIED:20221003T011309Z
UID:10006174-1675447200-1675452600@tapestrycharter.org
SUMMARY:PTO / General Membership Meeting
DESCRIPTION:Tuesday\, August 30\, 2022 6:00pm\nThursday\, October 20\, 2022 6:00pm\nThursday\, December 8\, 2022 6:00pm\nThursday\, January 12\, 2023 6:00pm\nThursday\, March 23\, 2023 6:00pm\nThursday\, May 4\, 2023 6:00pm
URL:https://tapestrycharter.org/event/general-membership-pto-meeting/2023-02-03/
CATEGORIES:PTO
END:VEVENT
BEGIN:VEVENT
DTSTART;TZID=America/New_York:20230203T080000
DTEND;TZID=America/New_York:20230203T083000
DTSTAMP:20260424T103009
CREATED:20221013T001024Z
LAST-MODIFIED:20221013T001024Z
UID:10004767-1675411200-1675413000@tapestrycharter.org
SUMMARY:HS Minecraft Club
DESCRIPTION:
URL:https://tapestrycharter.org/event/hs-minecraft-club-13/
CATEGORIES:Clubs
END:VEVENT
BEGIN:VEVENT
DTSTART;TZID=America/New_York:20230202T180000
DTEND;TZID=America/New_York:20230202T193000
DTSTAMP:20260424T103009
CREATED:20221003T010855Z
LAST-MODIFIED:20221003T011309Z
UID:10006173-1675360800-1675366200@tapestrycharter.org
SUMMARY:PTO / General Membership Meeting
DESCRIPTION:Tuesday\, August 30\, 2022 6:00pm\nThursday\, October 20\, 2022 6:00pm\nThursday\, December 8\, 2022 6:00pm\nThursday\, January 12\, 2023 6:00pm\nThursday\, March 23\, 2023 6:00pm\nThursday\, May 4\, 2023 6:00pm
URL:https://tapestrycharter.org/event/general-membership-pto-meeting/2023-02-02/
CATEGORIES:PTO
END:VEVENT
BEGIN:VEVENT
DTSTART;TZID=America/New_York:20230202T170000
DTEND;TZID=America/New_York:20230202T180000
DTSTAMP:20260424T103009
CREATED:20230105T012657Z
LAST-MODIFIED:20230105T012713Z
UID:10006305-1675357200-1675360800@tapestrycharter.org
SUMMARY:Basketball: HS / The Howard School at Tapestry
DESCRIPTION:Basketball: HS / The Howard School at Tapestry (AAC Conference Game)
URL:https://tapestrycharter.org/event/basketball-hs-the-howard-school-at-tapestry/
CATEGORIES:Athletics
END:VEVENT
BEGIN:VEVENT
DTSTART;TZID=America/New_York:20230202T160000
DTEND;TZID=America/New_York:20230202T170000
DTSTAMP:20260424T103009
CREATED:20230124T223451Z
LAST-MODIFIED:20230124T223451Z
UID:10006307-1675353600-1675357200@tapestrycharter.org
SUMMARY:Basketball: MS / Mill Springs at Tapestry
DESCRIPTION:Basketball: MS/Basketball (AAC Conference Game)
URL:https://tapestrycharter.org/event/basketball-ms-mill-springs-at-tapestry/
CATEGORIES:Athletics
END:VEVENT
BEGIN:VEVENT
DTSTART;TZID=America/New_York:20230202T080000
DTEND;TZID=America/New_York:20230202T083000
DTSTAMP:20260424T103009
CREATED:20221013T000848Z
LAST-MODIFIED:20221013T000848Z
UID:10004766-1675324800-1675326600@tapestrycharter.org
SUMMARY:HS Minecraft Club
DESCRIPTION:
URL:https://tapestrycharter.org/event/hs-minecraft-club-12/
CATEGORIES:Clubs
END:VEVENT
BEGIN:VEVENT
DTSTART;TZID=America/New_York:20230201T180000
DTEND;TZID=America/New_York:20230201T193000
DTSTAMP:20260424T103009
CREATED:20221003T010855Z
LAST-MODIFIED:20221003T011309Z
UID:10006172-1675274400-1675279800@tapestrycharter.org
SUMMARY:PTO / General Membership Meeting
DESCRIPTION:Tuesday\, August 30\, 2022 6:00pm\nThursday\, October 20\, 2022 6:00pm\nThursday\, December 8\, 2022 6:00pm\nThursday\, January 12\, 2023 6:00pm\nThursday\, March 23\, 2023 6:00pm\nThursday\, May 4\, 2023 6:00pm
URL:https://tapestrycharter.org/event/general-membership-pto-meeting/2023-02-01/
CATEGORIES:PTO
END:VEVENT
BEGIN:VEVENT
DTSTART;TZID=America/New_York:20230201T100000
DTEND;TZID=America/New_York:20230201T113000
DTSTAMP:20260424T103009
CREATED:20230104T155814Z
LAST-MODIFIED:20230105T002746Z
UID:10005945-1675245600-1675251000@tapestrycharter.org
SUMMARY:Tapestry School Tour
DESCRIPTION:Enrollment information.  \nRSVP at bit.ly/tourtapestry
URL:https://tapestrycharter.org/event/tapestry-school-tour-3/
CATEGORIES:Special Event
END:VEVENT
BEGIN:VEVENT
DTSTART;TZID=America/New_York:20230131T180000
DTEND;TZID=America/New_York:20230131T193000
DTSTAMP:20260424T103009
CREATED:20221003T010855Z
LAST-MODIFIED:20221003T011309Z
UID:10006171-1675188000-1675193400@tapestrycharter.org
SUMMARY:PTO / General Membership Meeting
DESCRIPTION:Tuesday\, August 30\, 2022 6:00pm\nThursday\, October 20\, 2022 6:00pm\nThursday\, December 8\, 2022 6:00pm\nThursday\, January 12\, 2023 6:00pm\nThursday\, March 23\, 2023 6:00pm\nThursday\, May 4\, 2023 6:00pm
URL:https://tapestrycharter.org/event/general-membership-pto-meeting/2023-01-31/
CATEGORIES:PTO
END:VEVENT
BEGIN:VEVENT
DTSTART;TZID=America/New_York:20230131T171500
DTEND;TZID=America/New_York:20230131T181500
DTSTAMP:20260424T103009
CREATED:20230105T012527Z
LAST-MODIFIED:20230105T012527Z
UID:10006304-1675185300-1675188900@tapestrycharter.org
SUMMARY:Basketball: HS / The Cottage School at Tapestry
DESCRIPTION:Basketball: HS / The Cottage School at Tapestry (AAC Conference Game)
URL:https://tapestrycharter.org/event/basketball-hs-the-cottage-school-at-tapestry/
CATEGORIES:Athletics
END:VEVENT
BEGIN:VEVENT
DTSTART;TZID=America/New_York:20230131T161500
DTEND;TZID=America/New_York:20230131T171500
DTSTAMP:20260424T103009
CREATED:20230105T010039Z
LAST-MODIFIED:20230105T010039Z
UID:10006301-1675181700-1675185300@tapestrycharter.org
SUMMARY:Basketball: MS / The Cottage School at Tapestry
DESCRIPTION:Basketball: MS / The Cottage School (Game #2) at Tapestry
URL:https://tapestrycharter.org/event/basketball-ms-the-cottage-school-at-tapestry/
CATEGORIES:Athletics
END:VEVENT
BEGIN:VEVENT
DTSTART;TZID=America/New_York:20230131T153000
DTEND;TZID=America/New_York:20230131T163000
DTSTAMP:20260424T103009
CREATED:20221112T195326Z
LAST-MODIFIED:20221112T195453Z
UID:10006270-1675179000-1675182600@tapestrycharter.org
SUMMARY:Tapestry Choir
DESCRIPTION:Tapestry Choir\n–  Practice Tuesdays\, 3:30 – 4:30 p.m.\n–  Please contact Ms. Jackson cydney.jackson@tapestrycharter.org for more information.
URL:https://tapestrycharter.org/event/tapestry-choir-2/2023-01-31/
CATEGORIES:Clubs
END:VEVENT
BEGIN:VEVENT
DTSTART;TZID=America/New_York:20230130T180000
DTEND;TZID=America/New_York:20230130T193000
DTSTAMP:20260424T103009
CREATED:20221003T010855Z
LAST-MODIFIED:20221003T011309Z
UID:10006170-1675101600-1675107000@tapestrycharter.org
SUMMARY:PTO / General Membership Meeting
DESCRIPTION:Tuesday\, August 30\, 2022 6:00pm\nThursday\, October 20\, 2022 6:00pm\nThursday\, December 8\, 2022 6:00pm\nThursday\, January 12\, 2023 6:00pm\nThursday\, March 23\, 2023 6:00pm\nThursday\, May 4\, 2023 6:00pm
URL:https://tapestrycharter.org/event/general-membership-pto-meeting/2023-01-30/
CATEGORIES:PTO
END:VEVENT
BEGIN:VEVENT
DTSTART;TZID=America/New_York:20230130T080000
DTEND;TZID=America/New_York:20230130T170000
DTSTAMP:20260424T103009
CREATED:20221119T013916Z
LAST-MODIFIED:20221119T013916Z
UID:10005936-1675065600-1675098000@tapestrycharter.org
SUMMARY:Gay-Straight Alliance (GSA) Meeting
DESCRIPTION:Gay-Straight Alliance (GSA) Meeting \nThe Gay-Straight Alliance (GSA) Meeting is 3:30-4:00 p.m in Mr. Van Kirk’s room. Additionally\, regular meetings will be held every Monday at 3:30-4:00 in Mr. Van Kirk’s room. For more information please contact Ms. Williams
URL:https://tapestrycharter.org/event/gay-straight-alliance-gsa-meeting-7/2023-01-30/
CATEGORIES:Clubs
END:VEVENT
BEGIN:VEVENT
DTSTART;TZID=America/New_York:20230129T180000
DTEND;TZID=America/New_York:20230129T193000
DTSTAMP:20260424T103009
CREATED:20221003T010855Z
LAST-MODIFIED:20221003T011309Z
UID:10006169-1675015200-1675020600@tapestrycharter.org
SUMMARY:PTO / General Membership Meeting
DESCRIPTION:Tuesday\, August 30\, 2022 6:00pm\nThursday\, October 20\, 2022 6:00pm\nThursday\, December 8\, 2022 6:00pm\nThursday\, January 12\, 2023 6:00pm\nThursday\, March 23\, 2023 6:00pm\nThursday\, May 4\, 2023 6:00pm
URL:https://tapestrycharter.org/event/general-membership-pto-meeting/2023-01-29/
CATEGORIES:PTO
END:VEVENT
BEGIN:VEVENT
DTSTART;TZID=America/New_York:20230128T180000
DTEND;TZID=America/New_York:20230128T193000
DTSTAMP:20260424T103009
CREATED:20221003T010855Z
LAST-MODIFIED:20221003T011309Z
UID:10006168-1674928800-1674934200@tapestrycharter.org
SUMMARY:PTO / General Membership Meeting
DESCRIPTION:Tuesday\, August 30\, 2022 6:00pm\nThursday\, October 20\, 2022 6:00pm\nThursday\, December 8\, 2022 6:00pm\nThursday\, January 12\, 2023 6:00pm\nThursday\, March 23\, 2023 6:00pm\nThursday\, May 4\, 2023 6:00pm
URL:https://tapestrycharter.org/event/general-membership-pto-meeting/2023-01-28/
CATEGORIES:PTO
END:VEVENT
BEGIN:VEVENT
DTSTART;TZID=America/New_York:20230127T180000
DTEND;TZID=America/New_York:20230127T193000
DTSTAMP:20260424T103009
CREATED:20221003T010855Z
LAST-MODIFIED:20221003T011309Z
UID:10006167-1674842400-1674847800@tapestrycharter.org
SUMMARY:PTO / General Membership Meeting
DESCRIPTION:Tuesday\, August 30\, 2022 6:00pm\nThursday\, October 20\, 2022 6:00pm\nThursday\, December 8\, 2022 6:00pm\nThursday\, January 12\, 2023 6:00pm\nThursday\, March 23\, 2023 6:00pm\nThursday\, May 4\, 2023 6:00pm
URL:https://tapestrycharter.org/event/general-membership-pto-meeting/2023-01-27/
CATEGORIES:PTO
END:VEVENT
END:VCALENDAR