BEGIN:VCALENDAR
VERSION:2.0
PRODID:-//Tapestry Public Charter School - ECPv6.15.20//NONSGML v1.0//EN
CALSCALE:GREGORIAN
METHOD:PUBLISH
X-WR-CALNAME:Tapestry Public Charter School
X-ORIGINAL-URL:https://tapestrycharter.org
X-WR-CALDESC:Events for Tapestry Public Charter School
REFRESH-INTERVAL;VALUE=DURATION:PT1H
X-Robots-Tag:noindex
X-PUBLISHED-TTL:PT1H
BEGIN:VTIMEZONE
TZID:America/New_York
BEGIN:DAYLIGHT
TZOFFSETFROM:-0500
TZOFFSETTO:-0400
TZNAME:EDT
DTSTART:20210314T070000
END:DAYLIGHT
BEGIN:STANDARD
TZOFFSETFROM:-0400
TZOFFSETTO:-0500
TZNAME:EST
DTSTART:20211107T060000
END:STANDARD
BEGIN:DAYLIGHT
TZOFFSETFROM:-0500
TZOFFSETTO:-0400
TZNAME:EDT
DTSTART:20220313T070000
END:DAYLIGHT
BEGIN:STANDARD
TZOFFSETFROM:-0400
TZOFFSETTO:-0500
TZNAME:EST
DTSTART:20221106T060000
END:STANDARD
BEGIN:DAYLIGHT
TZOFFSETFROM:-0500
TZOFFSETTO:-0400
TZNAME:EDT
DTSTART:20230312T070000
END:DAYLIGHT
BEGIN:STANDARD
TZOFFSETFROM:-0400
TZOFFSETTO:-0500
TZNAME:EST
DTSTART:20231105T060000
END:STANDARD
END:VTIMEZONE
BEGIN:VEVENT
DTSTART;TZID=America/New_York:20221012T160000
DTEND;TZID=America/New_York:20221012T190000
DTSTAMP:20260425T184534
CREATED:20221003T005844Z
LAST-MODIFIED:20221003T005844Z
UID:10006061-1665590400-1665601200@tapestrycharter.org
SUMMARY:Cross Country Championship Middle/High Schools
DESCRIPTION:AAC XC Championship meet \nMS-4:00pm \nHS- 4:30pm \nMill springs Academy- Alpharetta
URL:https://tapestrycharter.org/event/cross-country-championship-middle-high-schools/
CATEGORIES:Athletics
END:VEVENT
BEGIN:VEVENT
DTSTART;TZID=America/New_York:20221012T150000
DTEND;TZID=America/New_York:20221012T170000
DTSTAMP:20260425T184534
CREATED:20221003T005730Z
LAST-MODIFIED:20221003T005730Z
UID:10006060-1665586800-1665594000@tapestrycharter.org
SUMMARY:Soccer / Middle School Semi-Finals
DESCRIPTION:APAC Semi-Finals at Groveway Park\, Roswell\, GA
URL:https://tapestrycharter.org/event/soccer-middle-school-semi-finals/
CATEGORIES:Athletics
END:VEVENT
BEGIN:VEVENT
DTSTART;VALUE=DATE:20221011
DTEND;VALUE=DATE:20221012
DTSTAMP:20260425T184534
CREATED:20221003T013651Z
LAST-MODIFIED:20221003T013651Z
UID:10006194-1665446400-1665532799@tapestrycharter.org
SUMMARY:Blind Americans Equality Day
DESCRIPTION:
URL:https://tapestrycharter.org/event/blind-americans-equality-day/
CATEGORIES:Diversity & Inclusion Calendar
END:VEVENT
BEGIN:VEVENT
DTSTART;VALUE=DATE:20221011
DTEND;VALUE=DATE:20221012
DTSTAMP:20260425T184534
CREATED:20221003T013611Z
LAST-MODIFIED:20221003T013611Z
UID:10006193-1665446400-1665532799@tapestrycharter.org
SUMMARY:International Day of the Girl Child\, People
DESCRIPTION:
URL:https://tapestrycharter.org/event/international-day-of-the-girl-child-people/
CATEGORIES:Diversity & Inclusion Calendar
END:VEVENT
BEGIN:VEVENT
DTSTART;VALUE=DATE:20221010
DTEND;VALUE=DATE:20221011
DTSTAMP:20260425T184534
CREATED:20221003T013346Z
LAST-MODIFIED:20221003T013435Z
UID:10004749-1665360000-1665446399@tapestrycharter.org
SUMMARY:Awareness Day: Mental Health\, People w/ Disabilities\, National Coming Out Day\, LGBTQ+
DESCRIPTION:
URL:https://tapestrycharter.org/event/awareness-day-mental-health-people-w-disabilities-national-coming-out-day-lgbtq/
CATEGORIES:Diversity & Inclusion Calendar
END:VEVENT
BEGIN:VEVENT
DTSTART;VALUE=DATE:20221007
DTEND;VALUE=DATE:20221011
DTSTAMP:20260425T184534
CREATED:20221002T233306Z
LAST-MODIFIED:20221002T233306Z
UID:10004722-1665100800-1665446399@tapestrycharter.org
SUMMARY:School Closed / Fall Break
DESCRIPTION:
URL:https://tapestrycharter.org/event/school-closed-fall-break/
CATEGORIES:School Closed
END:VEVENT
BEGIN:VEVENT
DTSTART;TZID=America/New_York:20221006T161500
DTEND;TZID=America/New_York:20221006T170000
DTSTAMP:20260425T184534
CREATED:20221003T005537Z
LAST-MODIFIED:20221003T005537Z
UID:10006059-1665072900-1665075600@tapestrycharter.org
SUMMARY:Vollyball / Howard School
DESCRIPTION:Howard School at Tapestry
URL:https://tapestrycharter.org/event/vollyball-howard-school/
CATEGORIES:Athletics
END:VEVENT
BEGIN:VEVENT
DTSTART;TZID=America/New_York:20221005T163000
DTEND;TZID=America/New_York:20221005T170000
DTSTAMP:20260425T184534
CREATED:20221003T005355Z
LAST-MODIFIED:20221003T005355Z
UID:10006058-1664987400-1664989200@tapestrycharter.org
SUMMARY:Cross Country / Middle School
DESCRIPTION:Marist MS XC Meet at Marist School / Dunwoody\, GA
URL:https://tapestrycharter.org/event/cross-country-middle-school/
CATEGORIES:Athletics
END:VEVENT
BEGIN:VEVENT
DTSTART;TZID=America/New_York:20221004T163000
DTEND;TZID=America/New_York:20221004T183000
DTSTAMP:20260425T184534
CREATED:20221003T003925Z
LAST-MODIFIED:20221003T003925Z
UID:10006056-1664901000-1664908200@tapestrycharter.org
SUMMARY:Volleyball / Stonehaven
DESCRIPTION:Stonehaven @ Tapestry
URL:https://tapestrycharter.org/event/volleyball-stonehaven/
CATEGORIES:Athletics
END:VEVENT
BEGIN:VEVENT
DTSTART;TZID=America/New_York:20221004T150000
DTEND;TZID=America/New_York:20221004T170000
DTSTAMP:20260425T184534
CREATED:20221003T004047Z
LAST-MODIFIED:20221003T004047Z
UID:10006057-1664895600-1664902800@tapestrycharter.org
SUMMARY:Soccer / Middle School
DESCRIPTION:Mill Springs Academy at Honeysuckle Park
URL:https://tapestrycharter.org/event/soccer-middle-school-2/
CATEGORIES:Athletics
END:VEVENT
BEGIN:VEVENT
DTSTART;TZID=America/New_York:20221003T183000
DTEND;TZID=America/New_York:20221003T203000
DTSTAMP:20260425T184534
CREATED:20221003T003607Z
LAST-MODIFIED:20221003T003607Z
UID:10006055-1664821800-1664829000@tapestrycharter.org
SUMMARY:Volleyball / Atlanta Classical School
DESCRIPTION:Atlanta Classical School / Atlanta\, GA
URL:https://tapestrycharter.org/event/volleyball-atlanta-classical-school/
CATEGORIES:Athletics
END:VEVENT
BEGIN:VEVENT
DTSTART;TZID=America/New_York:20221003T143000
DTEND;TZID=America/New_York:20221003T163000
DTSTAMP:20260425T184534
CREATED:20221003T003317Z
LAST-MODIFIED:20221003T003430Z
UID:10006054-1664807400-1664814600@tapestrycharter.org
SUMMARY:Soccer / High School
DESCRIPTION:Howard School / Honeysuckle Park
URL:https://tapestrycharter.org/event/soccer-high-school/
CATEGORIES:Athletics
END:VEVENT
BEGIN:VEVENT
DTSTART;VALUE=DATE:20221001
DTEND;VALUE=DATE:20221002
DTSTAMP:20260425T184534
CREATED:20221003T013137Z
LAST-MODIFIED:20221003T013137Z
UID:10004748-1664582400-1664668799@tapestrycharter.org
SUMMARY:German American Heritage Month
DESCRIPTION:
URL:https://tapestrycharter.org/event/german-american-heritage-month/
CATEGORIES:Diversity & Inclusion Calendar
END:VEVENT
BEGIN:VEVENT
DTSTART;VALUE=DATE:20221001
DTEND;VALUE=DATE:20221002
DTSTAMP:20260425T184534
CREATED:20221003T013100Z
LAST-MODIFIED:20221003T013100Z
UID:10004747-1664582400-1664668799@tapestrycharter.org
SUMMARY:Polish American Heritage Month
DESCRIPTION:
URL:https://tapestrycharter.org/event/polish-american-heritage-month/
CATEGORIES:Diversity & Inclusion Calendar
END:VEVENT
BEGIN:VEVENT
DTSTART;VALUE=DATE:20221001
DTEND;VALUE=DATE:20221002
DTSTAMP:20260425T184534
CREATED:20221003T012716Z
LAST-MODIFIED:20221003T012716Z
UID:10004746-1664582400-1664668799@tapestrycharter.org
SUMMARY:Italian American Heritage Month
DESCRIPTION:
URL:https://tapestrycharter.org/event/italian-american-heritage-month/
CATEGORIES:Diversity & Inclusion Calendar
END:VEVENT
BEGIN:VEVENT
DTSTART;VALUE=DATE:20221001
DTEND;VALUE=DATE:20221002
DTSTAMP:20260425T184534
CREATED:20221003T012632Z
LAST-MODIFIED:20221003T013001Z
UID:10004744-1664582400-1664668799@tapestrycharter.org
SUMMARY:Brest Cancer Awareness Month
DESCRIPTION:
URL:https://tapestrycharter.org/event/brest-cancer-awareness-month/
CATEGORIES:Diversity & Inclusion Calendar
END:VEVENT
BEGIN:VEVENT
DTSTART;VALUE=DATE:20221001
DTEND;VALUE=DATE:20221002
DTSTAMP:20260425T184534
CREATED:20221003T012311Z
LAST-MODIFIED:20221003T012513Z
UID:10004742-1664582400-1664668799@tapestrycharter.org
SUMMARY:Global Diversity Awareness Month
DESCRIPTION:
URL:https://tapestrycharter.org/event/global-diversity-awareness-month/
CATEGORIES:Diversity & Inclusion Calendar
END:VEVENT
BEGIN:VEVENT
DTSTART;TZID=America/New_York:20220520T083000
DTEND;TZID=America/New_York:20220520T120000
DTSTAMP:20260425T184534
CREATED:20210624T164324Z
LAST-MODIFIED:20210624T164324Z
UID:10006026-1653035400-1653048000@tapestrycharter.org
SUMMARY:Last Day of School
DESCRIPTION:Early Release
URL:https://tapestrycharter.org/event/last-day-of-school-4/
END:VEVENT
BEGIN:VEVENT
DTSTART;TZID=America/New_York:20220511T083000
DTEND;TZID=America/New_York:20220511T153000
DTSTAMP:20260425T184534
CREATED:20210924T144857Z
LAST-MODIFIED:20210924T144857Z
UID:10004704-1652257800-1652283000@tapestrycharter.org
SUMMARY:Virtual Day
DESCRIPTION:
URL:https://tapestrycharter.org/event/virtual-day-24/
END:VEVENT
BEGIN:VEVENT
DTSTART;TZID=America/New_York:20220430T190000
DTEND;TZID=America/New_York:20220724T230000
DTSTAMP:20260425T184534
CREATED:20220204T173349Z
LAST-MODIFIED:20220207T165116Z
UID:10004714-1651345200-1658703600@tapestrycharter.org
SUMMARY:Spring Auction BASH
DESCRIPTION:Join us for an evening of food\, fun\, and fundraising all to benefit Tapestry. More details to follow!
URL:https://tapestrycharter.org/event/spring-auction-bash-2/
END:VEVENT
BEGIN:VEVENT
DTSTART;TZID=America/New_York:20220427T083000
DTEND;TZID=America/New_York:20220427T153000
DTSTAMP:20260425T184534
CREATED:20210624T164525Z
LAST-MODIFIED:20210624T164525Z
UID:10006027-1651048200-1651073400@tapestrycharter.org
SUMMARY:Virtual Day
DESCRIPTION:
URL:https://tapestrycharter.org/event/virtual-day-17/
END:VEVENT
BEGIN:VEVENT
DTSTART;VALUE=DATE:20220404
DTEND;VALUE=DATE:20220409
DTSTAMP:20260425T184534
CREATED:20210624T164240Z
LAST-MODIFIED:20210624T164240Z
UID:10006025-1649030400-1649462399@tapestrycharter.org
SUMMARY:Spring Break
DESCRIPTION:
URL:https://tapestrycharter.org/event/spring-break-4/
END:VEVENT
BEGIN:VEVENT
DTSTART;TZID=America/New_York:20220330T083000
DTEND;TZID=America/New_York:20220330T153000
DTSTAMP:20260425T184534
CREATED:20210624T164005Z
LAST-MODIFIED:20210624T164005Z
UID:10006024-1648629000-1648654200@tapestrycharter.org
SUMMARY:Virtual Day
DESCRIPTION:
URL:https://tapestrycharter.org/event/virtual-day-16/
END:VEVENT
BEGIN:VEVENT
DTSTART;TZID=America/New_York:20220316T083000
DTEND;TZID=America/New_York:20220316T153000
DTSTAMP:20260425T184534
CREATED:20210924T143029Z
LAST-MODIFIED:20210924T143029Z
UID:10006037-1647419400-1647444600@tapestrycharter.org
SUMMARY:Virtual Day
DESCRIPTION:
URL:https://tapestrycharter.org/event/virtual-day-23/
END:VEVENT
BEGIN:VEVENT
DTSTART;TZID=America/New_York:20220311T083000
DTEND;TZID=America/New_York:20220311T153000
DTSTAMP:20260425T184534
CREATED:20210624T164645Z
LAST-MODIFIED:20210624T164645Z
UID:10006028-1646987400-1647012600@tapestrycharter.org
SUMMARY:Teacher Workday
DESCRIPTION:
URL:https://tapestrycharter.org/event/teacher-workday-5/
END:VEVENT
BEGIN:VEVENT
DTSTART;TZID=America/New_York:20220223T083000
DTEND;TZID=America/New_York:20220223T153000
DTSTAMP:20260425T184534
CREATED:20210624T154353Z
LAST-MODIFIED:20210624T154353Z
UID:10006023-1645605000-1645630200@tapestrycharter.org
SUMMARY:Virtual Day
DESCRIPTION:
URL:https://tapestrycharter.org/event/virtual-day-15/
END:VEVENT
BEGIN:VEVENT
DTSTART;TZID=America/New_York:20220222T083000
DTEND;TZID=America/New_York:20220222T153000
DTSTAMP:20260425T184534
CREATED:20210924T142927Z
LAST-MODIFIED:20210924T142927Z
UID:10006038-1645518600-1645543800@tapestrycharter.org
SUMMARY:Virtual Day
DESCRIPTION:
URL:https://tapestrycharter.org/event/virtual-day-22/
END:VEVENT
BEGIN:VEVENT
DTSTART;VALUE=DATE:20220221
DTEND;VALUE=DATE:20220222
DTSTAMP:20260425T184534
CREATED:20210624T154013Z
LAST-MODIFIED:20210624T154013Z
UID:10006022-1645401600-1645487999@tapestrycharter.org
SUMMARY:President's Day
DESCRIPTION:
URL:https://tapestrycharter.org/event/presidents-day-3/
END:VEVENT
BEGIN:VEVENT
DTSTART;VALUE=DATE:20220218
DTEND;VALUE=DATE:20220219
DTSTAMP:20260425T184534
CREATED:20210624T142439Z
LAST-MODIFIED:20210624T142439Z
UID:10006021-1645142400-1645228799@tapestrycharter.org
SUMMARY:February Break
DESCRIPTION:
URL:https://tapestrycharter.org/event/february-break-3/
END:VEVENT
BEGIN:VEVENT
DTSTART;TZID=America/New_York:20220214T080000
DTEND;TZID=America/New_York:20220217T160000
DTSTAMP:20260425T184534
CREATED:20220207T165436Z
LAST-MODIFIED:20220207T165436Z
UID:10004716-1644825600-1645113600@tapestrycharter.org
SUMMARY:Founders Week: We Are Tapestry
DESCRIPTION:Help us celebrate Tapestry’s 8th anniversary (Feb\, 20) of its charter approval with activities for students and an opportunity to give in the $8 for 8\, Let’s Make it Great! grade level competition.
URL:https://tapestrycharter.org/event/founders-week-we-are-tapestry/
END:VEVENT
END:VCALENDAR